BEGIN:VCALENDAR
VERSION:2.0
PRODID:-//Aloha Growers - ECPv6.15.20//NONSGML v1.0//EN
CALSCALE:GREGORIAN
METHOD:PUBLISH
X-ORIGINAL-URL:https://alohagrowers.com
X-WR-CALDESC:Events for Aloha Growers
REFRESH-INTERVAL;VALUE=DURATION:PT1H
X-Robots-Tag:noindex
X-PUBLISHED-TTL:PT1H
BEGIN:VTIMEZONE
TZID:Pacific/Honolulu
BEGIN:STANDARD
TZOFFSETFROM:-1000
TZOFFSETTO:-1000
TZNAME:HST
DTSTART:20250101T000000
END:STANDARD
END:VTIMEZONE
BEGIN:VEVENT
DTSTART;TZID=Pacific/Honolulu:20260315T130000
DTEND;TZID=Pacific/Honolulu:20260315T150000
DTSTAMP:20260422T213304
CREATED:20260222T024628Z
LAST-MODIFIED:20260314T212925Z
UID:16348-1773579600-1773586800@alohagrowers.com
SUMMARY:Sundays in the Country with Benny Uyetake + Jay Molina
DESCRIPTION:AG Presents\, Maui Brewing Company\, and Casanova Makawao are excited to welcome Benny Uyetake + Jay Molina to the “Sundays in the Country” Aloha Music Series at Casanovas in Makawao Town on Sunday\, March 15th.\nGet ready for some upcountry backyard jams and hula! Uncle Benny Uyetake and Jay Molina are both Hawaiian treasures who play a wide range of music.\n			\n				\n				\n				\n				\n				\n			\n			\n				\n				\n				\n				\n				\n				\n				\n				\n				\n				\n\nPresented by\n\n\n			\n				\n				\n				\n				\n				\n			\n				\n				\n				\n				\n				\n\nCasanova Makawao\nSunday\, March 15th\n1:00pm-3:00pm\n\n\n			\n				\n				\n				\n				\n				\n\nSHOW DETAILS\nTickets $15+1.30 (processing fee)\nOR $15 at door\nDoors open at 11:30am\nShow starts at 1pm\nTables are first-come\, first-served.\nFood & drinks served\nthroughout the day.\n\n\n			\n				BUY TICKETS\n			\n				\n				\n				\n				\n				Follow Us\n			\n				\n				\n				\n				\n				FollowFollowFollow\n			\n				\n				\n				\n				\n				More Details Below! \n			\n				\n				\n				\n				\n				\n				\n			\n			\n				\n				\n				\n				\n			\n				\n				\n				\n				\n				\n				\n				\n				\n				\n				\n				About Benny Uyetake\nBenny Uyetake has played with some of the world’s finest musicians on Maui and while touring. Over the years\, Benny has shared the stage with some of Hawaiʻi’s greatest trailblazers like Uncle Willie K and Barry Flanagan of HAPA\, as well as the world’s most talented jazz players Les McCann\, Russel Malone\, and Donald Harrison. His versatility comes from his years of musical study in different genres with mentors in classical\, jazz\, Hawaiian\, Blues\, and rock.\nAbout Jay Molina\nJay Molina\, a veteran of the Maui music scene vocalist/bass guitarist\, has performed with local bands such as Asian Blend\, the jazz-fusion group Music Magic\, and The Ali’i’s. Jay is best known for being the bass player for his son Andrew\, a ukulele virtuoso\, traveling the world as a father-son duo. Loving performing with his son\, Jay says\, “It’s very special. I never toured when I was younger\, and I’m able to travel around the world with Andrew and have that special bond. We have so much fun on the road. I have fathers come up and tell me\, ‘it must be so cool to play with your son.’ We just try to be ourselves and share the aloha spirit.”\nAbout Casanova Makawao\nSince 1986\, Casanova Makawao has been at the heart of the Upcountry Maui lifestyle. At the main crossroad of Historic Makawao town\, Casanova was Maui’s first wood-burning oven. Offering fresh salads\, pastas\, seafood\, and pizzas\, in 2017\, OpenTable diners rated Casanova the Best Italian Restaurant in the State of Hawaii. Learn more at CasanovaMaui.com.\n			\n				BUY TICKETS\n			\n			\n				\n				\n				\n				\n			\n				\n				\n				\n				\n				\n				\n				Back to Upcoming
URL:https://alohagrowers.com/event/sitc-benny-jay/
LOCATION:Casanova Makawao\, 1188 Makawao Avenue\, Makawao\, HI\, 96768\, United States
ATTACH;FMTTYPE=image/jpeg:https://alohagrowers.com/wp-content/uploads/2026/02/BennyJaySqr600.jpg
END:VEVENT
BEGIN:VEVENT
DTSTART;TZID=Pacific/Honolulu:20260327T190000
DTEND;TZID=Pacific/Honolulu:20260327T210000
DTSTAMP:20260422T213304
CREATED:20260303T010341Z
LAST-MODIFIED:20260321T165738Z
UID:16492-1774638000-1774645200@alohagrowers.com
SUMMARY:JMoCO - Justin Morris and Company - “Step into the Portal”
DESCRIPTION:AG presents is excited to announce Justin Morris and Company performing “Step into the Portal”. Tickets on Sale for the March 27\, 2026 showing now.\nJMo⚡️Co’s sound is a mix of deliberate tone\, psychedelic culture\, far-out storytelling\, vocal harmony\, and sincere rock-n-roll revival. You can find JMo⚡️Co’s roots deeply influenced by the musical vocabulary of guitar legends such as Warren Haynes\, Tony Iommi\, and Billy Gibbons.\nBand Members:Justin Morris- Vocals\, GuitarSteve Morris – Vocals\, DrumsNatalie Nicole Robles- Vocals\, KeysLopaka Colon Jr – PercussionTimothy Morris – Vocals\, BassMarkus Künzel – Visual Artist\n			\n				BUY TICKETS\n			\n			\n				\n				\n				\n				\n				\n				\n				\n				\n				\n				\n\nPrivate Venue – Haiku\nFRIDAYMarch 27\, 2026\n\n\n			\n				\n				\n				\n				\n				\n			\n				\n				\n				\n				\n				ABOUT THE SHOW\nOur setting will be lush Haiku\, Hawaii for this performance and will combine JMo⚡️Co’s cosmic song writing with visual artist Markus Künzal from Astral Projections and lighting technician Joey Scaglione from Jammin On Maui. Together the sonic delivery\, visual alchemy and light projection create a truly immersive experience for the songs to take life in many forms to those in attendance.\n			\n				\n				\n				\n				\n				\n\nSHOW DETAILS\nTickets are $30 Earlybird/$35 GeneralDoors open at 6:00pmShow starts at 7:00pm\n\n\n			\n				BUY TICKETS\n			\n				\n				\n				\n				\n				More Details Below! \n			\n			\n				\n				\n				\n				\n			\n				\n				\n				\n				\n				\n				\n				\n				\n				\n				\n				ABOUT JUSTIN MORRIS & COMPANY\nJustin Morris & Company\, also known as JMo⚡️Co\, is the sonic manifestation of Maui musician and songwriter\, Justin Morris. Born and raised in the Appalachian Mountains of Southern West Virginia\, Justin Morris is a national touring artist who focuses his energy on original music. He is known for his songwriting\, crafty guitar playing\, and authentic tone. The music of JMo⚡️Co is flowing from Justin’s free-spirited songwriting style and far-reaching perspective. His collaboration with Steve\, Natalie\, Lopaka\, Timothy\, and Markus has brought the songs to fruition in vivid form.\nThe band would like to thank you in advance for joining us in person for our shared journey as we “Step into the Portal”.\n			\n				BUY TICKETS\n			\n				\n				\n				\n				\n				DETAILS ABOUT THE VENUE & TICKETS\nThis 2-hour event will be held at a wonderful outdoor venue with professional sound and lighting located on the North Shore of Maui. The address will be emailed to you after your ticket purchase. Ticket holders will be checked in when entering the venue.\nAttendees will need to bring their ticket and ID to gain entrance to the venue. The venue is outdoors\, and there are some uneven surfaces. Ticket buyers are requested to wear flat-sole shoes. There will be an area for dancing that is covered. There will be some tables and chairs\, but you are welcome to bring a beach chair of your own if you wish. There will NOT be food and beverage served and ticket buyers are welcome to BYOB.\nPlease Arrive between 6:00 p.m. and 6:15 p.m. If you are going to the show with friends\, please try to carpool.\nPlease do not bring excessive items that create waste or trash.\nAll sales final – rain or shine\n			\n				BUY TICKETS\n			\n			\n				\n				\n				\n				\n			\n				\n				\n				\n				\n				\n				\n				Back to Upcoming\n			\n				\n				\n				\n				\n				Follow Us\n			\n				\n				\n				\n				\n				FollowFollowFollow
URL:https://alohagrowers.com/event/jmoco-justin-morris-and-company-step-into-the-portal/
LOCATION:Private Venue\, TBA in ticket email\, Makawao\, HI\, United States
CATEGORIES:AG Presents
ATTACH;FMTTYPE=image/jpeg:https://alohagrowers.com/wp-content/uploads/2026/03/JMoCo_SQR3.27_600.jpg
END:VEVENT
BEGIN:VEVENT
DTSTART;TZID=Pacific/Honolulu:20260328T190000
DTEND;TZID=Pacific/Honolulu:20260328T220000
DTSTAMP:20260422T213304
CREATED:20260228T230150Z
LAST-MODIFIED:20260321T153821Z
UID:16476-1774724400-1774735200@alohagrowers.com
SUMMARY:Rowdy Fest 2026
DESCRIPTION:Rowdy Fest 2026\nAG Presents\, and Rowdy Love bring you ROWDY FEST 2026 at Mulligans on the Blue on Saturday\, March 28th\, and features an amazing lineup of music with the debut of Citrus Mission\, along with Flat Jackson\, and of course Rowdy Love. The Dance floor will be open!\nLove doesn’t always come easy\, and neither does being in a band playing mostly original music. Rowdy Fest is an annual celebration of originality\, reunion\, and love overall through the raucous energy of rock’n roll.\n			\n			\n				\n				\n				\n				\n				\n				\n				\n				\n				\n				\n\nMulligansOn The Blue\nSaturdayMarch 28\, 2026\n40 Early Bird tickets at $20General Admission $26.50Day of/at the door $30\n\n\n			\n				BUY TICKETS\n			\n				\n				\n				\n				\n				Follow Us\n			\n				\n				\n				\n				\n				FollowFollowFollow\n			\n				\n				\n				\n				\n				More Details Below! \n			\n			\n				\n				\n				\n				\n			\n				\n				\n				\n				\n				\n				\n				\n				\n				\n				\n				ABOUT CITRUS MISSION\nCitrus Mission serves up a joy-forward groove with just the right amount of zest. Living halfway between the dance floor and the front porch they bring funky poppy rock with a playful\, slightly nerdy sparkle. From Arkansas to Maui\, Citrus Mission was crafted for the loose-hipped\, big-hearted folks that are prepared to bring their happy feet. Dancy. Fun. Playful. Campfire on a stage to melt your marshmallows. They’re delighted to open Rowdy Fest 2026 and keep the night freshly squeezed.\nABOUT FLAT JACKSON\nFlat Jackson started out as a bluegrass band but then morphed into…something else. No doubt that rootsy quality comes through\, kinda like someone dropped an anvil on Bill Monroe’s foot\, but essentially the range of influences have rendered the band genre-less. They’ve heard folks describe them as Slamgrass\, a term in which they embraced. Their music holds elements of reggae\, folk\, rock (both southern and northern)\, blues\, punk\, funk and just about everything else coagulate into a sound as unique as the island they call home.\nABOUT ROWDY LOVE\nAaron Jernigan and Stina Lynn are wild souls who met on a little farm in Haiku\, Hawai’i\, over a decade ago. On that first meeting\, they wailed away on their guitars\, singing covers that they both knew by Mississippi John Hurt\, Johnny Cash\, John Prine\, and Gillian Welch. Seeing as they both had the same taste in music\, they decided to start singing tunes together at parties and potlucks. A few years later\, they ventured out into another realm of genius and wrote their first song together. Sitting at a kitchen table with a bottle of wine\, whiskey\, strawberries\, and a bowl of cigarettes\, they had their firstborn song and named it Rowdy Love. It was a hit\, and alas\, the Rowdy Love duo was born into this world! Joined by their amazing band\, Jonas\, Paul\, and Clint\, the music will take you on a sonic journey through Americana\, Ska\, Rockabilly\, and with a punk edge\n			\n				BUY TICKETS\n			\n			\n				\n				\n				\n				\n			\n				\n				\n				\n				\n				\n				\n				Back to Upcoming
URL:https://alohagrowers.com/event/rowdyfest2026/
LOCATION:Mulligans On The Blue\, 100 Kaukahi St\, Kihei\, United States
CATEGORIES:AG Presents,AG Presents Mulligans Music Box
ATTACH;FMTTYPE=image/jpeg:https://alohagrowers.com/wp-content/uploads/2026/02/Rowdyfest2026_SQR600.jpg
END:VEVENT
BEGIN:VEVENT
DTSTART;TZID=Pacific/Honolulu:20260329T130000
DTEND;TZID=Pacific/Honolulu:20260329T150000
DTSTAMP:20260422T213304
CREATED:20260222T025605Z
LAST-MODIFIED:20260321T171351Z
UID:16355-1774789200-1774796400@alohagrowers.com
SUMMARY:Sundays in the Country with Bayou Brothers Revival - CCR Tribute
DESCRIPTION:AG Presents\, Maui Brewing Company\, and Casanova Makawao welcome BBR Bayou Brothers Revival – (playing the music of Creedence Clearwater Revival) to the Aloha Music Series\, Sundays in the Country\, at Casanova’s in Makawao Town on Sunday\, March 29th.\nWe are excited to bring you Hawaii’s newest tribute band\, BBR\, “Bayou Brothers Revival\,” paying tribute to one of the greatest songwriting bands\, Creedence Clearwater Revival. Join us for a trip through the Bayou!\nThe band consists of Austin Hutto on guitar and lead vocals\, pulling off Jon Fogerty’s vocals as you’ve never heard! Justin Morris on bass and vocals\, and Steve Morris on drums and vocals. If you’re familiar with the Lonely Hearts Beatles and Beyond\, then you’ll know how good these guys are!\nBust out your flannels\, and let’s get ready to hit the Bayou with some of the greatest rock music ever written. You’ll be singing along from the first song to the last!\n			\n				\n				\n				\n				\n				\n				\n			\n			\n				\n				\n				\n				\n				\n				\n				\n				\n				\n				\n\nPresented by\n\n\n			\n				\n				\n				\n				\n				\n			\n				\n				\n				\n				\n				\n\nCasanova Makawao\nSunday\, March 29th\n1:00pm-3:00pm\n\n\n			\n				\n				\n				\n				\n				\n\nSHOW DETAILS\nTickets $20+1.40 (processing fee)OR $20 at doorDoors open at 11:30amShow starts at 1pmTables are first-come\, first-served.Food & drinks servedthroughout the day.\n\n\n			\n				BUY TICKETS\n			\n				\n				\n				\n				\n				Follow Us\n			\n				\n				\n				\n				\n				FollowFollowFollow\n			\n				\n				\n				\n				\n				More Details Below! \n			\n			\n				\n				\n				\n				\n			\n				\n				\n				\n				\n				\n				\n				\n				\n				\n				\n				About Casanova Makawao\nSince 1986\, Casanova Makawao has been at the heart of the Upcountry Maui lifestyle. At the main crossroad of Historic Makawao town\, Casanova was Maui’s first wood-burning oven. Offering fresh salads\, pastas\, seafood\, and pizzas\, in 2017\, OpenTable diners rated Casanova the Best Italian Restaurant in the State of Hawaii. Learn more at CasanovaMaui.com.\n			\n				BUY TICKETS\n			\n			\n				\n				\n				\n				\n			\n				\n				\n				\n				\n				\n				\n				Back to Upcoming
URL:https://alohagrowers.com/event/sundays-in-the-country-ccr-tribute/
LOCATION:Casanova Makawao\, 1188 Makawao Avenue\, Makawao\, HI\, 96768\, United States
CATEGORIES:Sundays in the Country
ATTACH;FMTTYPE=image/jpeg:https://alohagrowers.com/wp-content/uploads/2026/02/BBRSqr600.jpg
END:VEVENT
END:VCALENDAR