BEGIN:VCALENDAR
VERSION:2.0
PRODID:-//Aloha Growers - ECPv6.15.20//NONSGML v1.0//EN
CALSCALE:GREGORIAN
METHOD:PUBLISH
X-WR-CALNAME:Aloha Growers
X-ORIGINAL-URL:https://alohagrowers.com
X-WR-CALDESC:Events for Aloha Growers
REFRESH-INTERVAL;VALUE=DURATION:PT1H
X-Robots-Tag:noindex
X-PUBLISHED-TTL:PT1H
BEGIN:VTIMEZONE
TZID:Pacific/Honolulu
BEGIN:STANDARD
TZOFFSETFROM:-1000
TZOFFSETTO:-1000
TZNAME:HST
DTSTART:20240101T000000
END:STANDARD
END:VTIMEZONE
BEGIN:VEVENT
DTSTART;VALUE=DATE:20250404
DTEND;VALUE=DATE:20250407
DTSTAMP:20260424T000651
CREATED:20250331T002738Z
LAST-MODIFIED:20250331T180115Z
UID:12978-1743724800-1743983999@alohagrowers.com
SUMMARY:BrownChicken BrownCow - High Country Kauai - Leftover Salmon
DESCRIPTION:Brown Chicken Brown Cow at High Country Kauai featuring Leftover Salmon – April 5 & 6\n\n\nHigh Country Kaua’i: Three Nights of Leftover Salmon on the Garden Isle of Kauai\nApril 4\, 5\, 6\, 2025\nCelebrate 35 years of Leftover Salmon at the third annual High Country Kauai! This unforgettable three-day music event brings the iconic band to the breathtaking Garden Isle of Kaua’i for a truly unforgettable experience.\nJoin us April 2025 at Kauai’s premier live music venue\, The Porter Pavilion located at Anaina Hou Community Park for three nights of performances by Leftover Salmon and a lineup of exceptional special guests. Featured artists include Grammy-nominated mandolinist Sierra Hull\, powerhouse vocalist Lindsay Lou\, Hawaiian blues sensation Tavana\, the high-energy BrownChicken BrownCow StringBand\, The Pinehearts\, and more!\n\n\n			\n			\n				\n				\n				\n				\n				\n				\n				\n				\n				\n				Anaina Hou\, Porter Pavilion\,Kauai\nApril. 4 – 6\, 2025\n			\n				BUY TICKETS\n			\n				\n				\n				\n				\n				Follow Us\n			\n				\n				\n				\n				\n				FollowFollowFollow\n			\n				\n				\n				\n				\n				More Details Below! \n			\n			\n				\n				\n				\n				\n			\n				\n				\n				\n				\n				\n				\n				\n				\n				\n				\n				ABOUT THE EVENT\nHigh Country Kaua’i: Three Nights of Leftover Salmon on the Garden Isle of Kauai\nApril 4\, 5\, 6\, 2025\nCelebrate 35 years of Leftover Salmon at the third annual High Country Kauai! This unforgettable three-day music event brings the iconic band to the breathtaking Garden Isle of Kaua’i for a truly unforgettable experience.\nJoin us April 2025 at Kauai’s premier live music venue\, The Porter Pavilion located at Anaina Hou Community Park for three nights of performances by Leftover Salmon and a lineup of exceptional special guests. Featured artists include Grammy-nominated mandolinist Sierra Hull\, powerhouse vocalist Lindsay Lou\, Hawaiian blues sensation Tavana\, the high-energy BrownChicken BrownCow StringBand\, The Pinehearts\, and more!\n			\n				BUY TICKETS\n			\n			\n				\n				\n				\n				\n			\n				\n				\n				\n				\n				\n				\n				Back to Upcoming
URL:https://alohagrowers.com/event/brownchicken-browncow-high-country-kauai-leftover-salmon/
LOCATION:Anaina Hou\, 5-2723 Kuhio Hwy\, Kilauea\, HI\, United States
CATEGORIES:AG Presents
ATTACH;FMTTYPE=image/png:https://alohagrowers.com/wp-content/uploads/2025/03/Leftover-Salmon-2025-IG-Square-2.png
END:VEVENT
BEGIN:VEVENT
DTSTART;TZID=Pacific/Honolulu:20250420T150000
DTEND;TZID=Pacific/Honolulu:20250420T163000
DTSTAMP:20260424T000652
CREATED:20250410T130454Z
LAST-MODIFIED:20250410T130806Z
UID:13216-1745161200-1745166600@alohagrowers.com
SUMMARY:White Hawaiian Returns to ProArts
DESCRIPTION:Broadway’s Eric Gilliom Returns to ProArts Playhouse with the White Hawaiian!\nAG Presents is thrilled to announce the return of Eric Gilliom’s White Hawaiian at ProArts Playhouse on Sunday\, April 20\, 2025!\nThis is an entertaining autobiographical stage show that covers Eric’s career\, his Maui upbringing as a Caucasian with Hawaiian roots\, and the TV\, film\, and Broadway roles that have given him hilarious stories to share.\n			\n			\n				\n				\n				\n				\n				\n				\n				\n				\n				\n				ProArts Playhouse\nSunday | April 20\, 2025 | 3pm\n			\n				BUY TICKETS\n			\n				\n				\n				\n				\n				Follow Us\n			\n				\n				\n				\n				\n				FollowFollowFollow\n			\n				\n				\n				\n				\n				More Details Below! \n			\n			\n				\n				\n				\n				\n			\n				\n				\n				\n				\n				\n				\n				\n				\n				\n				\n				ABOUT THE SHOW\nThis smart and witty one-man show debuted at the Maui Arts & Cultural Center to rave reviews. Furiously donning outlandish wigs with gaudy costumes\, the story unfolds from his great-grandparents to his grandparents\, then seamlessly into his parents\, and finally into growing up with his six-time Grammy-nominated sister\, Amy Hānaialiʻi Gilliom.\nThe reliving of his career\, highlights and follies\, create a full-circle story that is rich and entertaining.\nABOUT ERIC\nEric is an award-winning musician and entertainer whose multi-faceted talents have taken him from his roots in Hawaii to performing live on the stages of Broadway\, the Grammy Awards\, and the mainstream entertainment through his various concerts and appearances in films and television. He is currently the lead singer of Mick Fleetwood‘s House of Rumors Band and half of the duo Gilliom & Esquire based on the island of Maui. As a native Hawaiian singer-songwriter and musician who has won a prestigious Nā Hōkū Hanohano Award for Best Album with his partner Willie K as the Barefoot Natives.\n			\n				BUY TICKETS\n			\n			\n				\n				\n				\n				\n			\n				\n				\n				\n				\n				\n				\n				Back to Upcoming
URL:https://alohagrowers.com/event/whitehawaiian-april-2025/
LOCATION:ProArts Playhouse\, 1280 South Kihei Road\, Kihei\, HI\, 96753\, United States
CATEGORIES:AG Presents
ATTACH;FMTTYPE=image/jpeg:https://alohagrowers.com/wp-content/uploads/2025/04/White-Hawaiian-ProArts-2025-web.jpg
END:VEVENT
BEGIN:VEVENT
DTSTART;TZID=Pacific/Honolulu:20250426T120000
DTEND;TZID=Pacific/Honolulu:20250426T190000
DTSTAMP:20260424T000652
CREATED:20250401T115737Z
LAST-MODIFIED:20250408T135208Z
UID:12989-1745668800-1745694000@alohagrowers.com
SUMMARY:JMoCo at Color Festival Hawai'i
DESCRIPTION:JMoCo at 6th Anniversary of Color Festival Hawai’i\nAG Presents is thrilled to announce that Justin Morris & Company will be performing live at the 6th Anniversary of the Color Festival Hawai’i on April 26\, 2025!\n			\n			\n				\n				\n				\n				\n				\n				\n				\n				\n				\n				Maui Arts & Cultural Center\nSaturdayApril 26\, 2025\n			\n				BUY TICKETS\n			\n				\n				\n				\n				\n				Follow Us\n			\n				\n				\n				\n				\n				FollowFollowFollow\n			\n				\n				\n				\n				\n				More Details Below! \n			\n			\n				\n				\n				\n				\n			\n				\n				\n				\n				\n				\n				\n				\n				\n				\n				\n				ABOUT THE EVENT\nColor Festival Hawai’i is a celebration of life and the vibrancy of community\, inclusive of ages and abilities. Play\, create\, and pay tribute to the rainbow that is Maui and Hawaiʻi\, shining with the diverse colors of our connected humanity.\nAs a part of the “Festivals of the World” event series\, the Color Festival Hawaii is an annual “friend-raiser” music festival with national and local talent including live music from DJ Sweetbeets\, Anthony Pfluke & Lopaka Colon\, BrownChicken BrownCow StringBand\, Rowdy Love Duo\, Justin Morris & Co\, Dr Nat & Rio Ritmo\, and Po and the 4Fathers!\nPC: Sean Michael Hower\n  \n			\n				BUY TICKETS\n			\n			\n				\n				\n				\n				\n			\n				\n				\n				\n				\n				\n				\n				Back to Upcoming
URL:https://alohagrowers.com/event/jmoco-colorfest-2025/
LOCATION:Maui Arts & Cultural Center\, One Cameron Way\, Kahului\, HI\, 96732\, United States
CATEGORIES:AG Presents
ATTACH;FMTTYPE=image/jpeg:https://alohagrowers.com/wp-content/uploads/2025/03/JMoCO_Tour_COLORFEST_SQR600.jpg
END:VEVENT
BEGIN:VEVENT
DTSTART;TZID=Pacific/Honolulu:20250426T120000
DTEND;TZID=Pacific/Honolulu:20250426T190000
DTSTAMP:20260424T000652
CREATED:20250408T135013Z
LAST-MODIFIED:20250408T135021Z
UID:13176-1745668800-1745694000@alohagrowers.com
SUMMARY:Pō & the 4Fathers at Color Festival Hawai'i
DESCRIPTION:Pō & the 4Fathers Live at Color Festival Hawai’i 2025\nAG Presents is excited to announce Pō & the 4Fathers will perform at Colorfest Hawai’i on Friday\, April 26\, 2025 at the Maui Arts & Cultural Center!\nColor Festival Hawai’i is a celebration of life and the vibrancy of community\, inclusive of ages and abilities. Play\, create\, and pay tribute to the rainbow that is Maui and Hawaiʻi\, shining with the diverse colors of our connected humanity.\nAs a part of the “Festivals of the World” event series\, the Color Festival Hawaii is an annual “friend-raiser” music festival with national and local talent including live music from DJ Sweetbeets\, Anthony Pfluke & Lopaka Colon\, BrownChicken BrownCow StringBand\, Rowdy Love Duo\, Justin Morris & Co\, Dr Nat & Rio Ritmo\, and Po and the 4Fathers!\n			\n			\n				\n				\n				\n				\n				\n				\n				\n				\n				\n				Maui Arts & Cultural Center\nSaturday\, April 26\, 2025\n			\n				BUY TICKETS\n			\n				\n				\n				\n				\n				Follow Us\n			\n				\n				\n				\n				\n				FollowFollowFollow\n			\n				\n				\n				\n				\n				More Details Below! \n			\n			\n				\n				\n				\n				\n			\n				\n				\n				\n				\n				\n				\n				\n				\n				\n				\n				ABOUT THE BAND\nPō & the 4Fathers is deeply rooted in Hawaiian language\, culture\, Polynesian rhythms\, and indigenous sounds\, as well as the music that has moved generations like reggae\, soul\, blues\, funk\, and hip hop. They express the joy\, hardship\, pain and triumph they’ve learned from shared experiences beginning in the time of Pō flowing into the present\, and forward into the future.\nPō & the 4Fathers is an 8-piece band with members Kiliona Young (Vocals\, Guitar)\, Kawai Hoe (Vocals\, Ukulele\, Guitar)\, Kalei Young (Drums\, Vocals)\, Roman Corpuz (Lead Guitar\, Vocals)\, Augie B “Lopaka” Colon Jr. (Master Percussionist)\, Kalei Yamanoha (Trombone\, Steel Guitar\, Accordion)\, Jordan Lopez (Trumpet\, Keyboard\, Vocals) and Adam Zopel (Bass\, Fiddle).\n			\n				BUY TICKETS\n			\n			\n				\n				\n				\n				\n			\n				\n				\n				\n				\n				\n				\n				Back to Upcoming
URL:https://alohagrowers.com/event/po4fathers-colorfest2025/
LOCATION:Maui Arts & Cultural Center\, One Cameron Way\, Kahului\, HI\, 96732\, United States
CATEGORIES:AG Presents
ATTACH;FMTTYPE=image/jpeg:https://alohagrowers.com/wp-content/uploads/2025/04/Po4F-COLOREFESTSquare4.26_600.jpg
END:VEVENT
BEGIN:VEVENT
DTSTART;TZID=Pacific/Honolulu:20250430T183000
DTEND;TZID=Pacific/Honolulu:20250430T210000
DTSTAMP:20260424T000652
CREATED:20250411T170903Z
LAST-MODIFIED:20250411T170908Z
UID:13228-1746037800-1746046800@alohagrowers.com
SUMMARY:Uncle Benny Uyetake’s Kanikapila
DESCRIPTION:Uncle Benny Uyetake’s Kanikapila with Mitch Kepa and Hula by Wailani Mulvihill\nUncle Benny Uyetake’s Kanikapila on Wednesday\, April 30th at Mulligans On The Blue with special guest Mitch Kepa and Hula by Wailani Mulvihill. Get ready for a Kanikapila jam session like no other!\nDoors/Check-in starts at 5:00pm. Show Starts at 6:30pm. Food and drinks are available for purchase throughout the evening. Please arrive early and enjoy the views\, have a drink\, and have some food! If you arrive during showtime we will get you to your seat in between songs.\n			\n			\n				\n				\n				\n				\n				\n				\n				\n				\n				\n				MulligansOn The Blue\n			\n				\n				\n				\n				\n				Wed | April 30\, 2025\n			\n				Info & Tickets\n			\n				\n				\n				\n				\n				Follow Us\n			\n				\n				\n				\n				\n				FollowFollowFollow\n			\n				\n				\n				\n				\n				More Details Below! \n			\n			\n				\n				\n				\n				\n			\n				\n				\n				\n				\n				\n				\n				\n				\n				\n				\n				ABOUT THE SHOW\nKanikapila\, gathering together to play music\, has been a well-loved traditional Hawaiian pastime. It’s these types of impromptu jam sessions that create an exceptionally rare evening on the islands. Maui’s musical treasure\, Uncle Benny Uyetake\, re-imagines Kanikapila evenings in Wailea with storytelling\, and world-class music. Through the Aloha Music Series\, Uncle Benny will introduce you to the new sounds from the islands and transport you to old Hawaiʻi as he hosts upcoming artists and Hawaiʻi’s legends. You never know who is gonna show up and kanikapila!\nBENNY UYETAKEBenny has played with some of the world’s finest musicians on Maui and while touring. Over the years Benny has shared the stage with some of Hawaiʻi’s greatest trailblazers like Uncle Willie K and Barry Flanagan of HAPA\, as well as the world’s most talented jazz players Les McCann\, Russel Malone\, and Donald Harrison. His versatility comes from his years of musical study in different genres with mentors in classical\, jazz\, Hawaiian\, Blues\, and rock.\nMITCH KEPABorn and raised in Hawaii\, Kepa knew music was going to be a big part of his life when he saw a TV commercial featuring the late Gabby Pahinui playing beautiful Hawaiian slack key guitar. “The rest was history for me. Hawaiian music started my journey as an artist\,” he said. Kepa has been performing for more than 30 years\, concentrating on vocals first and guitar second.\nMitch Kekoa Kepa\, mixes R&B traditions with island vibes\, offering a laid-back and funky groove that appeals to all generations. Considered one of the few remaining original Hawaiian Renaissance artists\, Kepa found his musical style through a range of influences including local Hawaiian hit artists Gabby Pahinini and Cecilio & Kapono\, Motown greats like Marvin Gaye\, the Temptations\, and Steve Wonder\, and the soulful jazz and blues genius of George Benson. “Music is my first love\,” says Kepa. “What it means to me? It comes before everything. It’s food for the soul.” From a young age\, Kepa had a keen ear for music which sprung out of his Hawaiian family beginnings. The second of nine children\, Kepa grew up listening to the ukulele and Hawaiian folk songs of his mother\, Nani “Barbara” Kepa and extended family which played music during regular family gatherings. Nani inspired a new generation of musicians who included Kepa’s five brothers—John\, Milton\, Ama\, Alika\, and Tony—all of whom grew up playing music together.\nUpon leaving home to attend college at the University of Hawaii Manoa\, Kepa quickly developed his distinct sound and found himself playing among the likes of Joe Cano\, an internationally recognized guitar virtuoso who played with George Benson\, and Hawaiian legends Henry Kapono\, John Cruz\, and other iconic R&B and jazz musicians. For twenty-plus years\, Kepa has captured the hearts of local Hawaiian culture and the appreciation of crowds across Hawaii. He played with Iao Stream Band for close to a decade\, and today performs solo and duo contemporary arrangements with local music greats\, including jazz saxophonist Rock Hendricks.\nBenny Photo Credit: Bruce Forrester \n			\n				Info & Tickets\n			\n			\n				\n				\n				\n				\n			\n				\n				\n				\n				\n				\n				\n				Back to Upcoming
URL:https://alohagrowers.com/event/benny-kanikapila-april-2025/
LOCATION:Mulligans On The Blue\, 100 Kaukahi St\, Kihei\, United States
CATEGORIES:Aloha Music Series
ATTACH;FMTTYPE=image/jpeg:https://alohagrowers.com/wp-content/uploads/2025/04/AMS-Benny-April-30-2025-sqr.jpg
END:VEVENT
END:VCALENDAR