BEGIN:VCALENDAR
VERSION:2.0
PRODID:-//Aloha Growers - ECPv6.15.20//NONSGML v1.0//EN
CALSCALE:GREGORIAN
METHOD:PUBLISH
X-ORIGINAL-URL:https://alohagrowers.com
X-WR-CALDESC:Events for Aloha Growers
REFRESH-INTERVAL;VALUE=DURATION:PT1H
X-Robots-Tag:noindex
X-PUBLISHED-TTL:PT1H
BEGIN:VTIMEZONE
TZID:Pacific/Honolulu
BEGIN:STANDARD
TZOFFSETFROM:-1000
TZOFFSETTO:-1000
TZNAME:HST
DTSTART:20250101T000000
END:STANDARD
END:VTIMEZONE
BEGIN:VEVENT
DTSTART;TZID=Pacific/Honolulu:20260425T190000
DTEND;TZID=Pacific/Honolulu:20260425T210000
DTSTAMP:20260422T231405
CREATED:20260331T184312Z
LAST-MODIFIED:20260401T052051Z
UID:16795-1777143600-1777150800@alohagrowers.com
SUMMARY:Lopaka Colonʻs Sophisticated Savages
DESCRIPTION:Aloha Growers and Blue Note Hawaii are excited to present Lopaka Colon’s Sophisticated Savages.\nIntroducing Molokaʻi’s Augie B. “Lopaka” Colón Jr.\, one of the top Latin-Afro-Cuban-Hawaiian percussionists in the World. A multi Na Hōkū Hanohano Award winner (Hawaiʻi’s version of the Grammy®)\, Lopaka is an energy explosion on and off the stage\, adding a unique ingredient to every band\, show\, or musical project he is part of. His vibrant percussive sounds and exotic animal calls will now come center stage for his latest project “Lopaka Colón’s Sophisticated Savages.”\nThe Sophisticated Savages will pay homage to Lopaka’s deep musical lineage\, as well as to the legacy of Lopaka’s Father\, the “original” Sophisticated Savage and World famous percussionist\, Augie B. Colón Sr. Join Lopaka as he takes you on a rhythmic excursion across exotic Polynesia.\n			\n			\n				\n				\n				\n				\n				\n				\n				\n				\n				\n				\n\nBlue Note Hawaii\nSaturday\, April 25th\, 2026\nDoors Open at 5pmShow Starts at 7pmTickets: $20-35\nSeating is Communal &First-Come\, First-Served$20 Food/Beverage Min. Per PersonFull Bar & Full Dinner Menu Available\n\n\n			\n				BUY TICKETS\n			\n				\n				\n				\n				\n				Follow Us\n			\n				\n				\n				\n				\n				FollowFollowFollow\n			\n				\n				\n				\n				\n				More Details Below! \n			\n			\n				\n				\n				\n				\n			\n				\n				\n				\n				\n				\n				\n				\n				\n				\n				\n				More About Lopaka Colon’s Sophisticated Savages​\nIntroducing Molokaʻi’s Augie B. “Lopaka” Colón Jr.\, one of the top Latin-Afro-Cuban-Hawaiian percussionists and bird caller in the World. A multi Na Hōkū Hanohano Award winner (Hawaii’s version of the Grammy®)\, Lopaka is an energy explosion on and off the stage\, adding a unique ingredient to every band\, show\, or musical project he is part of. His vibrant percussive sounds and exotic animal calls will now come center stage for his latest project “Lopaka Colón’s Sophisticated Savages.”\nThe Sophisticated Savages will pay homage to Lopaka’s deep musical lineage\, as well as to the legacy of Lopaka’s Father\, the “original” Sophisticated Savage and World famous percussionist\, Augie B. Colón Sr. (known as the “Voice of Exotica” with his famous bird calls\, as well as the “The Grandfather of Hawaii Percussion.” Considered one of the best percussionists world wide\, who played with some of the best like Carlos Santana and Tito Puente).\nExpect a musical journey through generations of Lopaka’s music\, and influences with; Pure Heart\, Colón\, the Kaʻau Crater Boys\, Willie K’s Barefoot Natives\, while weaving together Hawaiian classics\, Latin percussion jams and the Polynesian sounds of exotica music (Martin Denny\, and Arthur Lyman)\, that Lopaka’s Father helped make famous.\nLopaka has been (and is) an integral component to so many bands and musicians in Hawaiʻi such as; Pure Heart (with Jake Shimabukuro and Jon Yamasato)\, Colón (with Jake Shimabukuro and Guy Cruz)\, Henry Kapono Band\, Don Tiki\, The Waitiki 7\, Makana Trio\, Pō & the 4Fathers\, Willie K’s Barefoot Natives\, and Mick Fleetwood’s Island Rumours Band to name a few!!\nJoining Lopaka is a sophisticated group of Hawaii’s finest savages featuring vocalist Starr Kahaliki\, Kalaʻe Camarillo (ukulele\, guitar\, and vocals)\, Abe lagrimas Jr. (vibes\, ukulele)\, Rand Anderson (pedal steel\, bass\, and guitar)\, Garish Yarma (violin\, and bass)\, Stu Sherman (drums)\, and Kit Ebersbach (keys). We will also have some very special guests joining us as well!\nJoin Augie Colón Jr.\, or better known as “Lopaka”\, as he and his “Sophisticated Savages” take you on a rhythmic excursion of exotic Polynesia.\n			\n				BUY TICKETS\n			\n			\n				\n				\n				\n				\n			\n				\n				\n				\n				\n				\n				\n				Back to Upcoming
URL:https://alohagrowers.com/event/lopaka-colon%ca%bbs-sophisticated-savages/
LOCATION:Blue Note Hawaii\, 2335 Kalakaua Ave.\, Honolulu\, HI\, United States
CATEGORIES:AG Presents
ATTACH;FMTTYPE=image/jpeg:https://alohagrowers.com/wp-content/uploads/2026/03/SS_SquareBlueNote600.jpg
END:VEVENT
BEGIN:VEVENT
DTSTART;TZID=Pacific/Honolulu:20260426T130000
DTEND;TZID=Pacific/Honolulu:20260426T150000
DTSTAMP:20260422T231405
CREATED:20260327T013546Z
LAST-MODIFIED:20260415T013315Z
UID:16760-1777208400-1777215600@alohagrowers.com
SUMMARY:Sundays in the Country with Tavana
DESCRIPTION:AG Presents and Casanova Makawao welcome Tavana back to the Aloha Music Series\, Sundays in the Country\, at Casanova’s in Makawao Town on Sunday\, April 26th.\nTavana is a renowned Hawaiian musician known for his soulful voice\, dynamic stage presence\, and incredible musical talent. A one-man musical wrecking crew\, he seamlessly bridges the gap between Hawaiian Music and Delta Blues.\n			\n				\n				\n				\n				\n				\n				\n			\n			\n				\n				\n				\n				\n				\n				\n				\n				\n				\n				\n			\n				\n				\n				\n				\n				\n\nCasanova Makawao\nSunday\, April 26th\n1:00pm-3:00pm\n\n\n			\n				\n				\n				\n				\n				\n\nSHOW DETAILS\nTickets $20+1.40 (processing fee)OR $20 at doorDoors open at 11:30amShow starts at 1pmTables are first-come\, first-served.Food & drinks servedthroughout the day.\n\n\n			\n				BUY TICKETS\n			\n				\n				\n				\n				\n				Follow Us\n			\n				\n				\n				\n				\n				FollowFollowFollow\n			\n				\n				\n				\n				\n				More Details Below! \n			\n			\n				\n				\n				\n				\n			\n				\n				\n				\n				\n				\n				\n				\n				\n				\n				\n				About TAVANA\nTavana is known for his Waikiki jam sessions and regularly jams with a who’s who of players in Hawaii\, including Eddie Vedder\, who invited Tavana to sing ‘Hawaii 78’ – a Hawaii anthem of sorts – with him at the Hawaii Theatre. From a recording of their performance together\, Vedder produced a limited vinyl record that was sent out to 10\,000 Pearl Jam fans. Vedder also took Tavana out on tour for several dates as his opening act for his solo album. Tavana has jammed with many musical greats\, including Jack Johnson\, Pat Simmons\, Michael McDonald\, Henry Kapono\, G Love\, Willie K\, Ron and Thunderstorm Artis\, and Leon Mobley (Ben Harper & The Innocent Criminals). He has also been the supporting act for Alabama Shakes\, Shakey Graves\, Xavier Rudd\, Jenny Lewis\, Julian Marley\, and Kaleo\, to name a few.\nTavana is a multi-Nā Hōkū Hanohano (Hawaiian Grammy®) nominee and is currently featured on an in-flight video on all Hawaiian Airlines flights. He was a featured artist on Henry Kapono’s “The Songs of C&K” and is also a featured Playing for Change artist.\n“He’s more the exception than the rule\, he is a great human and I’m glad to know him” —Eddie Vedder\n“Tavana is a man on a mission and big opportunities await his arrival. I believe he’s on the edge of going big.” — Henry Kapono\nAbout Casanova Makawao\nSince 1986\, Casanova Makawao has been at the heart of the Upcountry Maui lifestyle. At the main crossroad of Historic Makawao town\, Casanova was Maui’s first wood-burning oven. Offering fresh salads\, pastas\, seafood\, and pizzas\, in 2017\, OpenTable diners rated Casanova the Best Italian Restaurant in the State of Hawaii. Learn more at CasanovaMaui.com.\n			\n				BUY TICKETS\n			\n			\n				\n				\n				\n				\n			\n				\n				\n				\n				\n				\n				\n				Back to Upcoming
URL:https://alohagrowers.com/event/tavana-sundays-4-2026/
LOCATION:Casanova Makawao\, 1188 Makawao Avenue\, Makawao\, HI\, 96768\, United States
CATEGORIES:AG Presents,Aloha Music Series,Casanova Makawao,Sundays in the Country
ATTACH;FMTTYPE=image/jpeg:https://alohagrowers.com/wp-content/uploads/2026/03/SIC_TAVANA_4.26_600.jpg
END:VEVENT
BEGIN:VEVENT
DTSTART;TZID=Pacific/Honolulu:20260430T190000
DTEND;TZID=Pacific/Honolulu:20260430T213000
DTSTAMP:20260422T231406
CREATED:20260209T204627Z
LAST-MODIFIED:20260211T180654Z
UID:16220-1777575600-1777584600@alohagrowers.com
SUMMARY:Tavana - Nectar Lounge - Seattle
DESCRIPTION:AG Presents and the Nectar Lounge are excited to welcome back to Seattle\, TAVANA!\nThis April\, one of Hawaiiʻs most explosive talents\, Tavana\, is coming back to the West Coast. Heʻll be bringing the sunshine and island vibes back to Seattle for one night only\, where he is working on an album at the famous London Bridge Studios in Seattle. Tavana is a one-man musical wrecking crew from Honolulu\, who uses his feet to lay down a variety of grooves while simultaneously playing guitar\, banjo\, dobro\, or ukulele and singing deep-soulful\, island-inspired rock and blues\, bridging the gap between Hawaiian Music and Delta Blues. He consistently sells shows out in Hawaii leaving audiences in awe of his musical energy.\n“He’s more the exception than the rule\, he is a great human and I’m glad to know him” —Eddie Vedder\n“Tavana is a man on a mission and big opportunities await his arrival. As a human being and friend\, Tavana’s a chill guy\, honest and easygoing. I believe he’s on the edge of going big.” — Henry Kapono\n \n			\n			\n				\n				\n				\n				\n				\n				\n				\n				\n				\n				\n\nNectar LoungeSeattle\nThursdayApril 30\, 2026\n\n\n			\n				\n				\n				\n				\n				\n\nSHOW DETAILS\nGeneral Tickets are $25.77\nDoors Open at 6:30pmShow Starts at 7:00pm\nSupport acts TBD\n\n\n			\n				BUY TICKETS\n			\n				\n				\n				\n				\n				\n				\n			\n				\n				\n				\n				\n				Follow Us\n			\n				\n				\n				\n				\n				FollowFollowFollow\n			\n				\n				\n				\n				\n				More Details Below! \n			\n			\n				\n				\n				\n				\n			\n				\n				\n				\n				\n				\n				\n				\n				\n				\n				\n				ABOUT TAVANA\nTavana is known for his Waikiki jam sessions and regularly jams with a who’s who of players in Hawaii\, including Eddie Vedder who invited Tavana to sing ‘Hawaii 78’ – a Hawaii anthem of sorts – with him at the Hawaii Theatre. From a recording of their performance together\, Vedder produced a limited vinyl record that was sent out to 10\,000 Pearl Jam fans. Vedder also took Tavana out on tour for several dates as his opening act for his solo album. Tavana has jammed with many musical greats\, including Jack Johnson\, Pat Simmons\, Michael McDonald\, Henry Kapono\, G Love\, Willie K\, John Cruz\, Ron and Thunderstorm Artis\, and Leon Mobley (Ben Harper & The Innocent Criminals). He also has been the supporting act for Alabama Shakes\, Shakey Graves\, Xavier Rudd\, Jenny Lewis\, Julian Marley\, and Kaleo to name just a few. \nTavana is a multi-Nā Hōkū Hanohano (Hawaiian Grammy®) nominee and is currently featured on an in-flight video on all Hawaiian Airlines. He was a featured artist on Henry Kapono’s “The Songs of C&K”\, and is also a featured “Playing for Change” artist.\n			\n				BUY TICKETS\n			\n			\n				\n				\n				\n				\n			\n				\n				\n				\n				\n				\n				\n				Back to Upcoming
URL:https://alohagrowers.com/event/tavana-nectar-lounge-seattle/
LOCATION:Nectar Lounge\, 412 N 36TH ST\, SEATTLE\, WA\, 98103\, United States
CATEGORIES:AG Presents
ATTACH;FMTTYPE=image/jpeg:https://alohagrowers.com/wp-content/uploads/2026/02/Tavana_NectarSqr600.jpg
END:VEVENT
END:VCALENDAR