BEGIN:VCALENDAR
VERSION:2.0
PRODID:-//Aloha Growers - ECPv6.15.20//NONSGML v1.0//EN
CALSCALE:GREGORIAN
METHOD:PUBLISH
X-WR-CALNAME:Aloha Growers
X-ORIGINAL-URL:https://alohagrowers.com
X-WR-CALDESC:Events for Aloha Growers
REFRESH-INTERVAL;VALUE=DURATION:PT1H
X-Robots-Tag:noindex
X-PUBLISHED-TTL:PT1H
BEGIN:VTIMEZONE
TZID:Pacific/Honolulu
BEGIN:STANDARD
TZOFFSETFROM:-1000
TZOFFSETTO:-1000
TZNAME:HST
DTSTART:20230101T000000
END:STANDARD
END:VTIMEZONE
BEGIN:VEVENT
DTSTART;TZID=Pacific/Honolulu:20241106T183000
DTEND;TZID=Pacific/Honolulu:20241106T213000
DTSTAMP:20260425T011444
CREATED:20241101T024010Z
LAST-MODIFIED:20241101T143752Z
UID:12321-1730917800-1730928600@alohagrowers.com
SUMMARY:The World of Ukulele with Andrew & Jay Molina
DESCRIPTION:The World of Ukulele with Andrew & Jay Molina with Special Guests Tempa & Naor\nAG Presents is excited to bring the Aloha Music Series to Mulligans On The Blue with Maui’s Ukulele Virtuoso Andrew & Jay Molina on Wednesday\, November 6th. For this special evening\, Dynamic Singer-Songwriters Tempa and Naor will join Andrew and Jay for an unforgettable evening. Two months ago they all played together to rave reviews!​\nBefore the show\, there will be a beginner’s ukulele lesson with Andrew. Andrew has been teaching students of all levels for many years. If you ever wanted to learn how to play ukulele this is a great opportunity! The lesson starts at 4:30pm\, and is only $10. This is limited to only 10 people.\nExperience one of Hawaii‘s great ukulele-fronted duos\, (father + son) Andrew and Jay Molina\, as they share songs\, stories\, and laughter while taking you on a musical journey throughout the “World of Ukulele”.\nWe are happy to keep our prices extremely reasonable with the help of the Maui Chamber of Commerce and the Hawai’i Tourism Authority!\n			\n			\n				\n				\n				\n				\n				\n				\n				\n				\n				\n				MulligansOn The Blue\n			\n				\n				\n				\n				\n				WednesdayNOV. 6\, 2024\n			\n				Info & Tickets\n			\n				\n				\n				\n				\n				Follow Us\n			\n				\n				\n				\n				\n				FollowFollowFollow\n			\n				\n				\n				\n				\n				More Details Below! \n			\n			\n				\n				\n				\n				\n			\n				\n				\n				\n				\n				\n				\n				\n				\n				\n				\n				ABOUT THE ARTISTS\nAndrews 3 albums have all been nominated for “Ukulele Album of the Year” at the prestigious “Nā Hōkū Hanohano” music awards\, (Hawaii’s version of the Grammy’s) and he has also been featured on the cover of England’s Uke Magazine. His music has also been featured in video promotions for Hawaiian Airlines and Ocean Vodka. His music is also feature on certain Hawaiian Airlines flights. From sweet Hawaiian sounds to Aerosmith’s “Dream On\,” Guns N’ Roses “Sweet Child O’ Mine\,” “Stairway To Heaven” and even the “Game of Thrones” theme\, Andrew along with his dad Jay on bass and guitar prove that anything is possible on the ukulele! He is always looking to take the ukulele to the next level and inspire people of all ages by showing them what is possible on this humble little 4 string instrument.\n“Andrew Molina is one of my favorite musicians. He works incredibly hard on his craft and approaches the ukulele in such a unique way” —Jake Shimabukuro\n“Andrew Molina is among a new generation of Hawaiian ukulele players taking a global-sized approach to what’s possible on the ukulele” -Greg Olwell – Ukulele Magazine\n“This guy has serious ukulele chops\, and he’s capable of breathing life into any style with sheer virtuosity” -Blair Jackson – Ukulele Magazine​\nABOUT TEMPA & NAOR\nTempa & Naor are a dynamic Singer-Songwriter duo from Maui\, blending SoulFolk\, Americana\, and Blues into their distinctive ‘Music Medicine.’ Tempa’s soulful voice\, compared to artists like Brandi Carlile and Bonnie Raitt\, pairs beautifully with Naor’s evocative compositions to create songs that resonate with themes of transformation\, love\, and resilience. Their debut album\, Ember’s Fire\, was praised by Maui News and Drooble for its authenticity and emotional depth. With over 30 years of professional experience\, Tempa has shared the stage with legends like BB King and Mavis Staples\, and together\, the duo’s music continues to invite listeners to embrace new beginnings. Their upcoming album\, MoonFall\, delves deeper into storytelling and heartfelt narratives\, continuing their tradition of soul-stirring performances.\nTicket Info\nTickets: $10-$15Doors: 5:00PM • Show: 6:30PMUkulele Workshop: 4:30pmCome enjoy dinner\, drinks\, sunset and explore the world of ukulele music!Click Buy Tickets below to purchase tables.\n			\n				Info & Tickets\n			\n			\n				\n				\n				\n				\n			\n				\n				\n				\n				\n				\n				\n				Back to Upcoming
URL:https://alohagrowers.com/event/world-of-ukulele-nov6/
LOCATION:Mulligans On The Blue\, 100 Kaukahi St\, Kihei\, United States
CATEGORIES:Aloha Music Series
ATTACH;FMTTYPE=image/jpeg:https://alohagrowers.com/wp-content/uploads/2024/10/MolinasSquareTN600.jpg
END:VEVENT
BEGIN:VEVENT
DTSTART;TZID=Pacific/Honolulu:20241102T193000
DTEND;TZID=Pacific/Honolulu:20241102T213000
DTSTAMP:20260425T011444
CREATED:20241101T004859Z
LAST-MODIFIED:20241101T143858Z
UID:12276-1730575800-1730583000@alohagrowers.com
SUMMARY:Marauak – Peter Tosh Tribute
DESCRIPTION:Brazilʻs Marauak – Peter Tosh Tribute\nAG Presents and Mulligans On The Blue are excited to welcome Brazilian artist Marauak to the Mulligans Music Box for a very special Peter Tosh Tribute show. His last Maui performance was a packed house and filled with positive vibes.\nMarauak specializes in Brazilian and reggae music and for the last 12 years he lived in San Diego where his album “Natural” was nominated as the best world music album of 2023 by SDMA.\n			\n			\n				\n				\n				\n				\n				\n				\n				\n				\n				\n				MulligansOn The Blue\n			\n				\n				\n				\n				\n				SaturdayNOV. 2\, 2024\n			\n				Info & Tickets\n			\n				\n				\n				\n				\n				Follow Us\n			\n				\n				\n				\n				\n				FollowFollowFollow\n			\n				\n				\n				\n				\n				More Details Below! \n			\n			\n				\n				\n				\n				\n			\n				\n				\n				\n				\n				\n				\n				\n				\n				\n				\n				Ticket Info:\n$15 Early bird tickets are available until 10/18/2024$20 After 10/18/2024Seating is on a first come first serve basis.Doors open at 6pm and the show starts at 7:30pm.We recommend going early for dinner and staying for music!\n  \n			\n				Info & Tickets\n			\n			\n				\n				\n				\n				\n			\n				\n				\n				\n				\n				\n				\n				Back to Upcoming
URL:https://alohagrowers.com/event/marauak-peter-tosh-tribute-nov2024/
LOCATION:Mulligans On The Blue\, 100 Kaukahi St\, Kihei\, United States
CATEGORIES:AG Presents Mulligans Music Box
ATTACH;FMTTYPE=image/jpeg:https://alohagrowers.com/wp-content/uploads/2024/10/MArauak-Square2_600.jpg
END:VEVENT
BEGIN:VEVENT
DTSTART;TZID=Pacific/Honolulu:20241101T190000
DTEND;TZID=Pacific/Honolulu:20241101T214500
DTSTAMP:20260425T011445
CREATED:20241101T140340Z
LAST-MODIFIED:20241101T144020Z
UID:12329-1730487600-1730497500@alohagrowers.com
SUMMARY:2 Stroke Lover\, Flamingo Rider & Bad Moms
DESCRIPTION:2 Stroke Lover with Flamingo Rider & Bad Moms\nAG Presents and Mulligans on the Blue welcome 2 STROKE LOVER\, original grunge\, rock\, and psychedelic music. Flamingo Rider is an amazing band that plays rock\, psychobilly\, and garage punk. And special guests Bad Moms playing iconic classic songs by Rage Against the Machine\, No Doubt\, and much more. It’s going to be a great night of alternative rock\, punk\, grunge\, rockabilly\, psychedelic\, and more. Come check it out\, it’s going to be a party!\nGet your tickets today! This is a 21-and-up show only. Seating is on a first come first serve basis. Doors open at 6:00 pm and the show starts at 7:00 pm. We recommend going early for dinner and staying for music and dancing!\n			\n			\n				\n				\n				\n				\n				\n				\n				\n				\n				\n				MulligansOn The Blue\n			\n				\n				\n				\n				\n				FridayNOV. 1\, 2024\n			\n				Info & Tickets\n			\n				\n				\n				\n				\n				Follow Us\n			\n				\n				\n				\n				\n				FollowFollowFollow\n			\n				\n				\n				\n				\n				More Details Below! \n			\n			\n				\n				\n				\n				\n			\n				\n				\n				\n				\n				\n				\n				\n				\n				\n				\n				Ticket Info:\n$10 (21+ Only)Doors/Dinner: 6:00 pmShow: 7:00 pm – 9:45 pm in the Mulligans Music Box\n  \n			\n				Info & Tickets\n			\n			\n				\n				\n				\n				\n			\n				\n				\n				\n				\n				\n				\n				Back to Upcoming
URL:https://alohagrowers.com/event/2-stroke-lover-flamingo-rider-bad-moms/
LOCATION:Mulligans On The Blue\, 100 Kaukahi St\, Kihei\, United States
CATEGORIES:AG Presents Mulligans Music Box
ATTACH;FMTTYPE=image/jpeg:https://alohagrowers.com/wp-content/uploads/2024/10/2StrokeSqr600.jpg
END:VEVENT
BEGIN:VEVENT
DTSTART;TZID=Pacific/Honolulu:20241031T190000
DTEND;TZID=Pacific/Honolulu:20241031T210000
DTSTAMP:20260425T011445
CREATED:20241031T133043Z
LAST-MODIFIED:20241031T202245Z
UID:12161-1730401200-1730408400@alohagrowers.com
SUMMARY:Tempa & the Tantrums at Mulligans On The Blue
DESCRIPTION:Tempa and the Tantrums Halloween Dance Party\nAG Presents and Mulligans on the Blue welcome Tempa and the Tantrums for a spooktacular Halloween Dance Party! Costume Contest with prizes. Dancing\, Costumes and Fun!\n			\n			\n				\n				\n				\n				\n				\n				\n				\n				\n				\n				Mulligans\nOn The Blue\n			\n				\n				\n				\n				\n				Sept 7\, 2024\n			\n				Info & Tickets\n			\n				\n				\n				\n				\n				Follow Us\n			\n				\n				\n				\n				\n				FollowFollowFollow\n			\n				\n				\n				\n				\n				More Details Below! \n			\n			\n				\n				\n				\n				\n			\n				\n				\n				\n				\n				\n				\n				\n				\n				\n				\n				ABOUT THE SHOW\nTempa and the Tantrums\, the new band formed by Maui’s Soul couple\, Tempa & Naor\, are known for their electrifying energy and intimate connection with the audience. Tempa and Naor create an unforgettable experience with seamless improvisation and captivating stage presence. The full band’s musical style blends elements of blues\, soul\, and jazz\, resulting in a rich\, dynamic sound. Influences from funk and rock also permeate their performances\, adding depth and variety. This eclectic mix ensures that every live show is a unique and engaging journey for the audience.\nCome for dinner and stay for music and dancing!\nTicket Info\nInside Premium “Reserved” Tables are $25 per person\nPremium “Reserved” Window Tables are $20 per person\nUpper Bar Ticket “Reserved” Seats are $20 per person\nGA Ticket – Outdoor/Bar/Dancefloor are $15 per person\nShow starts at 7:00pm. Doors open at 5:30pm. More information about tables and to get tickets click “Buy Tickets” button below.\n			\n				Info & Tickets\n			\n			\n				\n				\n				\n				\n			\n				\n				\n				\n				\n				\n				\n				Back to Upcoming
URL:https://alohagrowers.com/event/tempa-the-tantrums-at-mulligans-on-the-blue/
LOCATION:Mulligans On The Blue\, 100 Kaukahi St\, Kihei\, United States
CATEGORIES:AG Presents Mulligans Music Box
ATTACH;FMTTYPE=image/jpeg:https://alohagrowers.com/wp-content/uploads/2024/10/Halloween_TantrumSqr600.jpg
END:VEVENT
BEGIN:VEVENT
DTSTART;TZID=Pacific/Honolulu:20241030T170000
DTEND;TZID=Pacific/Honolulu:20241030T203000
DTSTAMP:20260425T011445
CREATED:20241031T201953Z
LAST-MODIFIED:20241031T202115Z
UID:12248-1730307600-1730320200@alohagrowers.com
SUMMARY:Uncle Benny Uyetake's Kanikapila
DESCRIPTION:Uncle Benny Uyetake’s Kanikapila With Anthony Pfluke & Lopaka Colon\nUncle Benny Uyetake’s Kanikapila is back in Wailea on October 30th with special guests\, rising star Anthony Pfluke\, and legendary percussionist Lopaka Colon. Get ready for a Kanikapila jam session in like no other!\n			\n			\n				\n				\n				\n				\n				\n				\n				\n				\n				\n				MulligansOn The Blue\n			\n				\n				\n				\n				\n				Oct 30\, 2024\n			\n				Info & Tickets\n			\n				\n				\n				\n				\n				Follow Us\n			\n				\n				\n				\n				\n				FollowFollowFollow\n			\n				\n				\n				\n				\n				More Details Below! \n			\n			\n				\n				\n				\n				\n			\n				\n				\n				\n				\n				\n				\n				\n				\n				\n				\n				ABOUT THE SHOW\nKanikapila\, gathering together to play music\, has been a well-loved traditional Hawaiian pastime. It’s these types of impromptu jam sessions that create an exceptionally rare evening on the islands. Maui’s musical treasure\, Uncle Benny Uyetake\, re-imagines Kanikapila evenings in Wailea with storytelling\, and world-class music. Through the Aloha Music Series\, Uncle Benny will introduce you to the new sounds from the islands and transport you to old Hawaiʻi as he hosts upcoming artists and Hawaiʻi’s legends. You never know who is gonna show up and kanikapila!\nThis show is sponsored by the Maui Chamber of Commerce and Hawai’i Tourism Authority.\nTicket Info\n$10-$15Doors/Check-in starts at 5:00pmShow Starts at 6:30pmFood and drinks are available for purchase throughout the evening.\nBenny Photo Credit: Bruce Forrester \n			\n				Info & Tickets\n			\n			\n				\n				\n				\n				\n			\n				\n				\n				\n				\n				\n				\n				Back to Upcoming
URL:https://alohagrowers.com/event/benny-uyetakes-kanikapila-oct2024/
LOCATION:Mulligans On The Blue\, 100 Kaukahi St\, Kihei\, United States
CATEGORIES:Aloha Music Series
ATTACH;FMTTYPE=image/jpeg:https://alohagrowers.com/wp-content/uploads/2024/10/BennyKanikapila10.16_sqr600-REV-30th-1.jpg
END:VEVENT
END:VCALENDAR