BEGIN:VCALENDAR
VERSION:2.0
PRODID:-//Aloha Growers - ECPv6.15.20//NONSGML v1.0//EN
CALSCALE:GREGORIAN
METHOD:PUBLISH
X-WR-CALNAME:Aloha Growers
X-ORIGINAL-URL:https://alohagrowers.com
X-WR-CALDESC:Events for Aloha Growers
REFRESH-INTERVAL;VALUE=DURATION:PT1H
X-Robots-Tag:noindex
X-PUBLISHED-TTL:PT1H
BEGIN:VTIMEZONE
TZID:Pacific/Honolulu
BEGIN:STANDARD
TZOFFSETFROM:-1000
TZOFFSETTO:-1000
TZNAME:HST
DTSTART:20250101T000000
END:STANDARD
END:VTIMEZONE
BEGIN:VEVENT
DTSTART;TZID=Pacific/Honolulu:20260111T130000
DTEND;TZID=Pacific/Honolulu:20260111T150000
DTSTAMP:20260423T004308
CREATED:20251204T132259Z
LAST-MODIFIED:20260103T135603Z
UID:14943-1768136400-1768143600@alohagrowers.com
SUMMARY:Sundays in the Country with Kapali Long
DESCRIPTION:Presented by Maui Brewing Co\nAG Presents and Casanova Makawao are excited to welcome Kapali Long to the “Sundays in the Country” Aloha Music Series at Casanova Makawao on Sunday\, January 11\, 2026 as part of his ‘Born & Raised’ State Tour Presented by Kō Hana Hawaiian Agricole Rum & Gibson Guitars. Get there early for lunch and stay for the music!\nKapali “Leadfoot” Long is a Native Hawaiian\, “Hawaiiana-Americana\, Country\, and Blues\,” singer-songwriter who is making big waves in the Country Music industry in Nashville\, where he now resides. His songwriting and guitar playing are deeply rooted in his experiences\, with a focus on authentic emotional expression and storytelling. His performances deliver truth\, power\, and the healing of music\, lifting spirits and providing relief.\n			\n			\n				\n				\n				\n				\n				\n				\n				\n				\n				\n				\n\nPresented By\n\n\n			\n				\n				\n				\n				\n				\n			\n				\n				\n				\n				\n				\n\nCasanova Makawao\nSunday\, Jan 11th\, 2026\n1:00pm-3:00pm\n\n\n			\n				\n				\n				\n				\n				\n\nSHOW DETAILS\n$20 TicketsDoors open at 11:30amShow starts at 1pmTables availablefirst-come\, first-served.Food & drinks servedthroughout the day.\n\n\n			\n				BUY TICKETS\n			\n				\n				\n				\n				\n				Follow Us\n			\n				\n				\n				\n				\n				FollowFollowFollow\n			\n				\n				\n				\n				\n				More Details Below! \n			\n			\n				\n				\n				\n				\n			\n				\n				\n				\n				\n				\n				\n				\n				\n				\n				\n				More About Kapali Long\nKapali is not only a passionate singer-songwriter with a five-octave voice\, but he is also a highly skilled guitarist\, known for his slide and lap steel playing. Kapaliʻs Hawaiian roots will take you straight to the origins of “Kika Kila”\, or Lap Steel\, where Kapali was mentored under master steel guitarist Alan Akaka. In 2016\, Kapali’s guitar playing caught the attention of Gibson Guitars\, and he has been a signed Gibson artist ever since.\nKapali has opened for Artists like legend Robert Earl Keen\, Ron Pope\, and Howie Day. Kapali has played guitar with Caroline Liar\, Nikki Lane\, and was slated to be the guitarist for Muddy Waters’ son\, Mojo Morganfield\, before his untimely passing. He has also played at major venues and festivals from; South By Southwest\, Echo Park Rising in Los Angeles\, Nikki Lane’s Horseshoe Stage at Stagecoach (1st Native Hawaiian to play Stagecoach)\, Gibson Garage Fest\, WhiskeyJam (Nashville)\, The Bluebird Cafe (Nashville)\, 3rd & Lindsley\, Grand Ole Echo (The Echo)\, Lancaster Roots & Blues\, The Troubadour\, Whiskey Jam & many more.\nKapali comes from a family with a long Hawaiian musical history\, and music has been in his life since he can remember. He is the nephew of Hawaiian musical greats Buddy Fo and Mikilani Fo\, and his grandparents were well-known musicians and performers\, who raised him with the mindset of music and ʻohana (family) from Waimanalo to Punchbowl\, where they played Country\, Blues\, Bluegrass\, and Hawaiian music together. If you follow Kapali’s musical roots\, they will lead you to connections with many musical trailblazers\, including Joseph Kekuku\, Jerry Byrd\, Hank Sr.\, Ry Cooder\, Chet Atkins\, Gabby Pahinui\, and many more.\nAbout Casanova Makawao\nSince 1986\, Casanova Makawao has been at the heart of the Upcountry Maui lifestyle. At the main crossroad of Historic Makawao town\, Casanova was Maui’s first wood-burning oven. Offering fresh salads\, pastas\, seafood\, and pizzas\, in 2017\, OpenTable diners rated Casanova the Best Italian Restaurant in the State of Hawaii. Learn more at CasanovaMaui.com.\n			\n				BUY TICKETS\n			\n			\n				\n				\n				\n				\n			\n				\n				\n				\n				\n				\n				\n				Back to Upcoming
URL:https://alohagrowers.com/event/sitc-kapali-long-jan-2026/
LOCATION:Casanova Makawao\, 1188 Makawao Avenue\, Makawao\, HI\, 96768\, United States
CATEGORIES:AG Presents,Aloha Music Series,Casanova Makawao,Sundays in the Country
ATTACH;FMTTYPE=image/jpeg:https://alohagrowers.com/wp-content/uploads/2025/12/SIC_KapaliSqr1.11_600.jpg
END:VEVENT
END:VCALENDAR