BEGIN:VCALENDAR
VERSION:2.0
PRODID:-//Aloha Growers - ECPv6.15.20//NONSGML v1.0//EN
CALSCALE:GREGORIAN
METHOD:PUBLISH
X-WR-CALNAME:Aloha Growers
X-ORIGINAL-URL:https://alohagrowers.com
X-WR-CALDESC:Events for Aloha Growers
REFRESH-INTERVAL;VALUE=DURATION:PT1H
X-Robots-Tag:noindex
X-PUBLISHED-TTL:PT1H
BEGIN:VTIMEZONE
TZID:Pacific/Honolulu
BEGIN:STANDARD
TZOFFSETFROM:-1000
TZOFFSETTO:-1000
TZNAME:HST
DTSTART:20240101T000000
END:STANDARD
END:VTIMEZONE
BEGIN:VEVENT
DTSTART;TZID=Pacific/Honolulu:20251031T220000
DTEND;TZID=Pacific/Honolulu:20251031T220000
DTSTAMP:20260423T102614
CREATED:20251020T205648Z
LAST-MODIFIED:20251024T142248Z
UID:14359-1761948000-1761948000@alohagrowers.com
SUMMARY:Halloween Party with DJ Melody Jay
DESCRIPTION:Join Casanova Makawao for Halloween with DJ Melody Jay on Friday\, October 31st from 10-1:30am!\nDrawing on her Hawaiian roots\, Melody infuses every set with soul and sophistication. With nearly two decades of experience across corporate events\, brand activations\, and luxury resort performances\, she is known for curating vibrant\, culturally-aware soundscapes that elevate energy and create lasting emotional impact.\n			\n			\n				\n				\n				\n				\n				\n				\n				\n				\n				\n				\n\nCasanova Makawao\nFridayOctober 31\, 202510-1:30pm$15 at the door\n\n\n			\n				\n				\n				\n				\n				Follow Us\n			\n				\n				\n				\n				\n				FollowFollowFollow\n			\n			\n				\n				\n				\n				\n			\n				\n				\n				\n				\n				\n				\n				\n				\n				\n				\n				ABOUT CASANOVA MAKAWAO\nSince 1986\, Casanova Makawao has been at the heart of the Upcountry Maui lifestyle. At the main crossroad of Historic Makawao town\, Casanova was Maui’s first wood-burning oven. Offering fresh salads\, pastas\, seafood\, and pizzas\, in 2017\, OpenTable diners rated Casanova the Best Italian Restaurant in the State of Hawaii. Learn more at CasanovaMaui.com.\n\n			\n			\n				\n				\n				\n				\n			\n				\n				\n				\n				\n				\n				\n				Back to Upcoming\n			\n					\n					\n					\n					\n					\n						\n						\n							\n								HOME\nMENU\nPRIVATE EVENTS\nVISIT\n\n							\n							\n							\n							\n				\n					\n				\n			\n						\n						\n					\n				\n				\n				\n				\n				\n				CASANOVA MAKAWAO\nServing Dinner 7 Nights a WeekMonday – Sunday5pm – 9pm1188 Makawao AvenueMakawao\, HI\, 96768808-572-0220\nCasanovaMaui.com
URL:https://alohagrowers.com/event/halloween-party-with-dj-melody-jay/
LOCATION:Casanova Makawao\, 1188 Makawao Avenue\, Makawao\, HI\, 96768\, United States
CATEGORIES:Casanova Makawao
ATTACH;FMTTYPE=image/jpeg:https://alohagrowers.com/wp-content/uploads/2025/10/Casanova10.31_Square600.jpg
END:VEVENT
END:VCALENDAR