BEGIN:VCALENDAR
VERSION:2.0
PRODID:-//Aloha Growers - ECPv6.15.20//NONSGML v1.0//EN
CALSCALE:GREGORIAN
METHOD:PUBLISH
X-ORIGINAL-URL:https://alohagrowers.com
X-WR-CALDESC:Events for Aloha Growers
REFRESH-INTERVAL;VALUE=DURATION:PT1H
X-Robots-Tag:noindex
X-PUBLISHED-TTL:PT1H
BEGIN:VTIMEZONE
TZID:Pacific/Honolulu
BEGIN:STANDARD
TZOFFSETFROM:-1000
TZOFFSETTO:-1000
TZNAME:HST
DTSTART:20240101T000000
END:STANDARD
END:VTIMEZONE
BEGIN:VEVENT
DTSTART;TZID=Pacific/Honolulu:20251021T170000
DTEND;TZID=Pacific/Honolulu:20251021T210000
DTSTAMP:20260423T103038
CREATED:20251020T202001Z
LAST-MODIFIED:20251021T183452Z
UID:14352-1761066000-1761080400@alohagrowers.com
SUMMARY:Breast Cancer Dinner Fundraiser
DESCRIPTION:Dine at Casanova Makawao on Tuesday\, October 21st\, from 5-9pm\, for a community benefit night supporting local mom Katie and her son Finn as they navigate Stage 3 Breast Cancer.\nHelp Casanova honor Breast Cancer Awareness Month\, an international health campaign observed throughout October\, aimed at increasing global awareness of breast cancer and enjoy dinner on October 21st\, with 20% of all dine-in sales (excluding alcohol) going to Katie and Finn to help them navigate through their journey with breast cancer.\n			\n			\n				\n				\n				\n				\n				\n				\n				\n				\n				\n				\n\nCasanova Makawao\nTuesdayOctober 21\, 20255-9pm\n\n\n			\n				\n				\n				\n				\n				Follow Us\n			\n				\n				\n				\n				\n				FollowFollowFollow\n			\n			\n				\n				\n				\n				\n			\n				\n				\n				\n				\n				\n				\n				\n				\n				\n				\n				ABOUT CASANOVA MAKAWAO\nSince 1986\, Casanova Makawao has been at the heart of the Upcountry Maui lifestyle. At the main crossroad of Historic Makawao town\, Casanova was Maui’s first wood-burning oven. Offering fresh salads\, pastas\, seafood\, and pizzas\, in 2017\, OpenTable diners rated Casanova the Best Italian Restaurant in the State of Hawaii. Learn more at CasanovaMaui.com.\n\n			\n			\n				\n				\n				\n				\n			\n				\n				\n				\n				\n				\n				\n				Back to Upcoming
URL:https://alohagrowers.com/event/dinner-fundraiser-oct-2025/
LOCATION:Casanova Makawao\, 1188 Makawao Avenue\, Makawao\, HI\, 96768\, United States
CATEGORIES:Casanova Makawao
ATTACH;FMTTYPE=image/jpeg:https://alohagrowers.com/wp-content/uploads/2025/10/Breast-Cancer-Fundraiser-Casanova-Makawao-Oct-2025.jpg
END:VEVENT
END:VCALENDAR