BEGIN:VCALENDAR
VERSION:2.0
PRODID:-//Aloha Growers - ECPv6.15.20//NONSGML v1.0//EN
CALSCALE:GREGORIAN
METHOD:PUBLISH
X-WR-CALNAME:Aloha Growers
X-ORIGINAL-URL:https://alohagrowers.com
X-WR-CALDESC:Events for Aloha Growers
REFRESH-INTERVAL;VALUE=DURATION:PT1H
X-Robots-Tag:noindex
X-PUBLISHED-TTL:PT1H
BEGIN:VTIMEZONE
TZID:Pacific/Honolulu
BEGIN:STANDARD
TZOFFSETFROM:-1000
TZOFFSETTO:-1000
TZNAME:HST
DTSTART:20250101T000000
END:STANDARD
END:VTIMEZONE
BEGIN:VEVENT
DTSTART;TZID=Pacific/Honolulu:20260215T130000
DTEND;TZID=Pacific/Honolulu:20260215T150000
DTSTAMP:20260422T214017
CREATED:20260121T194437Z
LAST-MODIFIED:20260202T135848Z
UID:16041-1771160400-1771167600@alohagrowers.com
SUMMARY:Sundays in the Country with Danyel Alana & Natalie Nicole
DESCRIPTION:AG Presents\, Maui Brewing Company\, and Casanova Makawao are excited to welcome Danyel Alana and Natalie Nicole to the Aloha Music Series\, Sundays in the Country\, at Casanova’s in beautiful Makawao Town on February 15th.\nDanyel Alana has a musical style that reflects her ethnic roots\, growing up on the beaches of Los Angeles and Hawai’i. Weaving conscious lyrics with her soulful vocals she blends elements of funk\, rock\, blues\, reggae\, hip hop\, R&B\, soul\, jazz\, Hawaiian\, pop\, and country. Whether she’s solo on an acoustic or electric guitar her unbridled style and powerful vocals fuel the passion in her versatile\, dynamic\, and high-energy performances. Danyel never ceases to deliver the conscious message of love\, unity and introspection through her original and cover material.\n			\n				\n				\n				\n				\n				\n				\n			\n			\n				\n				\n				\n				\n				\n				\n				\n				\n				\n				\n\nPresented by\n\n\n			\n				\n				\n				\n				\n				\n			\n				\n				\n				\n				\n				\n\nCasanova Makawao\nSunday\, Feb 15th\n1:00pm-3:00pm\n\n\n			\n				\n				\n				\n				\n				\n\nSHOW DETAILS\nTickets $15+1.30 (processing fee)OR $15 at doorDoors open at 11:30amShow starts at 1pmTables are first-come\, first-served.Food & drinks servedthroughout the day.\n\n\n			\n				BUY TICKETS\n			\n				\n				\n				\n				\n				Follow Us\n			\n				\n				\n				\n				\n				FollowFollowFollow\n			\n				\n				\n				\n				\n				More Details Below! \n			\n			\n				\n				\n				\n				\n			\n				\n				\n				\n				\n				\n				\n				\n				\n				\n				\n				Danyel Alana’s music career has spanned over 3 decades. In 1992 she joined forces with Rob London\, forming the funk rock reggae band\, Unshakable Race. Gaining a large regional following and acclaim in the Pacific Northwest and California\, Unshakable Race opened for many major acts across the US and voted “Northwest Best World Beat Band’ by The Northwest Music News. Unshakable Race released 3 CD’s Right On! Serial Survivors & Stop\, Look & Listen had songs that topped the Mp3 charts for that time.\n			\n				\n				\n				\n				\n				\n				\n			\n				\n				\n				\n				\n				Danyel has opened for\, recorded\, and performed with many notable artists across Hawaii\, the mainland US\, Canada\, and Japan. Notable artists include Buddy Miles\, The Wailers\, Willy Nelson\, Lukas Nelson\, Richie Havens\, Mick Fleetwood\, Boom Shaka\, Cecilio & Kapono\, The Kryptones\, Barry Flanagan (Hapa)\, Vince Esquire Band\, Kanekoa\, Inka Inka\, Majek Fashek\, Jambay\, Cardiff Reefers\, Cherry Poppin’ Daddy’s\, Debbie Davies\, Mighty Diamonds\, Renegade Saints\, Maunaloa\, Willie K\, Collective Soul\, Natural Vibrations\, ʻNuff Sed\, Third World\, George Kahumoku Jr.\, The Itals\, Ziggy Marley\, Common Sense\, Humble Soul\, Anuhea\, Curtis Salgado\, Maunaloa\, Human Rights Jumbalassy\, Katchafire\, Brother Noland\, Camille Volasco\, and many more.\nABOUT NATALIE NICOLE ROBLESNatalie is a soul queen with a passionate stage presence. Her unique\, fresh renditions of rock\, pop\, soul\, and R&B are high-energy and get your feet moving. “I was exposed to a diverse range of music at a very young age and carried that love for music during my travels\,” said Natalie. She was born into a large family in California’s Bay Area. In 1998\, she moved to Seattle with her family. Fourteen years later\, she found her home on Maui. “I packed my beloved guitar and a suitcase\, not knowing what this small island had in store for me\, but I was excited to go on another adventure.”\n			\n				\n				\n				\n				\n				About Casanova Makawao\nSince 1986\, Casanova Makawao has been at the heart of the Upcountry Maui lifestyle. At the main crossroad of Historic Makawao town\, Casanova was Maui’s first wood-burning oven. Offering fresh salads\, pastas\, seafood\, and pizzas\, in 2017\, OpenTable diners rated Casanova the Best Italian Restaurant in the State of Hawaii. Learn more at CasanovaMaui.com.\n			\n				BUY TICKETS\n			\n			\n				\n				\n				\n				\n			\n				\n				\n				\n				\n				\n				\n				Back to Upcoming
URL:https://alohagrowers.com/event/danyel-alana-feb-2026/
LOCATION:Casanova Makawao\, 1188 Makawao Avenue\, Makawao\, HI\, 96768\, United States
CATEGORIES:AG Presents,Aloha Music Series,Casanova Makawao,Sundays in the Country
ATTACH;FMTTYPE=image/jpeg:https://alohagrowers.com/wp-content/uploads/2026/01/DAnyel2.15Sqr6001.jpg
END:VEVENT
BEGIN:VEVENT
DTSTART;TZID=Pacific/Honolulu:20260222T130000
DTEND;TZID=Pacific/Honolulu:20260222T150000
DTSTAMP:20260422T214018
CREATED:20260121T175247Z
LAST-MODIFIED:20260217T145717Z
UID:16025-1771765200-1771772400@alohagrowers.com
SUMMARY:Sundays in the Country with Cheryl Rae & Steve Grimes
DESCRIPTION:AG Presents\, Maui Brewing Company\, and Casanova Makawao welcome Cheryl Rae and Steve Grimes to the Aloha Music Series\, Sundays in the Country\, at Casanova’s in beautiful Makawao Town on Sunday\, February 22nd.\nSinger\, songwriter\, and performer Cheryl Rae has been performing for over 25 years and has shared the stage with and opened for Kris Kristofferson\, Willie Nelson\, Mick Fleetwood\, Henry Kapono\, and many other talented and incredible musicians.\nSteve Grimes may be most known for making some of the world’s finest guitars\, but he is also a beloved Maui singer/songwriter who performs regularly\, both as a solo artist and with his group The Ono Grimes Band. Grimes is a prolific songwriter\, having released 4 albums of original songs and having won a national songwriting contest in 2011. He has also been a finalist in the Na Hoku Hanohano Music Awards in Hawaii. His original songs range in styles from folk to funk\, from blues to bossa nova.\n			\n				\n				\n				\n				\n				\n				\n			\n			\n				\n				\n				\n				\n				\n				\n				\n				\n				\n				\n\nPresented by\n\n\n			\n				\n				\n				\n				\n				\n			\n				\n				\n				\n				\n				\n\nCasanova Makawao\nSunday\, Feb 22nd\n1:00pm-3:00pm\n\n\n			\n				\n				\n				\n				\n				\n\nSHOW DETAILS\nTickets $15+1.30 (processing fee)OR $15 at doorDoors open at 11:30amShow starts at 1pmTables are first-come\, first-served.Food & drinks servedthroughout the day.\n\n\n			\n				BUY TICKETS\n			\n				\n				\n				\n				\n				Follow Us\n			\n				\n				\n				\n				\n				FollowFollowFollow\n			\n				\n				\n				\n				\n				More Details Below! \n			\n			\n				\n				\n				\n				\n			\n				\n				\n				\n				\n				\n				\n				\n				\n				\n				\n				About Casanova Makawao\nSince 1986\, Casanova Makawao has been at the heart of the Upcountry Maui lifestyle. At the main crossroad of Historic Makawao town\, Casanova was Maui’s first wood-burning oven. Offering fresh salads\, pastas\, seafood\, and pizzas\, in 2017\, OpenTable diners rated Casanova the Best Italian Restaurant in the State of Hawaii. Learn more at CasanovaMaui.com.\n			\n				BUY TICKETS\n			\n			\n				\n				\n				\n				\n			\n				\n				\n				\n				\n				\n				\n				Back to Upcoming
URL:https://alohagrowers.com/event/cheryl-rae-steve-grimes/
LOCATION:Casanova Makawao\, 1188 Makawao Avenue\, Makawao\, HI\, 96768\, United States
CATEGORIES:AG Presents,Aloha Music Series,Casanova Makawao,Sundays in the Country
ATTACH;FMTTYPE=image/jpeg:https://alohagrowers.com/wp-content/uploads/2026/01/Cheryl2-22Sqr600.jpg
END:VEVENT
END:VCALENDAR