BEGIN:VCALENDAR
VERSION:2.0
PRODID:-//Aloha Growers - ECPv6.15.20//NONSGML v1.0//EN
CALSCALE:GREGORIAN
METHOD:PUBLISH
X-ORIGINAL-URL:https://alohagrowers.com
X-WR-CALDESC:Events for Aloha Growers
REFRESH-INTERVAL;VALUE=DURATION:PT1H
X-Robots-Tag:noindex
X-PUBLISHED-TTL:PT1H
BEGIN:VTIMEZONE
TZID:Pacific/Honolulu
BEGIN:STANDARD
TZOFFSETFROM:-1000
TZOFFSETTO:-1000
TZNAME:HST
DTSTART:20240101T000000
END:STANDARD
END:VTIMEZONE
BEGIN:VEVENT
DTSTART;TZID=Pacific/Honolulu:20251208T210000
DTEND;TZID=Pacific/Honolulu:20251208T230000
DTSTAMP:20260423T005719
CREATED:20251020T213343Z
LAST-MODIFIED:20251128T205008Z
UID:14343-1765227600-1765234800@alohagrowers.com
SUMMARY:Late Night Karaoke
DESCRIPTION:Casanova Makawao invites you to late night Karaoke and pizza on Mondays!\nSelect from over 30\,000 songs across all genres  from 9-11 pm. Share some pies with friends from 9-10pm with 12″ pizza specials!\n– Pepperoni Pizza ($18)\n– Margarita Pizza with tomato\, basil\, & fresh mozzarella ($20)\n– Cheese Pizza ($20)\n– Makawao Pizza with ham\, pineapple\, & shredded mozzarella ($24)\n			\n			\n				\n				\n				\n				\n				\n				\n				\n				\n				\n				\n\nCasanova Makawao\nMondaysKaraoke 9-11pmPizza Specials 9-10pm\n\n\n			\n				\n				\n				\n				\n				Follow Us\n			\n				\n				\n				\n				\n				FollowFollowFollow\n			\n			\n				\n				\n				\n				\n			\n				\n				\n				\n				\n				\n				\n				\n				\n				\n				\n				ABOUT CASANOVA MAKAWAO\nSince 1986\, Casanova Makawao has been at the heart of the Upcountry Maui lifestyle. At the main crossroad of Historic Makawao town\, Casanova was Maui’s first wood-burning oven. Offering fresh salads\, pastas\, seafood\, and pizzas\, in 2017\, OpenTable diners rated Casanova the Best Italian Restaurant in the State of Hawaii. Learn more at CasanovaMaui.com.\n\n			\n			\n				\n				\n				\n				\n			\n				\n				\n				\n				\n				\n				\n				Back to Upcoming\n			\n					\n					\n					\n					\n					\n						\n						\n							\n								HOME\nMENU\nPRIVATE EVENTS\nVISIT\n\n							\n							\n							\n							\n				\n					\n				\n			\n						\n						\n					\n				\n				\n				\n				\n				\n				CASANOVA MAKAWAO\nServing Dinner 7 Nights a WeekMonday – Sunday5pm – 9pm1188 Makawao AvenueMakawao\, HI\, 96768808-572-0220\nCasanovaMaui.com
URL:https://alohagrowers.com/event/late-night-karaoke/
LOCATION:Casanova Makawao\, 1188 Makawao Avenue\, Makawao\, HI\, 96768\, United States
CATEGORIES:Casanova Makawao
ATTACH;FMTTYPE=image/jpeg:https://alohagrowers.com/wp-content/uploads/2025/10/karaokeMondays6_SQR_600B.jpg
END:VEVENT
BEGIN:VEVENT
DTSTART;TZID=Pacific/Honolulu:20251214T130000
DTEND;TZID=Pacific/Honolulu:20251214T153000
DTSTAMP:20260423T005719
CREATED:20251124T205749Z
LAST-MODIFIED:20251124T205759Z
UID:14789-1765717200-1765726200@alohagrowers.com
SUMMARY:Sundays in the Country with Sgt Splendor
DESCRIPTION:AG Presents and Casanova Makawao are excited to welcome Sgt Splendor – Eric McFadden + Kate Vargas to the “Sundays in the Country” Aloha Music Series at Casanova’s in beautiful Makawao on Sunday\, December 14\, 2025. Get there early for lunch and stay for the music!\nBefore joining forces\, the duo behind Sgt. Splendor were already formidable solo artists\, Kate Vargas chalking up acclaim at outlets like NPR\, HuffPost\, American Songwriter\, Rolling Stone and Vice (including praise from the “Dean of American Rock Critics” Robert Christgau); and Eric McFadden amassing an impressive resume including stints on guitar with George Clinton & the P-Funk All Stars\, Anders Osbourne\, Karl Denson\, Stockholm Syndrome\, and Eric Burdon & The Animals\, plus a slew of solo albums\, and session work with everyone from Jackson Browne to The Clash’s Joe Strummer.\n			\n			\n				\n				\n				\n				\n				\n				\n				\n				\n				\n				\n\nCasanova Makawao\nSunday\, Dec 14th\, 2025\n1:00pm-3:30pm\n\n\n			\n				\n				\n				\n				\n				\n\nSHOW DETAILS\n$20 TicketsDoors open at 11:30amShow starts at 1pmTables availablefirst-come\, first-served.Food & drinks servedthroughout the day.\n\n\n			\n				BUY TICKETS\n			\n				\n				\n				\n				\n				Follow Us\n			\n				\n				\n				\n				\n				FollowFollowFollow\n			\n				\n				\n				\n				\n				More Details Below! \n			\n			\n				\n				\n				\n				\n			\n				\n				\n				\n				\n				\n				\n				\n				\n				\n				\n				“One of the most unique bands to come out of the new millennium is the contrasting duo of Sgt. Splendor. The group consists of singer/songwriter/guitarist/flautist Kate Vargas\, and her partner in crime\, guitarist/vocalist Eric McFadden (George Clinton & P-Funk\, Eric Burdon\, Les Claypool\, etc)…is this an album for the masses?… yes. Yet it is even more so an album for the music aficionados who understand and appreciate in-depth\, heavy songwriting\, wrapped in a blanket of heavy Blues and Rock music that holds its own against anything you can throw at it.” – Tone Scott / GOLDMINE Magazine 2024\nAbout Casanova Makawao\nSince 1986\, Casanova Makawao has been at the heart of the Upcountry Maui lifestyle. At the main crossroad of Historic Makawao town\, Casanova was Maui’s first wood-burning oven. Offering fresh salads\, pastas\, seafood\, and pizzas\, in 2017\, OpenTable diners rated Casanova the Best Italian Restaurant in the State of Hawaii. Learn more at CasanovaMaui.com.\n			\n				BUY TICKETS\n			\n			\n				\n				\n				\n				\n			\n				\n				\n				\n				\n				\n				\n				Back to Upcoming
URL:https://alohagrowers.com/event/sundays-in-the-country-with-sgt-splendor/
LOCATION:Casanova Makawao\, 1188 Makawao Avenue\, Makawao\, HI\, 96768\, United States
CATEGORIES:AG Presents,Aloha Music Series,Casanova Makawao,Sundays in the Country
ATTACH;FMTTYPE=image/jpeg:https://alohagrowers.com/wp-content/uploads/2025/11/SgtSplendor12.14Sqr600.jpg
END:VEVENT
BEGIN:VEVENT
DTSTART;TZID=Pacific/Honolulu:20251215T210000
DTEND;TZID=Pacific/Honolulu:20251215T230000
DTSTAMP:20260423T005719
CREATED:20251103T031734Z
LAST-MODIFIED:20251128T205458Z
UID:14559-1765832400-1765839600@alohagrowers.com
SUMMARY:Late Night Karaoke
DESCRIPTION:Casanova Makawao invites you to late night Karaoke and pizza on Mondays!\nSelect from over 30\,000 songs across all genres from 9-11pm and share some pies with friends from 9-10pm with 12″ pizza specials!\n– Pepperoni Pizza ($18)\n– Margarita Pizza with tomato\, basil\, & fresh mozzarella ($20)\n– Cheese Pizza ($20)\n– Makawao Pizza with ham\, pineapple\, & shredded mozzarella ($24)\n			\n			\n				\n				\n				\n				\n				\n				\n				\n				\n				\n				\n\nCasanova Makawao\nMondaysKaraoke 9-11pmPizza Specials 9-10pm\n\n\n			\n				\n				\n				\n				\n				Follow Us\n			\n				\n				\n				\n				\n				FollowFollowFollow\n			\n			\n				\n				\n				\n				\n			\n				\n				\n				\n				\n				\n				\n				\n				\n				\n				\n				ABOUT CASANOVA MAKAWAO\nSince 1986\, Casanova Makawao has been at the heart of the Upcountry Maui lifestyle. At the main crossroad of Historic Makawao town\, Casanova was Maui’s first wood-burning oven. Offering fresh salads\, pastas\, seafood\, and pizzas\, in 2017\, OpenTable diners rated Casanova the Best Italian Restaurant in the State of Hawaii. Learn more at CasanovaMaui.com.\n \n			\n			\n				\n				\n				\n				\n			\n				\n				\n				\n				\n				\n				\n				Back to Upcoming\n			\n					\n					\n					\n					\n					\n						\n						\n							\n								HOME\nMENU\nPRIVATE EVENTS\nVISIT\n\n							\n							\n							\n							\n				\n					\n				\n			\n						\n						\n					\n				\n				\n				\n				\n				\n				CASANOVA MAKAWAO\nServing Dinner 7 Nights a WeekMonday – Sunday5pm – 9pm1188 Makawao AvenueMakawao\, HI\, 96768808-572-0220\nCasanovaMaui.com
URL:https://alohagrowers.com/event/late-karaoke/
LOCATION:Casanova Makawao\, 1188 Makawao Avenue\, Makawao\, HI\, 96768\, United States
CATEGORIES:Casanova Makawao
ATTACH;FMTTYPE=image/jpeg:https://alohagrowers.com/wp-content/uploads/2025/10/karaokeMondays3_SQR_600.jpg
END:VEVENT
BEGIN:VEVENT
DTSTART;TZID=Pacific/Honolulu:20251222T210000
DTEND;TZID=Pacific/Honolulu:20251222T230000
DTSTAMP:20260423T005720
CREATED:20251021T162847Z
LAST-MODIFIED:20251128T205751Z
UID:14386-1766437200-1766444400@alohagrowers.com
SUMMARY:Late Night Karaoke
DESCRIPTION:Casanova Makawao invites you to late night Karaoke and pizza on Mondays!\nSelect from over 30\,000 songs across all genres and from 9-11 pm and share some pies with friends from 9-10pm with 12″ pizza specials!\n– Pepperoni Pizza ($18)\n– Margarita Pizza with tomato\, basil\, & fresh mozzarella ($20)\n– Cheese Pizza ($20)\n– Makawao Pizza with ham\, pineapple\, & shredded mozzarella ($24)\n			\n			\n				\n				\n				\n				\n				\n				\n				\n				\n				\n				\n\nCasanova Makawao\nMondaysKaraoke 9-11pmPizza Specials 9-10pm\n\n\n			\n				\n				\n				\n				\n				Follow Us\n			\n				\n				\n				\n				\n				FollowFollowFollow\n			\n			\n				\n				\n				\n				\n			\n				\n				\n				\n				\n				\n				\n				\n				\n				\n				\n				ABOUT CASANOVA MAKAWAO\nSince 1986\, Casanova Makawao has been at the heart of the Upcountry Maui lifestyle. At the main crossroad of Historic Makawao town\, Casanova was Maui’s first wood-burning oven. Offering fresh salads\, pastas\, seafood\, and pizzas\, in 2017\, OpenTable diners rated Casanova the Best Italian Restaurant in the State of Hawaii. Learn more at CasanovaMaui.com.\n\n			\n			\n				\n				\n				\n				\n			\n				\n				\n				\n				\n				\n				\n				Back to Upcoming\n			\n					\n					\n					\n					\n					\n						\n						\n							\n								HOME\nMENU\nPRIVATE EVENTS\nVISIT\n\n							\n							\n							\n							\n				\n					\n				\n			\n						\n						\n					\n				\n				\n				\n				\n				\n				CASANOVA MAKAWAO\nServing Dinner 7 Nights a WeekMonday – Sunday5pm – 9pm1188 Makawao AvenueMakawao\, HI\, 96768808-572-0220\nCasanovaMaui.com
URL:https://alohagrowers.com/event/karaoke/
LOCATION:Casanova Makawao\, 1188 Makawao Avenue\, Makawao\, HI\, 96768\, United States
CATEGORIES:Casanova Makawao
ATTACH;FMTTYPE=image/jpeg:https://alohagrowers.com/wp-content/uploads/2025/10/karaokeMondays4_SQR_600.jpg
END:VEVENT
BEGIN:VEVENT
DTSTART;TZID=Pacific/Honolulu:20251228T130000
DTEND;TZID=Pacific/Honolulu:20251228T150000
DTSTAMP:20260423T005720
CREATED:20251208T231556Z
LAST-MODIFIED:20251222T193959Z
UID:15071-1766926800-1766934000@alohagrowers.com
SUMMARY:Sundays in the Country with Desert Hollow
DESCRIPTION:AG Presents and Casanova Makawao are excited to welcome Desert Hollow to the Aloha Music Series “Sundays in the Country” at Casanova’s in Makawao on Sunday\, December 28th from 1-3pm. Get there early for lunch and stay for world-class music!\nDesert Hollow is where the open road meets the back porch. Blending the spirit of their roots in the California desert and West Virginia countryside\, Maui-based traveling folk duo Xander Hitzig and Nicole Olney weave dusty harmonies\, rootsy rhythms\, and a touch of cosmic twang into songs that wander through heartache\, hope\, and the strange beauty of belonging everywhere and nowhere at once.\n			\n			\n				\n				\n				\n				\n				\n				\n				\n				\n				\n				\n\nCasanova Makawao\nSunday\, Dec 28th\, 2025\nDoors: 11:30am\nShow: 1pm-3:00pm\n\n\n			\n				\n				\n				\n				\n				\n\nSHOW DETAILS\n$20 Tickets\nDoors open at 11:30am\nShow starts at 1pm\nTables available\nfirst-come\, first-served.\nFood & drinks served\nthroughout the day.\n\n\n			\n				BUY TICKETS\n			\n				\n				\n				\n				\n				Follow Us\n			\n				\n				\n				\n				\n				FollowFollowFollow\n			\n				\n				\n				\n				\n				More Details Below! \n			\n			\n				\n				\n				\n				\n			\n				\n				\n				\n				\n				\n				\n				\n				\n				\n				\n				Whether busking on the sidewalk for hundreds outside of Hardly Strictly in San Francisco\, or playing their at-home packed Thursday night residency\, the Desert Hollow live show leaves an impact. Having recently been featured in Rolling Stone following their performance at Healing Appalachia\, Desert Hollow is building anticipation for their upcoming full-length album\, Music for the Folks\, set for release in January 2026. With the first few singles now released\, the record promises their signature blend of heartfelt storytelling\, rootsy instrumentation\, and folk music — music for the folks.\nAbout Casanova Makawao\nSince 1986\, Casanova Makawao has been at the heart of the Upcountry Maui lifestyle. At the main crossroad of Historic Makawao town\, Casanova was Maui’s first wood-burning oven. Offering fresh salads\, pastas\, seafood\, and pizzas\, in 2017\, OpenTable diners rated Casanova the Best Italian Restaurant in the State of Hawaii. Learn more at CasanovaMaui.com.\n			\n				BUY TICKETS\n			\n			\n				\n				\n				\n				\n			\n				\n				\n				\n				\n				\n				\n				Back to Upcoming
URL:https://alohagrowers.com/event/sitc-desert-hollow-dec-2025/
LOCATION:Casanova Makawao\, 1188 Makawao Avenue\, Makawao\, HI\, 96768\, United States
CATEGORIES:AG Presents,Aloha Music Series,Casanova Makawao,Sundays in the Country
ATTACH;FMTTYPE=image/jpeg:https://alohagrowers.com/wp-content/uploads/2025/12/SIC_DesertHollowSqr12.28_600.jpg
END:VEVENT
BEGIN:VEVENT
DTSTART;TZID=Pacific/Honolulu:20251229T210000
DTEND;TZID=Pacific/Honolulu:20251229T230000
DTSTAMP:20260423T005720
CREATED:20251021T164157Z
LAST-MODIFIED:20251203T155336Z
UID:14397-1767042000-1767049200@alohagrowers.com
SUMMARY:Late Night Karaoke
DESCRIPTION:Casanova Makawao invites you to late night Karaoke and pizza on Mondays!\nSelect from over 30\,000 songs across all genres from 9-11 pm and share some pies with friends from 9-10pm with 12″ pizza specials!\n– Pepperoni Pizza ($18)\n– Margarita Pizza with tomato\, basil\, & fresh mozzarella ($20)\n– Cheese Pizza ($20)\n– Makawao Pizza with ham\, pineapple\, & shredded mozzarella ($24)\n			\n			\n				\n				\n				\n				\n				\n				\n				\n				\n				\n				\n\nCasanova Makawao\nMondaysKaraoke 9-11pmPizza Specials 9-10pm\n\n\n			\n				\n				\n				\n				\n				Follow Us\n			\n				\n				\n				\n				\n				FollowFollowFollow\n			\n			\n				\n				\n				\n				\n			\n				\n				\n				\n				\n				\n				\n				\n				\n				\n				\n				ABOUT CASANOVA MAKAWAO\nSince 1986\, Casanova Makawao has been at the heart of the Upcountry Maui lifestyle. At the main crossroad of Historic Makawao town\, Casanova was Maui’s first wood-burning oven. Offering fresh salads\, pastas\, seafood\, and pizzas\, in 2017\, OpenTable diners rated Casanova the Best Italian Restaurant in the State of Hawaii. Learn more at CasanovaMaui.com.\n\n			\n			\n				\n				\n				\n				\n			\n				\n				\n				\n				\n				\n				\n				Back to Upcoming\n			\n					\n					\n					\n					\n					\n						\n						\n							\n								HOME\nMENU\nPRIVATE EVENTS\nVISIT\n\n							\n							\n							\n							\n				\n					\n				\n			\n						\n						\n					\n				\n				\n				\n				\n				\n				CASANOVA MAKAWAO\nServing Dinner 7 Nights a WeekMonday – Sunday5pm – 9pm1188 Makawao AvenueMakawao\, HI\, 96768808-572-0220\nCasanovaMaui.com
URL:https://alohagrowers.com/event/monday-karaoke/
LOCATION:Casanova Makawao\, 1188 Makawao Avenue\, Makawao\, HI\, 96768\, United States
CATEGORIES:Casanova Makawao
ATTACH;FMTTYPE=image/jpeg:https://alohagrowers.com/wp-content/uploads/2025/10/karaokeMondays5_SQR_600.jpg
END:VEVENT
END:VCALENDAR