BEGIN:VCALENDAR
VERSION:2.0
PRODID:-//Aloha Growers - ECPv6.15.20//NONSGML v1.0//EN
CALSCALE:GREGORIAN
METHOD:PUBLISH
X-WR-CALNAME:Aloha Growers
X-ORIGINAL-URL:https://alohagrowers.com
X-WR-CALDESC:Events for Aloha Growers
REFRESH-INTERVAL;VALUE=DURATION:PT1H
X-Robots-Tag:noindex
X-PUBLISHED-TTL:PT1H
BEGIN:VTIMEZONE
TZID:Pacific/Honolulu
BEGIN:STANDARD
TZOFFSETFROM:-1000
TZOFFSETTO:-1000
TZNAME:HST
DTSTART:20250101T000000
END:STANDARD
END:VTIMEZONE
BEGIN:VEVENT
DTSTART;TZID=Pacific/Honolulu:20260411T190000
DTEND;TZID=Pacific/Honolulu:20260411T210000
DTSTAMP:20260422T200201
CREATED:20260222T064148Z
LAST-MODIFIED:20260222T064942Z
UID:16369-1775934000-1775941200@alohagrowers.com
SUMMARY:Skeleton Crewe Trio - Haiku\, Maui
DESCRIPTION:AG Presents is excited to bring you The Skeleton Crewe Trio\nROB BARRACO\, BARRY SLESS\, and STEPHEN INGLIS\n*Info about location and directions will be emailed with ticket purchase\nThe worlds of Hawaiian slack key guitar\, psychedelic pedal steel\, and masterful keyboard work converge as three virtuosos of the jam band scene announce the formation of Skeleton Crewe Trio. Born from a serendipitous collaboration in early 2024\, this unique musical collective features Rob Barraco (Dark Star Orchestra\, Phil Lesh & Friends\, The Dead)\, Barry Sless (Bobby Weir and Wolf Bros\, David Nelson Band\, Phil Lesh and Friends)\, and Grammy- nominated Hawaiian slack key guitarist Stephen Inglis. The group’s formation traces back to January 2024\, when Sless and Inglis first joined forces for what was meant to be a one-off performance. The chemistry was immediate and undeniable. The duo’s successful California shows caught the attention of keyboard virtuoso Rob Barraco\, who joined forces with Inglis during a Dark Star Orchestra show at the Hawaii Theatre in April 2024. The natural musical connection between all three players led to the formation of Skeleton Crewe Trio.\nThis groundbreaking collaboration brings together three distinct musical traditions: Inglis’s mastery of Hawaiian slack key guitar (he’s a recipient of the prestigious Ki Hōʻalu Legacy Award)\, Sless’s pioneering pedal steel work that has graced stages with Bob Weir and Phil Lesh\, and Barraco’s sophisticated keyboard artistry that earned him a place in The Dead’s lineup. An experience that preceded nearly two decades holding the keyboardist chameleon role within Dark Star Orchestra.\nEach performance\, Skeleton Crewe Trio promises to offer high level artistry hosting an intimate evening of original compositions (many co-written by Robert Hunter and Barraco)\, Grateful Dead interpretations\, and dynamic improvisations that span genres from traditionalHawaiian to psychedelic Americana.\nRob Barraco – Key Board\nBarry Sless – Pedal Steel\nStephen Inglis – Guitar\n​\n			\n			\n				\n				\n				\n				\n				\n				\n				\n				\n				\n				\n\nPrivate Venue – Haiku\nSaturdayApril 11\, 2026\n\n\n			\n				\n				\n				\n				\n				\n\nSHOW DETAILS\nTickets are $35 Adv / $40 Day-ofDoors open at 6:00pmShow starts at 7:00pm\n\n\n			\n				BUY TICKETS\n			\n				\n				\n				\n				\n				Follow Us\n			\n				\n				\n				\n				\n				FollowFollowFollow\n			\n				\n				\n				\n				\n				More Details Below! \n			\n			\n				\n				\n				\n				\n			\n				\n				\n				\n				\n				\n				\n				\n				\n				\n				\n				ABOUT THE SHOWThis 2-hour event will be held at a wonderful outdoor venue with professional sound and lighting located on the North Shore of Maui. The address will be emailed to you after your ticket purchase. Ticket holders will be checked in when entering the venue.\nAttendees will need to bring their ticket and ID to gain entrance to the venue. The venue is outdoors\, and there are some uneven surfaces. Ticket buyers are requested to wear flat-sole shoes. There will be an area for dancing that is covered. There will be some tables and chairs\, but you are welcome to bring a beach chair of your own if you wish. There will NOT be food and beverage served and ticket buyers are welcome to BYOB.\nPlease Arrive between 6:00 p.m. and 6:30 p.m. If you are going to the show with friends\, please try to carpool.\nPlease do not bring excessive items that create waste or trash.\nAll sales final – rain or shine\n			\n				BUY TICKETS\n			\n			\n				\n				\n				\n				\n			\n				\n				\n				\n				\n				\n				\n				Back to Upcoming
URL:https://alohagrowers.com/event/skeleton-crewe-trio-haiku-jungle/
LOCATION:Private Venue\, TBA in ticket email\, Makawao\, HI\, United States
CATEGORIES:AG Presents
ATTACH;FMTTYPE=image/jpeg:https://alohagrowers.com/wp-content/uploads/2026/02/SkeletonCrewe_4.11_haiku600.jpg
END:VEVENT
END:VCALENDAR