BEGIN:VCALENDAR
VERSION:2.0
PRODID:-//Aloha Growers - ECPv6.15.20//NONSGML v1.0//EN
CALSCALE:GREGORIAN
METHOD:PUBLISH
X-WR-CALNAME:Aloha Growers
X-ORIGINAL-URL:https://alohagrowers.com
X-WR-CALDESC:Events for Aloha Growers
REFRESH-INTERVAL;VALUE=DURATION:PT1H
X-Robots-Tag:noindex
X-PUBLISHED-TTL:PT1H
BEGIN:VTIMEZONE
TZID:Pacific/Honolulu
BEGIN:STANDARD
TZOFFSETFROM:-1000
TZOFFSETTO:-1000
TZNAME:HST
DTSTART:20250101T000000
END:STANDARD
END:VTIMEZONE
BEGIN:VEVENT
DTSTART;TZID=Pacific/Honolulu:20260410T183000
DTEND;TZID=Pacific/Honolulu:20260410T220000
DTSTAMP:20260422T200149
CREATED:20260310T034237Z
LAST-MODIFIED:20260310T034607Z
UID:16628-1775845800-1775858400@alohagrowers.com
SUMMARY:Lo Zeppelin - Maui Led Zeppelin Tribute
DESCRIPTION:The night we’ve all been waiting for…One Night Only\nAg Presents and 107.5FM The Buzz are excited to bring “Lo Zeppelin” to Mulligans Music Box for one night only\, Friday\, April 10 for a night of Led Zeppelin music live!!\nBuckle up and be prepared for a night of Led Zeppelin music performed by some of Maui’s powerhouse musicians. Lo Zeppelin Features Lo Wolf on vocals\, Nils Rosenblad on guitar\, Kai Katchadourian on drums\, Byron Townsend on guitar\, Erin Pittman on bass\, and a few special guests to round out the evening!!!\nThis show will be raw\, electric\, staright forward Led Zeppelin rock and roll\, with no brakes. Professional lighting and sound will transform the room.\nListen to 107.5 the Buzz for news\, updates and giveaways.\nDoors open at 6:00pm\nShow starts at 7:30pm\n			\n			\n				\n				\n				\n				\n				\n				\n				\n				\n				\n				\n\nMulligans on the BlueMaui\nFridayApril 10\, 2026\n\n\n			\n				\n				\n				\n				\n				\n\nSHOW DETAILS\nGA Tickets are $30\nDay Of Tickets are $40\nDoors Open at 6:00pmShow Starts at 7:30pm\nDance Floor\n\n\n			\n				BUY TICKETS\n			\n				\n				\n				\n				\n				Follow Us\n			\n				\n				\n				\n				\n				FollowFollowFollow\n			\n				\n				\n				\n				\n				More Details Below! \n			\n			\n				\n				\n				\n				\n			\n				\n				\n				\n				\n				\n				\n				BUY TICKETS\n			\n			\n				\n				\n				\n				\n			\n				\n				\n				\n				\n				\n				\n				Back to Upcoming
URL:https://alohagrowers.com/event/lo-zeppelin/
LOCATION:Mulligans On The Blue\, 100 Kaukahi St\, Kihei\, United States
CATEGORIES:AG Presents,AG Presents Mulligans Music Box
ATTACH;FMTTYPE=image/jpeg:https://alohagrowers.com/wp-content/uploads/2026/03/LoZeppelin_Sqr600.jpg
END:VEVENT
END:VCALENDAR