BEGIN:VCALENDAR
VERSION:2.0
PRODID:-//Aloha Growers - ECPv6.15.20//NONSGML v1.0//EN
CALSCALE:GREGORIAN
METHOD:PUBLISH
X-WR-CALNAME:Aloha Growers
X-ORIGINAL-URL:https://alohagrowers.com
X-WR-CALDESC:Events for Aloha Growers
REFRESH-INTERVAL;VALUE=DURATION:PT1H
X-Robots-Tag:noindex
X-PUBLISHED-TTL:PT1H
BEGIN:VTIMEZONE
TZID:Pacific/Honolulu
BEGIN:STANDARD
TZOFFSETFROM:-1000
TZOFFSETTO:-1000
TZNAME:HST
DTSTART:20250101T000000
END:STANDARD
END:VTIMEZONE
BEGIN:VEVENT
DTSTART;TZID=Pacific/Honolulu:20260217T190000
DTEND;TZID=Pacific/Honolulu:20260217T203000
DTSTAMP:20260422T230500
CREATED:20260128T164539Z
LAST-MODIFIED:20260204T171148Z
UID:16136-1771354800-1771360200@alohagrowers.com
SUMMARY:Kapali Long LIVE in Kihei
DESCRIPTION:Aloha Growers is excited to bring Kapali Long back to Maui for an intimate evening at ProArts Playhouse on Tuesday\, February 17th.\nKapali “Leadfoot” Long is a Native Hawaiian\, “Hawaiiana-Americana\, Country\, and Blues\,” singer-songwriter who is making big waves in the Country Music industry in Nashville\, where he now resides. His songwriting and guitar playing are deeply rooted in his experiences\, with a focus on authentic emotional expression and storytelling. His performances deliver truth\, power\, and the healing of music\, lifting spirits and providing relief.\n			\n			\n				\n				\n				\n				\n				\n				\n				\n				\n				\n				\n\nProArtsPlayhouse\nTuesdayFebruary 17th\, 2026\nTickets$26.50 – $42.40\n\n\n			\n				BUY TICKETS\n			\n				\n				\n				\n				\n				Follow Us\n			\n				\n				\n				\n				\n				FollowFollowFollow\n			\n				\n				\n				\n				\n				More Details Below! \n			\n			\n				\n				\n				\n				\n			\n				\n				\n				\n				\n				\n				\n				\n				\n				\n				\n				MORE ABOUT KAPALI LONG\nKapali is not only a passionate singer-songwriter with a five-octave voice\, but he is also a highly skilled guitarist\, known for his slide and lap steel playing. Kapaliʻs Hawaiian roots will take you straight to the origins of “Kika Kila”\, or Lap Steel\, where Kapali was mentored under master steel guitarist Alan Akaka. In 2016\, Kapali’s guitar playing caught the attention of Gibson Guitars\, and he has been a signed Gibson artist ever since.\nKapali has opened for Artists like legend Robert Earl Keen\, Ron Pope\, and Howie Day. Kapali has played guitar with Caroline Liar\, Nikki Lane\, and was slated to be the guitarist for Muddy Waters’ son\, Mojo Morganfield\, before his untimely passing. He has also played at major venues and festivals from; South By Southwest\, Echo Park Rising in Los Angeles\, Nikki Lane’s Horseshoe Stage at Stagecoach (1st Native Hawaiian to play Stagecoach)\, Gibson Garage Fest\, WhiskeyJam (Nashville)\, The Bluebird Cafe (Nashville)\, 3rd & Lindsley\, Grand Ole Echo (The Echo)\, Lancaster Roots & Blues\, The Troubadour\, Whiskey Jam & many more.\nKapali comes from a family with a long Hawaiian musical history\, and music has been in his life since he can remember. He is the nephew of Hawaiian musical greats Buddy Fo and Mikilani Fo\, and his grandparents were well-known musicians and performers\, who raised him with the mindset of music and ʻohana (family) from Waimanalo to Punchbowl\, where they played Country\, Blues\, Bluegrass\, and Hawaiian music together. If you follow Kapali’s musical roots\, they will lead you to connections with many musical trailblazers\, including Joseph Kekuku\, Jerry Byrd\, Hank Sr.\, Ry Cooder\, Chet Atkins\, Gabby Pahinui\, and many more.\n			\n				BUY TICKETS\n			\n			\n				\n				\n				\n				\n			\n				\n				\n				\n				\n				\n				\n				Back to Upcoming
URL:https://alohagrowers.com/event/kapali-long-feb-2026/
LOCATION:ProArts Playhouse\, 1280 South Kihei Road\, Kihei\, HI\, 96753\, United States
CATEGORIES:AG Presents
ATTACH;FMTTYPE=image/jpeg:https://alohagrowers.com/wp-content/uploads/2026/01/ericryananderson_kapalilong_0161_rev_sqr_600x600.jpg
END:VEVENT
END:VCALENDAR