BEGIN:VCALENDAR
VERSION:2.0
PRODID:-//Aloha Growers - ECPv6.15.20//NONSGML v1.0//EN
CALSCALE:GREGORIAN
METHOD:PUBLISH
X-ORIGINAL-URL:https://alohagrowers.com
X-WR-CALDESC:Events for Aloha Growers
REFRESH-INTERVAL;VALUE=DURATION:PT1H
X-Robots-Tag:noindex
X-PUBLISHED-TTL:PT1H
BEGIN:VTIMEZONE
TZID:Pacific/Honolulu
BEGIN:STANDARD
TZOFFSETFROM:-1000
TZOFFSETTO:-1000
TZNAME:HST
DTSTART:20250101T000000
END:STANDARD
END:VTIMEZONE
BEGIN:VEVENT
DTSTART;TZID=Pacific/Honolulu:20260115T190000
DTEND;TZID=Pacific/Honolulu:20260115T213000
DTSTAMP:20260423T004146
CREATED:20260103T133206Z
LAST-MODIFIED:20260103T133212Z
UID:15865-1768503600-1768512600@alohagrowers.com
SUMMARY:The Lonely Hearts Beatles and Beyond - Oahu
DESCRIPTION:Lonely Hearts Beatles & Beyond Live on Oahu\nAG Presents is taking the Lonely Hearts “Beatles and Beyond” to the Blue Note Hawai’i on Thursday\, January 15\, 2026.\nHawai’i’s fab-four\, Jimmy Dillon\, Justin Morris\, Austin Hutto\, and Steve Morris bring the energy of John\, Paul\, George\, and Ringo to every show they play. Get ready to sing along to your favorite Beatles songs.\nThere are tribute bands and then thereʻs the Lonely Hearts!\n			\n			\n				\n				\n				\n				\n				\n				\n				\n				\n				\n				Blue Note Hawaii\n			\n				\n				\n				\n				\n				ThursdayJanuary 15\, 2026\nTicket Range: $34.10 – $51.28Seating is First Come\, First Served$20 Food or BeverageMinimum Per PersonFull Bar & Full DinnerMenu Available\n			\n				BUY TICKETS\n			\n				\n				\n				\n				\n				Follow Us\n			\n				\n				\n				\n				\n				FollowFollowFollow\n			\n				\n				\n				\n				\n				More Details Below! \n			\n			\n				\n				\n				\n				\n			\n				\n				\n				\n				\n				\n				\n				\n				\n				\n				\n				MORE ABOUT THE BAND\nAll world-class musicians and Beatles aficionados\, this band plays the music of the Beatles\, and some other tunes that they think the Beatles would be playing if they were still together today. Every show is a night of groovy tunes and electric vibes\nJimmy Dillon – Guitars/VocalsJimmy Dillon is a true luminary in the world of music—With an illustrious career spanning over five decades\, Jimmy has carved a distinctive niche for himself in the industry\, captivating audiences worldwide with his soulful vocals\, heartfelt lyrics\, and exceptional guitar skills. Jimmy’s career has included touring the world with Bruce Springsteen’s saxophonist Clarence Clemons’ The Red Bank Rockers\, opening for the Beach Boys\, recording with Carlos Santana\, and playing before President Bill Clinton onstage with The Band.\nJustin Morris – Bass/VocalsOriginally hailing from West Virginia and nurtured in the scenic Appalachian Mountains\, Justin’s musical journey is deeply rooted in traditional acoustic vibes. He is a multi-instrumentalist and co-founder of international touring band\, Brown Chicken Brown Cow String Band. Justin is also a co-writer and guitarist with the Gretchen Rhodes Band. Justin brings years of experience and a solid groove to the Lonely Hearts.\nAustin Hutto – Guitars/Keys/VocalsAustin Hutto is a walking Beatles encyclopedia. He walks\, sleeps\, and breathes the Beatles. Austin is a creative by day\, who makes films and images come to life\, and a Beatle by night\, playing\, keys\, guitar and lending his vocals to the harmonies of this unique band.\nSteve Morris – Drums/VocalsSteve has had the honor since 2020 of backing his sons self named rock n’ roll outfit The Timothy Morris Band. Embarking on successful tours with bands King’s X and Everclear\, SXSW appearances\, and racking up hundreds of thousands of YouTube views. Steve also performs with The Jimmy Dillon Trio\, Roger Fisher (lead guitarist for Heart) and Austin\, TX Blues Hall of Fame Legend Chris Duarte. And now\, The Lonely Hearts Beatles and Beyond\, an intriguing modern take on the classic Beatle tunes we all love.\nBand photos: Gianna Hutto\n			\n				BUY TICKETS\n			\n			\n				\n				\n				\n				\n			\n				\n				\n				\n				\n				\n				\n				Back to Upcoming
URL:https://alohagrowers.com/event/beatles-beyond-oahu/
LOCATION:Blue Note Hawaii\, 2335 Kalakaua Ave.\, Honolulu\, HI\, United States
CATEGORIES:AG Presents
ATTACH;FMTTYPE=image/jpeg:https://alohagrowers.com/wp-content/uploads/2024/09/BeatlesWeb.jpg
END:VEVENT
END:VCALENDAR