BEGIN:VCALENDAR
VERSION:2.0
PRODID:-//Aloha Growers - ECPv6.15.20//NONSGML v1.0//EN
CALSCALE:GREGORIAN
METHOD:PUBLISH
X-WR-CALNAME:Aloha Growers
X-ORIGINAL-URL:https://alohagrowers.com
X-WR-CALDESC:Events for Aloha Growers
REFRESH-INTERVAL;VALUE=DURATION:PT1H
X-Robots-Tag:noindex
X-PUBLISHED-TTL:PT1H
BEGIN:VTIMEZONE
TZID:Pacific/Honolulu
BEGIN:STANDARD
TZOFFSETFROM:-1000
TZOFFSETTO:-1000
TZNAME:HST
DTSTART:20240101T000000
END:STANDARD
END:VTIMEZONE
BEGIN:VEVENT
DTSTART;TZID=Pacific/Honolulu:20251214T130000
DTEND;TZID=Pacific/Honolulu:20251214T153000
DTSTAMP:20260423T020439
CREATED:20251124T205749Z
LAST-MODIFIED:20251124T205759Z
UID:14789-1765717200-1765726200@alohagrowers.com
SUMMARY:Sundays in the Country with Sgt Splendor
DESCRIPTION:AG Presents and Casanova Makawao are excited to welcome Sgt Splendor – Eric McFadden + Kate Vargas to the “Sundays in the Country” Aloha Music Series at Casanova’s in beautiful Makawao on Sunday\, December 14\, 2025. Get there early for lunch and stay for the music!\nBefore joining forces\, the duo behind Sgt. Splendor were already formidable solo artists\, Kate Vargas chalking up acclaim at outlets like NPR\, HuffPost\, American Songwriter\, Rolling Stone and Vice (including praise from the “Dean of American Rock Critics” Robert Christgau); and Eric McFadden amassing an impressive resume including stints on guitar with George Clinton & the P-Funk All Stars\, Anders Osbourne\, Karl Denson\, Stockholm Syndrome\, and Eric Burdon & The Animals\, plus a slew of solo albums\, and session work with everyone from Jackson Browne to The Clash’s Joe Strummer.\n			\n			\n				\n				\n				\n				\n				\n				\n				\n				\n				\n				\n\nCasanova Makawao\nSunday\, Dec 14th\, 2025\n1:00pm-3:30pm\n\n\n			\n				\n				\n				\n				\n				\n\nSHOW DETAILS\n$20 TicketsDoors open at 11:30amShow starts at 1pmTables availablefirst-come\, first-served.Food & drinks servedthroughout the day.\n\n\n			\n				BUY TICKETS\n			\n				\n				\n				\n				\n				Follow Us\n			\n				\n				\n				\n				\n				FollowFollowFollow\n			\n				\n				\n				\n				\n				More Details Below! \n			\n			\n				\n				\n				\n				\n			\n				\n				\n				\n				\n				\n				\n				\n				\n				\n				\n				“One of the most unique bands to come out of the new millennium is the contrasting duo of Sgt. Splendor. The group consists of singer/songwriter/guitarist/flautist Kate Vargas\, and her partner in crime\, guitarist/vocalist Eric McFadden (George Clinton & P-Funk\, Eric Burdon\, Les Claypool\, etc)…is this an album for the masses?… yes. Yet it is even more so an album for the music aficionados who understand and appreciate in-depth\, heavy songwriting\, wrapped in a blanket of heavy Blues and Rock music that holds its own against anything you can throw at it.” – Tone Scott / GOLDMINE Magazine 2024\nAbout Casanova Makawao\nSince 1986\, Casanova Makawao has been at the heart of the Upcountry Maui lifestyle. At the main crossroad of Historic Makawao town\, Casanova was Maui’s first wood-burning oven. Offering fresh salads\, pastas\, seafood\, and pizzas\, in 2017\, OpenTable diners rated Casanova the Best Italian Restaurant in the State of Hawaii. Learn more at CasanovaMaui.com.\n			\n				BUY TICKETS\n			\n			\n				\n				\n				\n				\n			\n				\n				\n				\n				\n				\n				\n				Back to Upcoming
URL:https://alohagrowers.com/event/sundays-in-the-country-with-sgt-splendor/
LOCATION:Casanova Makawao\, 1188 Makawao Avenue\, Makawao\, HI\, 96768\, United States
CATEGORIES:AG Presents,Aloha Music Series,Casanova Makawao,Sundays in the Country
ATTACH;FMTTYPE=image/jpeg:https://alohagrowers.com/wp-content/uploads/2025/11/SgtSplendor12.14Sqr600.jpg
END:VEVENT
BEGIN:VEVENT
DTSTART;TZID=Pacific/Honolulu:20251214T193000
DTEND;TZID=Pacific/Honolulu:20251214T220000
DTSTAMP:20260423T020439
CREATED:20251117T205443Z
LAST-MODIFIED:20251117T205452Z
UID:14710-1765740600-1765749600@alohagrowers.com
SUMMARY:TAVANA Live in Seattle
DESCRIPTION:This December\, one of Hawaiiʻs most explosive talents\, Tavana\, is heading back to the West Coast. Heʻll be bringing the sunshine and island vibes back to the Seattle for one night only\, where he is working on an album at the famous London Bridge Studios in Seattle.\nCatch Tavana with Sabyu at Add-A-Ball on Sunday\, December 14th! Doors open at 7pm and show begins at 7:30pm.\nTavana is a one-man musical wrecking crew from Honolulu\, who uses his feet to lay down a variety of grooves while simultaneously playing guitar\, banjo\, lap steel\, or ukulele and singing deep-soulful\, island-inspired rock and blues\, bridging the gap between Hawaiian Music and Delta Blues. He consistently sells shows out in Hawaii leaving audiences in awe of his musical energy.\n			\n			\n				\n				\n				\n				\n				\n				\n				\n				\n				\n				\n\nAdd-a-BallSeattle\nSunday\, Dec 14th\, 2025\n$20.62 (Includes Fees)Doors: 7pmShow: 7:30pm\n\n\n			\n				BUY TICKETS\n			\n				\n				\n				\n				\n				Follow Us\n			\n				\n				\n				\n				\n				FollowFollowFollow\n			\n				\n				\n				\n				\n				More Details Below! \n			\n			\n				\n				\n				\n				\n			\n				\n				\n				\n				\n				\n				\n				\n				\n				\n				\n				More about Tavana\nTavana is known for his Waikiki jam sessions and regularly jams with a who’s who of players in Hawaii\, including Eddie Vedder who invited Tavana to sing ‘Hawaii 78’ – a Hawaii anthem of sorts – with him at the Hawaii Theatre. From a recording of their performance together\, Vedder produced a limited vinyl record that was sent out to 10\,000 Pearl Jam fans. Vedder also took Tavana out on tour for several dates as his opening act for his solo album. Tavana has jammed with many musical greats\, including Jack Johnson\, Pat Simmons\, Michael McDonald\, Henry Kapono\, G Love\, Willie K\, John Cruz\, Ron and Thunderstorm Artis\, and Leon Mobley (Ben Harper & The Innocent Criminals). He also has been the supporting act for Alabama Shakes\, Shakey Graves\, Xavier Rudd\, Jenny Lewis\, Julian Marley\, and Kaleo to name just a few. \nTavana is a multi-Nā Hōkū Hanohano (Hawaiian Grammy®) nominee and is currently featured on an in-flight video on all Hawaiian Airlines. He was a featured artist on Henry Kapono’s “The Songs of C&K”\, and is also a featured “Playing for Change” artist.\n“He’s more the exception than the rule\, he is a great human and I’m glad to know him”\n—Eddie Vedder\n“Tavana is a man on a mission and big opportunities await his arrival. As a human being and friend\, Tavana’s a chill guy\, honest and easygoing. I believe he’s on the edge of going big.”\n— Henry Kapono\n			\n				BUY TICKETS\n			\n			\n				\n				\n				\n				\n			\n				\n				\n				\n				\n				\n				\n				Back to Upcoming
URL:https://alohagrowers.com/event/tavana-live-in-seattle/
LOCATION:Add-a-Ball\, 315 N 36th St #2b\, Seattle\, WA\, 98103\, United States
CATEGORIES:AG Presents
ATTACH;FMTTYPE=image/jpeg:https://alohagrowers.com/wp-content/uploads/2025/11/Tavana_Add-A-Ball-SQR-12.14.25_600.jpg
END:VEVENT
END:VCALENDAR