BEGIN:VCALENDAR
VERSION:2.0
PRODID:-//Aloha Growers - ECPv6.15.20//NONSGML v1.0//EN
CALSCALE:GREGORIAN
METHOD:PUBLISH
X-ORIGINAL-URL:https://alohagrowers.com
X-WR-CALDESC:Events for Aloha Growers
REFRESH-INTERVAL;VALUE=DURATION:PT1H
X-Robots-Tag:noindex
X-PUBLISHED-TTL:PT1H
BEGIN:VTIMEZONE
TZID:Pacific/Honolulu
BEGIN:STANDARD
TZOFFSETFROM:-1000
TZOFFSETTO:-1000
TZNAME:HST
DTSTART:20240101T000000
END:STANDARD
END:VTIMEZONE
BEGIN:VEVENT
DTSTART;TZID=Pacific/Honolulu:20251205T180000
DTEND;TZID=Pacific/Honolulu:20251205T200000
DTSTAMP:20260423T015618
CREATED:20251110T152135Z
LAST-MODIFIED:20251110T152558Z
UID:14655-1764957600-1764964800@alohagrowers.com
SUMMARY:Sgt Splendor - Kona
DESCRIPTION:Sgt Splendor – Eric McFadden + Kate Vargas\nAG presents is excited to bring Sgt Splendor; featuring Kate Vargas and Eric McFadden\, to Kona on Friday\, December 5th for a free show at Willie’s Hot Chicken.\nBefore joining forces\, the duo behind Sgt. Splendor were already formidable solo artists\, Kate Vargas chalking up acclaim at outlets like NPR\, HuffPost\, American Songwriter\, Rolling Stone and Vice (including praise from the “Dean of American Rock Critics” Robert Christgau); and Eric McFadden amassing an impressive resume including stints on guitar with George Clinton & the P-Funk All Stars\, Anders Osbourne\, Karl Denson\, Stockholm Syndrome\, and Eric Burdon & The Animals\, plus a slew of solo albums\, and session work with everyone from Jackson Browne to The Clash’s Joe Strummer.\n			\n			\n				\n				\n				\n				\n				\n				\n				\n				\n				\n				Willie’s HotChickenKona\nFridayDec. 5\, 2025\nThis is a FREE event!\n			\n				\n				\n				\n				\n				Follow Us\n			\n				\n				\n				\n				\n				FollowFollowFollow\n			\n				\n				\n				\n				\n				More Details Below! \n			\n			\n				\n				\n				\n				\n			\n				\n				\n				\n				\n				\n				\n				\n				\n				\n				\n				Sgt. Splendor’s upcoming album “ISOTOPIA” is slated for release in November 2025. The first two singles from the album\, “Hey\, Splendor” and “Money In It\,” featuring Norwood Fisher (Fishbone) on bass and Paulo Baldi (Les Claypool) on drums\, are available now.\n“One of the most unique bands to come out of the new millennium is the contrasting duo of Sgt. Splendor. The group consists of singer/songwriter/guitarist/flautist Kate Vargas\, and her partner in crime\, guitarist/vocalist Eric McFadden (George Clinton & P-Funk\, Eric Burdon\, Les Claypool\, etc)…is this an album for the masses?… yes. Yet it is even more so an album for the music aficionados who understand and appreciate in-depth\, heavy songwriting\, wrapped in a blanket of heavy Blues and Rock music that holds its own against anything you can throw at it. “ – Tone Scott / GOLDMINE Magazine 2024\n			\n			\n				\n				\n				\n				\n			\n				\n				\n				\n				\n				\n				\n				Back to Upcoming
URL:https://alohagrowers.com/event/sgt-splendor-kona/
LOCATION:Willie’s Hot Chicken\, 74-5599 Pawai Place\, Kailua Kona\, HI\, 96740\, United States
CATEGORIES:AG Presents
ATTACH;FMTTYPE=image/jpeg:https://alohagrowers.com/wp-content/uploads/2025/11/SgtSpledorSqrWillies_12.5_600.jpg
END:VEVENT
END:VCALENDAR