BEGIN:VCALENDAR
VERSION:2.0
PRODID:-//Aloha Growers - ECPv6.15.20//NONSGML v1.0//EN
CALSCALE:GREGORIAN
METHOD:PUBLISH
X-ORIGINAL-URL:https://alohagrowers.com
X-WR-CALDESC:Events for Aloha Growers
REFRESH-INTERVAL;VALUE=DURATION:PT1H
X-Robots-Tag:noindex
X-PUBLISHED-TTL:PT1H
BEGIN:VTIMEZONE
TZID:Pacific/Honolulu
BEGIN:STANDARD
TZOFFSETFROM:-1000
TZOFFSETTO:-1000
TZNAME:HST
DTSTART:20240101T000000
END:STANDARD
END:VTIMEZONE
BEGIN:VEVENT
DTSTART;TZID=Pacific/Honolulu:20250928T130000
DTEND;TZID=Pacific/Honolulu:20250928T153000
DTSTAMP:20260423T101211
CREATED:20250831T202658Z
LAST-MODIFIED:20251020T182733Z
UID:13747-1759064400-1759073400@alohagrowers.com
SUMMARY:Sundays in the Country Featuring Above Snakes Country
DESCRIPTION:On September 28\, 2025\, Mauiʻs premier honky-tonk-country band\, Above Snakes Country\, will bring an afternoon of music celebrating Classic Country and Honky Tonk to Casanova Makawao. The doors open at 11:30am and the show starts at 1pm.\n			\n			\n				\n				\n				\n				\n				\n				\n				\n				\n				\n				\n\nCasanova Makawao\nSundaySeptember 28th\, 20251:00pm-3:30pm\n\n\n			\n				\n				\n				\n				\n				\n\nSHOW DETAILS\n$20 TicketsDoors Open at 11:30amShow Starts at 1pmTables First-Come\, First-ServedFood & Drinks Throughout the Day\n\n\n			\n				BUY TICKETS\n			\n				\n				\n				\n				\n				Follow Us\n			\n				\n				\n				\n				\n				FollowFollowFollow\n			\n				\n				\n				\n				\n				More Details Below! \n			\n			\n				\n				\n				\n				\n			\n				\n				\n				\n				\n				\n				\n				\n				\n				\n				\n				ABOUT ABOVE SNAKES COUNTRY\nAbove Snakes Country is Mauiʻs premier honky-tonk-country band. This trail-blazing band features Marty Fera on drums (Glenn Frey\, Joe Walsh\, and Dave Mason)\, Matt Del Olmo on guitar and vocals\, Tim Hackbarth on bass\, and Justin Morris on guitar and vocals (Brown Chicken Brown Cow).\nExpect a day of music celebrating Classic Country and Honky Tonk\, that will have you dancing in your cowboy boots. \nTickets online are $20 + $1.40 processing fee\, and $20 at the door. Doors open at 11:30am and the show starts at 1:00pm. Tables will be available on a first-come\, first-served basis\, and food + beverages will be served throughout the day.\nABOUT CASANOVA MAKAWAO\nSince 1986\, Casanova Makawao has been at the heart of the Upcountry Maui lifestyle. At the main crossroad of Historic Makawao town\, Casanova was Maui’s first wood-burning oven. Offering fresh salads\, pastas\, seafood\, and pizzas\, in 2017\, OpenTable diners rated Casanova the Best Italian Restaurant in the State of Hawaii. Learn more at CasanovaMaui.com.\n \n			\n				BUY TICKETS\n			\n			\n				\n				\n				\n				\n			\n				\n				\n				\n				\n				\n				\n				Back to Upcoming
URL:https://alohagrowers.com/event/sundays-in-the-country-featuring-above-snakes/
LOCATION:Casanova Makawao\, 1188 Makawao Avenue\, Makawao\, HI\, 96768\, United States
CATEGORIES:AG Presents,Aloha Music Series,Casanova Makawao,Sundays in the Country
ATTACH;FMTTYPE=image/jpeg:https://alohagrowers.com/wp-content/uploads/2025/08/SIC_AboveSnakesSqr9.28_600-1.jpg
END:VEVENT
END:VCALENDAR