BEGIN:VCALENDAR
VERSION:2.0
PRODID:-//Aloha Growers - ECPv6.15.20//NONSGML v1.0//EN
CALSCALE:GREGORIAN
METHOD:PUBLISH
X-ORIGINAL-URL:https://alohagrowers.com
X-WR-CALDESC:Events for Aloha Growers
REFRESH-INTERVAL;VALUE=DURATION:PT1H
X-Robots-Tag:noindex
X-PUBLISHED-TTL:PT1H
BEGIN:VTIMEZONE
TZID:Pacific/Honolulu
BEGIN:STANDARD
TZOFFSETFROM:-1000
TZOFFSETTO:-1000
TZNAME:HST
DTSTART:20240101T000000
END:STANDARD
END:VTIMEZONE
BEGIN:VEVENT
DTSTART;TZID=Pacific/Honolulu:20250914T130000
DTEND;TZID=Pacific/Honolulu:20250914T153000
DTSTAMP:20260423T140011
CREATED:20250831T204136Z
LAST-MODIFIED:20251020T182744Z
UID:13755-1757854800-1757863800@alohagrowers.com
SUMMARY:Sundays in the Country Featuring Benny Uyetake + Friends
DESCRIPTION:AG Presents and Casanova Makawao are excited to welcome Benny Uyetake + Friends to the Aloha Music Series Sundays in the Country in beautiful Makawao on September 14th from 1-3:30pm.\nBenny welcomes Wilson Kanakaole\, Brian Haia\, and Hula by Wailani\nUncle Benny Uyetake is a Hawaiian treasure who plays across all genres of music! Benny will introduce you to the new sounds from the islands and transport you to old Hawaiʻi as he hosts upcoming artists and Hawaiʻi’s legends. Benny welcomes Wilson Kanakaole and Brian Haia\, along with hula dancing from Polynesian Dancer & Cultural Ambassador Wailani Mulvihill.\n			\n			\n				\n				\n				\n				\n				\n				\n				\n				\n				\n				\n\nCasanova Makawao\nSundaySeptember 14th\, 20251:00pm-3:30pm\n\n\n			\n				\n				\n				\n				\n				\n\nSHOW DETAILS\nOnline: $20 + $1.40 Processing FeeAt Door: $20Doors Open at 11:30amShow Starts at 1pmTables First-Come\, First-ServedFood & Bevs Throughout the Day\n\n\n			\n				BUY TICKETS\n			\n				\n				\n				\n				\n				Follow Us\n			\n				\n				\n				\n				\n				FollowFollowFollow\n			\n				\n				\n				\n				\n				More Details Below! \n			\n			\n				\n				\n				\n				\n			\n				\n				\n				\n				\n				\n				\n				\n				\n				\n				\n				ABOUT THE ARTISITS\nBenny Uyetake has played with some of the world’s finest musicians on Maui and while touring. Over the years Benny has shared the stage with some of Hawaiʻi’s greatest trailblazers like Uncle Willie K and Barry Flanagan of HAPA\, as well as the world’s most talented jazz players Les McCann\, Russel Malone\, and Donald Harrison. His versatility comes from his years of musical study in different genres with mentors in classical\, jazz\, Hawaiian\, Blues\, and rock.\nWilson Kanaka’ole\, a guitarist and vocalist\, grew up in Lahaina\, attended the University of Hawai’i Maui College’s Institute of Hawaiian Music and has appeared on records by the Barefoot Natives and other island musicians. He comes from a family of talented musicians\, including his father\, Eric Kanaka’ole\, and uncle\, the late ‘ukulele legend Nelson Waikiki.\nBorn and raised on the island of Oʻahu\, Wailani Mulvihill began her hula journey at the tender age of three. With nearly six decades of dance experience\, her love and dedication to the art of hula and Polynesian dance have taken her across the world — from the shores of Kaʻanapali and Wailea to the stages of Japan\, Hong Kong\, Germany\, Switzerland\, France\, Belgium\, and throughout the United States.\nABOUT CASANOVA MAKAWAO\nSince 1986\, Casanova Makawao has been at the heart of the Upcountry Maui lifestyle. At the main crossroad of Historic Makawao town\, Casanova was Maui’s first wood-burning oven. Offering fresh salads\, pastas\, seafood\, and pizzas\, in 2017\, OpenTable diners rated Casanova the Best Italian Restaurant in the State of Hawaii. Learn more at CasanovaMaui.com.\n			\n				BUY TICKETS\n			\n			\n				\n				\n				\n				\n			\n				\n				\n				\n				\n				\n				\n				Back to Upcoming
URL:https://alohagrowers.com/event/sundays-in-the-country-featuring-benny-uyetake-friends/
LOCATION:Casanova Makawao\, 1188 Makawao Avenue\, Makawao\, HI\, 96768\, United States
CATEGORIES:AG Presents,Aloha Music Series,Casanova Makawao,Sundays in the Country
ATTACH;FMTTYPE=image/jpeg:https://alohagrowers.com/wp-content/uploads/2025/08/SIC_Benny_9.14_600.jpg
END:VEVENT
END:VCALENDAR