BEGIN:VCALENDAR
VERSION:2.0
PRODID:-//Aloha Growers - ECPv6.15.20//NONSGML v1.0//EN
CALSCALE:GREGORIAN
METHOD:PUBLISH
X-ORIGINAL-URL:https://alohagrowers.com
X-WR-CALDESC:Events for Aloha Growers
REFRESH-INTERVAL;VALUE=DURATION:PT1H
X-Robots-Tag:noindex
X-PUBLISHED-TTL:PT1H
BEGIN:VTIMEZONE
TZID:Pacific/Honolulu
BEGIN:STANDARD
TZOFFSETFROM:-1000
TZOFFSETTO:-1000
TZNAME:HST
DTSTART:20240101T000000
END:STANDARD
END:VTIMEZONE
BEGIN:VEVENT
DTSTART;TZID=Pacific/Honolulu:20250831T130000
DTEND;TZID=Pacific/Honolulu:20250831T153000
DTSTAMP:20260423T141935
CREATED:20250728T202226Z
LAST-MODIFIED:20251020T182755Z
UID:13684-1756645200-1756654200@alohagrowers.com
SUMMARY:Sundays in the Country Featuring Above Snakes
DESCRIPTION:On August 31\, 2025\, Mauiʻs premier honky-tonk-country band\, Above Snakes\, will bring an afternoon of music celebrating Classic Country and Honky Tonk to Casanova Makawao. The doors open at 11:30am and the show starts at 1pm.\n			\n			\n				\n				\n				\n				\n				\n				\n				\n				\n				\n				\n\nCasanova Makawao\nSunday\, August 31th\, 2025\n1:00pm-3:30pm\n\n\n			\n				\n				\n				\n				\n				\n\nSHOW DETAILS\n$20 TicketsDoors open at 11:30amShow starts at 1pmTables availablefirst-come\, first-served.Food & drinks servedthroughout the day.\n\n\n			\n				BUY TICKETS\n			\n				\n				\n				\n				\n				Follow Us\n			\n				\n				\n				\n				\n				FollowFollowFollow\n			\n				\n				\n				\n				\n				More Details Below! \n			\n			\n				\n				\n				\n				\n			\n				\n				\n				\n				\n				\n				\n				\n				\n				\n				\n				More About Above Snakes\nThis trail-blazing band features Marty Fera on drums (Glenn Fry\, Joe Walsh\, and Dave Mason)\, Matt Del Olmo on guitar and vocals\, Tim Hackbarth on bass\, and Justin Morris on guitar and vocals (Brown Chicken Brown Cow).\n			\n				BUY TICKETS\n			\n			\n				\n				\n				\n				\n			\n				\n				\n				\n				\n				\n				\n				Back to Upcoming
URL:https://alohagrowers.com/event/sitc-above-snakes-aug-2025/
LOCATION:Casanova Makawao\, 1188 Makawao Avenue\, Makawao\, HI\, 96768\, United States
CATEGORIES:AG Presents,Aloha Music Series,Casanova Makawao,Sundays in the Country
ATTACH;FMTTYPE=image/jpeg:https://alohagrowers.com/wp-content/uploads/2025/07/SIC_AboveSnakesSqr600-2.jpg
END:VEVENT
END:VCALENDAR