BEGIN:VCALENDAR
VERSION:2.0
PRODID:-//Aloha Growers - ECPv6.15.20//NONSGML v1.0//EN
CALSCALE:GREGORIAN
METHOD:PUBLISH
X-ORIGINAL-URL:https://alohagrowers.com
X-WR-CALDESC:Events for Aloha Growers
REFRESH-INTERVAL;VALUE=DURATION:PT1H
X-Robots-Tag:noindex
X-PUBLISHED-TTL:PT1H
BEGIN:VTIMEZONE
TZID:Pacific/Honolulu
BEGIN:STANDARD
TZOFFSETFROM:-1000
TZOFFSETTO:-1000
TZNAME:HST
DTSTART:20240101T000000
END:STANDARD
END:VTIMEZONE
BEGIN:VEVENT
DTSTART;TZID=Pacific/Honolulu:20250612T193000
DTEND;TZID=Pacific/Honolulu:20250612T210000
DTSTAMP:20260425T034651
CREATED:20250513T215623Z
LAST-MODIFIED:20250617T005325Z
UID:13291-1749756600-1749762000@alohagrowers.com
SUMMARY:Shane Hall’s COUPE DVLLE - King Tide Summer Tour 2025 - OAHU
DESCRIPTION:Shane Hall’s Coupe Dvlle – The King Tide Summer Tour 2025\nAG Presents is excited to welcome back to the HB Social Club – Slack Key Lounge The KING TIDE Summer Tour featuring Shane Hall’s COUPE DVLLE. The last time they were in Hawaii\, Shane and Mike delivered powerful and memorable performances across the state with two sellouts. Coupe Dvlle is a power duo that delivers a full sound of a rock band and can best be described as “Fuzz Funk Voodoo Blues”.\n			\n			\n				\n				\n				\n				\n				\n				\n				\n				\n				\n				Slack Key Lounge – Oahu\nThursdayJune 12\, 2025\n			\n				BUY TICKETS\n			\n				\n				\n				\n				\n				Follow Us\n			\n				\n				\n				\n				\n				FollowFollowFollow\n			\n				\n				\n				\n				\n				More Details Below! \n			\n			\n				\n				\n				\n				\n			\n				\n				\n				\n				\n				\n				\n				\n				\n				\n				\n				ABOUT THE EVENT\nShane Hall’s Coupe Dvlle – The King Tide Summer Tour 2025\nJune 12\, 2025\nAG Presents is excited to welcome back to the HB Social Club – Slack Key Lounge The KING TIDE Summer Tour featuring Shane Hall’s COUPE DVLLE. The last time they were in Hawaii\, Shane and Mike delivered powerful and memorable performances across the state with two sellouts. Coupe Dvlle is a power duo that delivers a full sound of a rock band and can best be described as “Fuzz Funk Voodoo Blues”.\nA king tide is the highest predicted tide of the year at a coastal location and the perfect name for this highly anticipated tour featuring this explosive artist.\nShane Hall is an award-winning singer-songwriter based in Oceanside\, California whose electrifying presence is redefining the Indie music scene. With his signature “Fuzz Funk Voodoo Blues\,” Hall masterfully blends elements of Blues\, Soul\, Funk\, Americana\, Rock\, and Alternative into a captivating and one-of-a-kind sound that resonates with authenticity.\nDoors at 7:00pm • Show at 7:30pm\nVIP TICKETS $25 – Guaranteed seats in front of the stage\nGA TICKETS $20 – Limited seating available\n$2 Validated Parking on Site\n			\n				BUY TICKETS\n			\n			\n				\n				\n				\n				\n			\n				\n				\n				\n				\n				\n				\n				Back to Upcoming
URL:https://alohagrowers.com/event/shane-halls-coupe-dvlle-king-tide-summer-tour-2025/
LOCATION:Slack Key Lounge Hawaii\, 1680 Kapiolani Boulevard\, 2nd Floor\, Honolulu\, HI\, 96814\, United States
CATEGORIES:AG Presents
ATTACH;FMTTYPE=image/jpeg:https://alohagrowers.com/wp-content/uploads/2025/05/ShaneHallSqr_Oahu_600.jpg
END:VEVENT
END:VCALENDAR