BEGIN:VCALENDAR
VERSION:2.0
PRODID:-//Aloha Growers - ECPv6.15.20//NONSGML v1.0//EN
CALSCALE:GREGORIAN
METHOD:PUBLISH
X-ORIGINAL-URL:https://alohagrowers.com
X-WR-CALDESC:Events for Aloha Growers
REFRESH-INTERVAL;VALUE=DURATION:PT1H
X-Robots-Tag:noindex
X-PUBLISHED-TTL:PT1H
BEGIN:VTIMEZONE
TZID:Pacific/Honolulu
BEGIN:STANDARD
TZOFFSETFROM:-1000
TZOFFSETTO:-1000
TZNAME:HST
DTSTART:20240101T000000
END:STANDARD
END:VTIMEZONE
BEGIN:VEVENT
DTSTART;TZID=Pacific/Honolulu:20250503T193000
DTEND;TZID=Pacific/Honolulu:20250503T220000
DTSTAMP:20260425T064039
CREATED:20250401T120224Z
LAST-MODIFIED:20250401T120232Z
UID:13026-1746300600-1746309600@alohagrowers.com
SUMMARY:JMoCo Live on Oahu
DESCRIPTION:JMoCo Live on Oahu\nAG Presents is taking Justin Morris & Company’s Stardust Revival Tour to Oahu for an evening of of vintage tone\, psychedelic jams\, heavy hooks\, group harmonies\, and rock-n-roll revival at the Slack Key Lounge on Saturday\, May 3\, 2025!\n			\n			\n				\n				\n				\n				\n				\n				\n				\n				\n				\n				Slack Key LoungeOahu\nSaturdayMay 3\, 2025\n			\n				INFO & TICKETS\n			\n				\n				\n				\n				\n				Follow Us\n			\n				\n				\n				\n				\n				FollowFollowFollow\n			\n				\n				\n				\n				\n				More Details Below! \n			\n			\n				\n				\n				\n				\n			\n				\n				\n				\n				\n				\n				\n				\n				\n				\n				\n				ABOUT THE BAND\nThe foundation of JMoCo is built on a powerhouse tribe of like-minded musicians. Hard-hitting drummer Steve Morris can only be compared to a thundering herd of rhinos on the kit. Bassist Pato Z brings a fluid world style that keeps the grooves (and the audience) dancing. Vocalist and organist Natalie Nicole Robles will have you feeling the gospel with her soulful vocals. Each band member comes from a different school of music\, yet effortlessly all flow as one\, collectively making Justin Morris & Company a deep well of driving creativity.\nPC: Sean Michael Hower\n  \n  \n			\n				INFO & TICKETS\n			\n			\n				\n				\n				\n				\n			\n				\n				\n				\n				\n				\n				\n				Back to Upcoming
URL:https://alohagrowers.com/event/jmoco-oahu-may-2025/
LOCATION:Slack Key Lounge Hawaii\, 1680 Kapiolani Boulevard\, 2nd Floor\, Honolulu\, HI\, 96814\, United States
CATEGORIES:AG Presents
ATTACH;FMTTYPE=image/jpeg:https://alohagrowers.com/wp-content/uploads/2025/03/JMoCO_Tour_OAHU_SQR600.jpg
END:VEVENT
END:VCALENDAR