BEGIN:VCALENDAR
VERSION:2.0
PRODID:-//Aloha Growers - ECPv6.15.20//NONSGML v1.0//EN
CALSCALE:GREGORIAN
METHOD:PUBLISH
X-ORIGINAL-URL:https://alohagrowers.com
X-WR-CALDESC:Events for Aloha Growers
REFRESH-INTERVAL;VALUE=DURATION:PT1H
X-Robots-Tag:noindex
X-PUBLISHED-TTL:PT1H
BEGIN:VTIMEZONE
TZID:Pacific/Honolulu
BEGIN:STANDARD
TZOFFSETFROM:-1000
TZOFFSETTO:-1000
TZNAME:HST
DTSTART:20240101T000000
END:STANDARD
END:VTIMEZONE
BEGIN:VEVENT
DTSTART;TZID=Pacific/Honolulu:20251003T193000
DTEND;TZID=Pacific/Honolulu:20251003T213000
DTSTAMP:20260423T031856
CREATED:20250913T155846Z
LAST-MODIFIED:20251020T182701Z
UID:13946-1759519800-1759527000@alohagrowers.com
SUMMARY:Bayou Brothers Revival - A Tribute to Creedence Clearwater Revival
DESCRIPTION:AG Presents is excited to bring you Hawai’i’s newest tribute band\, BBR\, “Bayou Brothers Revival” paying tribute to one of the greatest song writing bands\, Creedence Clearwater Revival. \nJoin us October 3rd at Mulligans on the Blue in Wailea for a trip through the Bayou!The band consists of Austin Hutto on guitar and lead vocals\, pulling off Jon Fogerty’s vocals like you’ve never heard!! Justin Morris on bass and vocals\, and Steve Morris on drums and vocals. If you’re familiar with the Lonely Hearts Beatles and Beyond\, then you’ll know how good these guys are!\n			\n			\n				\n				\n				\n				\n				\n				\n				\n				\n				\n				\n\nMulligans on the Blue\nFridayOctober 3\, 2025\n\n\n			\n				\n				\n				\n				\n				\n\nSHOW DETAILS\nTickets are $20Doors open at 6:30pmShow starts at 7:30pm\n\n\n			\n				BUY TICKETS\n			\n				\n				\n				\n				\n				Follow Us\n			\n				\n				\n				\n				\n				FollowFollowFollow\n			\n				\n				\n				\n				\n				More Details Below! \n			\n			\n				\n				\n				\n				\n			\n				\n				\n				\n				\n				\n				\n				\n				\n				\n				\n				Bust out your flannels and let’s get ready to hit the Bayou with some of the greatest rock music ever written!! You’ll be singing along from the first song to the last!\nDoors 6:30pmShow: 7:30pmTickets: $20\nphotos: @ShootsByGianna\n			\n				BUY TICKETS\n			\n			\n				\n				\n				\n				\n			\n				\n				\n				\n				\n				\n				\n				Back to Upcoming
URL:https://alohagrowers.com/event/bayou-brothers-revival-a-tribute-to-creedence-clearwater-revival/
LOCATION:Mulligans On The Blue\, 100 Kaukahi St\, Kihei\, United States
CATEGORIES:AG Presents,AG Presents Mulligans Music Box
ATTACH;FMTTYPE=image/jpeg:https://alohagrowers.com/wp-content/uploads/2025/09/BBR_SQR_10.03_600.jpg
END:VEVENT
BEGIN:VEVENT
DTSTART;TZID=Pacific/Honolulu:20251004T190000
DTEND;TZID=Pacific/Honolulu:20251004T213000
DTSTAMP:20260423T031856
CREATED:20250903T234231Z
LAST-MODIFIED:20250910T194355Z
UID:13799-1759604400-1759613400@alohagrowers.com
SUMMARY:Andrew Molina - Old Princeton Landing
DESCRIPTION:Experience Maui’s ukulele virtuoso\, Andrew Molina and his dad Jay\, as they showcase the versatility and beauty of this amazing four-string instrument at Old Princeton Landing in Half Moon Bay.\nA three-time Nā Hōkū Hanohano award nominee\, Andrew is celebrated for his innovative approach\, blending traditional Hawaiian sounds with rock classics like Aerosmith’s “Dream On” and Guns N’ Roses’ “Sweet Child O’ Mine.” His performances and songwriting continue to push the boundaries of what’s possible on the ukulele\, inspiring audiences worldwide.\n“Andrew Molina is one of my favorite musicians. He works incredibly hard on his craft and approaches the ukulele in such a unique way.” —Jake Shimabukuro\nAndrew and Jay have toured the East and West coasts of the US multiple times and performed at the Maui Ukulele Festival\, the Tacoma Ukulele Festival in Washington\, the Los Angeles International Ukulele Festival\, the Tahiti International Ukulele Festival\, the Austrian Ukulele Festival\, the Music China Expo Show in Shanghai\, China\, and the Grand Northern Ukulele Festival in Northern England.\n			\n			\n				\n				\n				\n				\n				\n				\n				\n				\n				\n				\n\nOld Princeton Landing\n460 Capistrano Rd.Half Moon Bay\,CA 94019\nSaturdayOct. 4\, 2025\n\n\n			\n				\n				\n				\n				\n				\n\nSHOW DETAILS\n$10 In advance OR$15 At the doorDoors open at 6:00pmShow starts at 7:00pmFood & drinks available for purchase.\n\n\n			\n				BUY TICKETS\n			\n				\n				\n				\n				\n				Follow Us\n			\n				\n				\n				\n				\n				FollowFollowFollow\n			\n				\n				\n				\n				\n				More Details Below! \n			\n			\n				\n				\n				\n				\n			\n				\n				\n				\n				\n				\n				\n				\n				\n				\n				\n				ABOUT OLD PRINCETON LANDING (OPL)Re-opened in the fall of 2010 by brothers Brian and Peter Overfelt\, Old Princeton Landing welcomes locals and visitors alike. With the recent merging of the adjoining restaurant to the bar\, we’ve named the entire facility Old Princeton Landing Public House and Grill.\nPeter and Brian Overfelt were raised on the Coast and grew up surfing in California before they ventured all over the world. The food they ate while on surf trips in places like Australia\, Indonesia\, Brazil\, Central America\, Morocco\, and Mexico left a lasting impression and has inspired much of what’s served at OPL today.\n			\n				BUY TICKETS\n			\n			\n				\n				\n				\n				\n			\n				\n				\n				\n				\n				\n				\n				Back to Upcoming
URL:https://alohagrowers.com/event/andrew-molina-old-princeton-landing-half-moon-bay-ca/
LOCATION:Old Princeton Landing\, 460 Capistrano Rd\, Half Moon Bay\, california\, 94019\, United States
CATEGORIES:AG Presents,Aloha Music Series
ATTACH;FMTTYPE=image/jpeg:https://alohagrowers.com/wp-content/uploads/2025/09/AndrewOPLSqrV600-AMS.jpg
END:VEVENT
BEGIN:VEVENT
DTSTART;TZID=Pacific/Honolulu:20251004T193000
DTEND;TZID=Pacific/Honolulu:20251004T213000
DTSTAMP:20260423T031857
CREATED:20250912T181528Z
LAST-MODIFIED:20250915T154523Z
UID:13932-1759606200-1759613400@alohagrowers.com
SUMMARY:Rowdy Love Live at Mulligans
DESCRIPTION:Rowdy Love Live in the Mulligans Music Box!\nAloha Growers Presents and Mulligans on the Blue welcome Rowdy Love and their full band for a night of Rockabilly Americana that will have you dancing all night! Join us for dinner and stay for the music and dancing! Tables and seating are first-come\, first-served.\n			\n			\n				\n				\n				\n				\n				\n				\n				\n				\n				\n				\n\nMulligans on the Blue – Wailea\nSaturday\, Oct. 4\, 2025\nTickets $10Door: 6:30pmShow: 7:30pm\n\n\n			\n				BUY TICKETS\n			\n				\n				\n				\n				\n				Follow Us\n			\n				\n				\n				\n				\n				FollowFollowFollow\n			\n				\n				\n				\n				\n				More Details Below! \n			\n			\n				\n				\n				\n				\n			\n				\n				\n				\n				\n				\n				\n				\n				\n				\n				\n				Who is Rowdy Love? Aaron Jernigan and Stina Lynn are wild souls who met on a little farm in Haiku\, Hawai’i over a decade ago. Seeing as they both had the same taste in music they decided to start singing tunes together at parties and potlucks. After a successful run with their band Flat Jackson\, Aaron and Stina started Rowdy Love. With the new band behind them\, Clint Bleifus (rhythm and lead guitars)\, Jonas Troxell (Bass)\, and Paul Gilespie (Drums)\, they have created a unique but familiar sound that can best be described as a Rockabilly-Americana mash-up with the energy of punk and the subtle undertones of ska. They are a Rockabilly powerhouse that will turn any event into a dancehall\, shakedown\, hootenanny… And don’t forget to bring your dancing shoes!\nRowdy Love has been packing venues and dance floors with every show they’ve done\, gaining new fans of all ages along the way. They have even recently started their own annual festival on Maui called “Rowdy Fest.”\n$10Show starts at 7:30pmDoors open at 6:30pm\n			\n				BUY TICKETS\n			\n			\n				\n				\n				\n				\n			\n				\n				\n				\n				\n				\n				\n				Back to Upcoming
URL:https://alohagrowers.com/event/rowdy-love-oct-4-2025/
LOCATION:Mulligans On The Blue\, 100 Kaukahi St\, Kihei\, United States
CATEGORIES:AG Presents,AG Presents Mulligans Music Box
ATTACH;FMTTYPE=image/jpeg:https://alohagrowers.com/wp-content/uploads/2025/09/RowdyLoveSqR600-1.jpg
END:VEVENT
BEGIN:VEVENT
DTSTART;TZID=Pacific/Honolulu:20251012T130000
DTEND;TZID=Pacific/Honolulu:20251012T153000
DTSTAMP:20260423T031857
CREATED:20250930T142622Z
LAST-MODIFIED:20251020T182610Z
UID:14112-1760274000-1760283000@alohagrowers.com
SUMMARY:Sundays in the Country with Three to 5
DESCRIPTION:AG Presents and Casanova Makawao are excited to welcome Three to 5 to the Aloha Music Series “Sundays in the Country” at Casanova’s in Beautiful Makawao on Sunday\, October 12\, 2025.\nJoin us for a lively performance by Three to 5\, an elite instrumental funk and soul group. Composed of seasoned musicians who have individually supported renowned acts\, the band has made its mark by opening for national touring artists in Hawaii and backing the legendary bassist George Porter Jr. from the iconic New Orleans band\, The Meters. Three to 5’s dynamic sound and infectious energy promise to funkify the dance floor and deliver an unforgettable experience.\n			\n			\n				\n				\n				\n				\n				\n				\n				\n				\n				\n				\n\nCasanova Makawao\nSundayOctober 12\, 20251:00pm-3:30pm\n\n\n			\n				\n				\n				\n				\n				\n\nSHOW DETAILS\n$20 Tickets Online & At DoorDoors Open at 11:30amShow Starts at 1pmTables First-Come\, First-ServedFood & Drinks Throughout the Day\n\n\n			\n				BUY TICKETS\n			\n				\n				\n				\n				\n				Follow Us\n			\n				\n				\n				\n				\n				FollowFollowFollow\n			\n				\n				\n				\n				\n				More Details Below! \n			\n			\n				\n				\n				\n				\n			\n				\n				\n				\n				\n				\n				\n				\n				\n				\n				\n				ABOUT CASANOVA MAKAWAO\nSince 1986\, Casanova Makawao has been at the heart of the Upcountry Maui lifestyle. At the main crossroad of Historic Makawao town\, Casanova was Maui’s first wood-burning oven. Offering fresh salads\, pastas\, seafood\, and pizzas\, in 2017\, OpenTable diners rated Casanova the Best Italian Restaurant in the State of Hawaii. Learn more at CasanovaMaui.com.\n \n			\n				BUY TICKETS\n			\n			\n				\n				\n				\n				\n			\n				\n				\n				\n				\n				\n				\n				Back to Upcoming
URL:https://alohagrowers.com/event/sitc-with-three-to-5/
LOCATION:Casanova Makawao\, 1188 Makawao Avenue\, Makawao\, HI\, 96768\, United States
CATEGORIES:AG Presents,Aloha Music Series,Casanova Makawao,Sundays in the Country
ATTACH;FMTTYPE=image/jpeg:https://alohagrowers.com/wp-content/uploads/2025/09/SIC_325_9.21_600.jpg
END:VEVENT
BEGIN:VEVENT
DTSTART;TZID=Pacific/Honolulu:20251018T190000
DTEND;TZID=Pacific/Honolulu:20251018T220000
DTSTAMP:20260423T031857
CREATED:20250929T140728Z
LAST-MODIFIED:20250929T140922Z
UID:14079-1760814000-1760824800@alohagrowers.com
SUMMARY:Rocktober with The ROUNDABOUTS & Friends
DESCRIPTION:AG Presents and Mulligans On The Blue are excited to bring you Rocktober with the ROUNDABOUTS on Saturday\, October 18th\, from 7-10pm.\nThe ROUNDABOUTS have invited two other bands to join them. Annie and the Orfinz\, and The Satterday Saints. 3 bands\, 1 show. Costumes are highly encouraged. Let’s hit the dance floor to some of your favorite 80s and 90s songs!\nJoin Mulligans On The Blue for dinner and stay for music and dancing!\n			\n			\n				\n				\n				\n				\n				\n				\n				\n				\n				\n				\n\nMulligansOn The Blue\nSaturdayOctober 18\, 2025\n\n\n			\n				\n				\n				\n				\n				\n\nSHOW DETAILS\nTickets are $10 Online/$15 At DoorDoors open at 6:00pmShow starts at 7:00pm\n\n\n			\n				BUY TICKETS\n			\n				\n				\n				\n				\n				Follow Us\n			\n				\n				\n				\n				\n				FollowFollowFollow\n			\n				\n				\n				\n				\n				More Details Below! \n			\n			\n				\n				\n				\n				\n			\n				\n				\n				\n				\n				\n				\n				\n				\n				\n				\n				ABOUT THE ROUNDABOUTSThe ROUNDABOUTS are not your average cover band. Starting as a group of experienced musicians from various backgrounds\, they all had one thing in common: a love of rock ‘n’ roll. Longing for more rock shows on Maui\, they decided to take matters into their own hands. With electrifying vocals\, raging guitar solos\, thumping bass\, and banging beats\, The Roundabouts perform some rarely-heard-live hits while bringing the best of the B-side to the South Side. Spanning all decades and genres from The Police\, Bon Jovi\, and Poison to The Offspring\, My Chemical Romance\, and Olivia Rodrigo (spliced together with Ozzy Osbourne!)\, there’s something for everyone to rock out to.\nBecca Miller leads the band on vocals\, Kevin Johnson on drums\, Nick Thompson and Kris Baca on guitars\, and Sean Robinson on bass. Rock\, alt\, pop\, a lil’ country\, a pinch of metal\, and a dash of ska\, it’s never the same set twice\, but always nothin’ but a good time!\nABOUT THE SATTERDAY SAINTSThe Satterday Saints was started by lead singer/drummer\, Patrick Tavis and guitarist\, Cody Saito\, in the mid-2000’s. The two were roommates living in West Hollywood\, while Cody attended school for music arts.\nThe two\, along with former bassist\, Zane Zwicker\, started playing gigs at just about every venue on Maui in 2009. Opening for bands like The Vandals\, Agent Orange\, Guttermouth and NOFX.\nBassist\, Marvin Fulgencio\, moved to Maui in 2016 from Northen California\, and met Patrick and Cody shortly after. Marvin joined the band in the summer of 2022 and the trio has been playing together since. You can stream their shows live at twitch.tv/ thesatterdaysaints.\n			\n				BUY TICKETS\n			\n			\n				\n				\n				\n				\n			\n				\n				\n				\n				\n				\n				\n				Back to Upcoming
URL:https://alohagrowers.com/event/rocktober-with-the-roundabouts-friends/
LOCATION:Mulligans On The Blue\, 100 Kaukahi St\, Kihei\, United States
CATEGORIES:AG Presents,AG Presents Mulligans Music Box
ATTACH;FMTTYPE=image/jpeg:https://alohagrowers.com/wp-content/uploads/2025/09/RoudaboutsRocktoberSQR_600.jpg
END:VEVENT
BEGIN:VEVENT
DTSTART;TZID=Pacific/Honolulu:20251024T180000
DTEND;TZID=Pacific/Honolulu:20251024T210000
DTSTAMP:20260423T031857
CREATED:20250915T180657Z
LAST-MODIFIED:20250917T140129Z
UID:14003-1761328800-1761339600@alohagrowers.com
SUMMARY:JMoCO - Justin Morris & Company Live in Haiku - With Visual Experience
DESCRIPTION:AG Presents is excited to bring you the return of Justin Morris and Company on Friday\, October 24th. Step into the portal with us as our new visual Artist\, Markus Kunzal (Astral Nomad)\, will present a special visual showcase for this show.\nWe’re excited to be coming back to the jungle for some space jams and rock-and-roll revival. JMoCo has some new songs and arrangements. Additionally\, we have a visual artist on the team\, Markus Kunzal from Astral Nomad\, who is the mastermind behind the Art=Mixx and FuzzBox visuals. Buckle up and let’s go for a ride!\nJMoCo’s sound is a blend of vintage tone\, psychedelic jams\, heavy hooks\, group harmonies\, and a rock ‘n’ roll revival. You can find JMoCo’s roots growing deep in the musical vocabulary of influential guitar legends such as Warren Haynes\, Tony Iommi\, and Billy Gibbons.\n			\n			\n				\n				\n				\n				\n				\n				\n				\n				\n				\n				\n\nPrivate Venue – Haiku\nFridayOctober 24\, 2025\n\n\n			\n				\n				\n				\n				\n				\n\nSHOW DETAILS\nTickets are $30 Earlybird/$35 GeneralDoors open at 6:00pmShow starts at 7:00pm\n\n\n			\n				BUY TICKETS\n			\n				\n				\n				\n				\n				Follow Us\n			\n				\n				\n				\n				\n				FollowFollowFollow\n			\n				\n				\n				\n				\n				More Details Below! \n			\n			\n				\n				\n				\n				\n			\n				\n				\n				\n				\n				\n				\n				\n				\n				\n				\n				ABOUT JUSTIN MORRIS & COMPANYJustin Morris & Company\, also known as JMoCo\, is the sonic brainchild of Maui musician and songwriter Justin Morris. Born and raised in the Appalachian Mountains of Southern West Virginia\, Justin Morris is a national touring artist who focuses his energy on original music. He is known for his deep vocals\, crafty guitar playing\, and authentic tone. The music of JMoCo is grounded in Justin’s free-spirited songwriting style and imaginative perspective.\nJustin Morris & Company is Justin’s latest project\, bringing together some of Hawai’i‘s top talent to play originals and unique covers. We are also now featuring visual artist\, Markus Kunzel\, who will be putting on an amazing light/visual show.\n			\n			\n				\n				\n				\n				\n			\n				\n				\n				\n				\n				\n				\n				\n				\n				\n				\n				ABOUT THE SHOWThis 2-hour event will be held at a wonderful outdoor venue with professional sound and lighting located on the North Shore of Maui. The address will be emailed to you after your ticket purchase. Ticket holders will be checked in when entering the venue.\nAttendees will need to bring their ticket and ID to gain entrance to the venue. The venue is outdoors\, and there are some uneven surfaces. Ticket buyers are requested to wear flat-sole shoes. There will be an area for dancing that is covered. There will be some tables and chairs\, but you are welcome to bring a beach chair of your own if you wish. There will NOT be food and beverage served and ticket buyers are welcome to BYOB.\nPlease Arrive between 6:00 p.m. and 6:30 p.m. If you are going to the show with friends\, please try to carpool.\nPlease do not bring excessive items that create waste or trash.\nAll sales final – rain or shine\n			\n				BUY TICKETS\n			\n			\n				\n				\n				\n				\n			\n				\n				\n				\n				\n				\n				\n				Back to Upcoming
URL:https://alohagrowers.com/event/jmoco-justin-morris-and-company-live-in-haiku-with-visual-experience/
LOCATION:Private Venue\, TBA in ticket email\, Makawao\, HI\, United States
CATEGORIES:AG Presents
ATTACH;FMTTYPE=image/jpeg:https://alohagrowers.com/wp-content/uploads/2025/09/JMoCo_SQR10.24_600-1.jpg
END:VEVENT
BEGIN:VEVENT
DTSTART;TZID=Pacific/Honolulu:20251026T130000
DTEND;TZID=Pacific/Honolulu:20251026T153000
DTSTAMP:20260423T031857
CREATED:20250930T161945Z
LAST-MODIFIED:20251021T184533Z
UID:14123-1761483600-1761492600@alohagrowers.com
SUMMARY:Sundays in the Country with Kaina Kountry
DESCRIPTION:AG Presents and Casanova Makawao are excited to welcome Kaina Kountry to the “Sundays in the Country” Aloha Music Series at Casanova’s in beautiful Makawao on October 26\, 2025.\nKaina Kountry\, a well-known authentic Maui country band\, has entertained audiences for over ten years on Maui. Andy Kaina’s distinctive vocals\, backed by some of the island’s most accomplished musicians\, give the band’s unique interpretations of songs their signature sound. The band’s setlist blends classic country and classic rock tunes with local favorites. Kaina Kountry consists of Andy Kaina on guitar and vocals\, Justin Morris on guitar and vocals\, Glenn Cambra on drums\, and Raymond Cabebe on bass and vocals.\n			\n			\n				\n				\n				\n				\n				\n				\n				\n				\n				\n				\n\nCasanova Makawao\nSundayOctober 26\, 20251:00pm-3:30pm\n\n\n			\n				\n				\n				\n				\n				\n\nSHOW DETAILS\n$20 Tickets Online & At DoorDoors Open at 11:30amShow Starts at 1pmTables First-Come\, First-ServedFood & Drinks Throughout the Day\n\n\n			\n				BUY TICKETS\n			\n				\n				\n				\n				\n				Follow Us\n			\n				\n				\n				\n				\n				FollowFollowFollow\n			\n			\n				\n				\n				\n				\n			\n				\n				\n				\n				\n				\n				\n				\n				\n				\n				\n				ABOUT CASANOVA MAKAWAO\nSince 1986\, Casanova Makawao has been at the heart of the Upcountry Maui lifestyle. At the main crossroad of Historic Makawao town\, Casanova was Maui’s first wood-burning oven. Offering fresh salads\, pastas\, seafood\, and pizzas\, in 2017\, OpenTable diners rated Casanova the Best Italian Restaurant in the State of Hawaii. Learn more at CasanovaMaui.com.\n\n			\n				BUY TICKETS\n			\n			\n				\n				\n				\n				\n			\n				\n				\n				\n				\n				\n				\n				Back to Upcoming
URL:https://alohagrowers.com/event/sitc-with-kaina-kountry/
LOCATION:Casanova Makawao\, 1188 Makawao Avenue\, Makawao\, HI\, 96768\, United States
CATEGORIES:AG Presents,Aloha Music Series,Casanova Makawao,Sundays in the Country
ATTACH;FMTTYPE=image/jpeg:https://alohagrowers.com/wp-content/uploads/2025/09/KK-SICSQR1_600.jpg
END:VEVENT
END:VCALENDAR