BEGIN:VCALENDAR
VERSION:2.0
PRODID:-//Aloha Growers - ECPv6.15.20//NONSGML v1.0//EN
CALSCALE:GREGORIAN
METHOD:PUBLISH
X-WR-CALNAME:Aloha Growers
X-ORIGINAL-URL:https://alohagrowers.com
X-WR-CALDESC:Events for Aloha Growers
REFRESH-INTERVAL;VALUE=DURATION:PT1H
X-Robots-Tag:noindex
X-PUBLISHED-TTL:PT1H
BEGIN:VTIMEZONE
TZID:Pacific/Honolulu
BEGIN:STANDARD
TZOFFSETFROM:-1000
TZOFFSETTO:-1000
TZNAME:HST
DTSTART:20240101T000000
END:STANDARD
END:VTIMEZONE
BEGIN:VEVENT
DTSTART;TZID=Pacific/Honolulu:20251224T173000
DTEND;TZID=Pacific/Honolulu:20251224T203000
DTSTAMP:20260423T071835
CREATED:20251209T183929Z
LAST-MODIFIED:20251209T184338Z
UID:15093-1766597400-1766608200@alohagrowers.com
SUMMARY:Christmas Eve with Andrew & Jay Molina
DESCRIPTION:AG Presents is excited to bring the Aloha Music Series to Mulligans On The Blue for a very special Ukulele Holiday Show with Andrew and Jay Molina on Christmas Eve from 5:30-8:30pm.\nExperience one of Hawaii‘s great ukulele-fronted duos\, (father + son) Andrew and Jay Molina\, as they share songs\, stories\, and laughter while taking you on a musical journey throughout the “World of Ukulele” for this special holiday show. Mulligans will be serving a special holiday menu for this special evening.\nCome enjoy a special holiday dinner\, drinks\, sunset\, and explore the world of ukulele music!\n			\n			\n				\n				\n				\n				\n				\n				\n				\n				\n				\n				\n\nMulligansOn The Blue\nThursday\, Dec 25\, 2025\n\n\n			\n				\n				\n				\n				\n				\n\nSHOW DETAILS\nDoors: 5pmShow: 5:30pm\n$10 with OpenTable Reservation$15 at Door with No Reservation\n\n\n			\n				MAKE RESERVATIONS\n			\n				\n				\n				\n				\n				Follow Us\n			\n				\n				\n				\n				\n				FollowFollowFollow\n			\n				\n				\n				\n				\n				More Details Below! \n			\n			\n				\n				\n				\n				\n			\n				\n				\n				\n				\n				\n				\n				\n				\n				\n				\n				Andrews’ 3 albums have all been nominated for “Ukulele Album of the Year” at the prestigious “Nā Hōkū Hanohano” music awards (Hawaii’s version of the Grammys)\, and he has also been featured on the cover of England’s Uke Magazine. His music has also been featured in video promotions for Hawaiian Airlines and Ocean Vodka.\nFrom sweet Hawaiian sounds to Aerosmith’s “Dream On\,” Guns N’ Roses “Sweet Child O’ Mine\,” “Stairway To Heaven” and even the “Game of Thrones” theme\, Andrew\, along with his dad Jay on bass and guitar\, proves that anything is possible on the ukulele! He is always looking to take the ukulele to the next level and inspire people of all ages by showing them what is possible on this humble little 4-string instrument.\n“Andrew Molina is one of my favorite musicians. He works incredibly hard on his craft and approaches the ukulele in such a unique way” — Jake Shimabukuro\n“Andrew Molina is among a new generation of Hawaiian ukulele players taking a global-sized approach to what’s possible on the ukulele” -Greg Olwell — Ukulele Magazine\n“This guy has serious ukulele chops\, and he’s capable of breathing life into any style with sheer virtuosity” — Blair Jackson – Ukulele Magazine\n			\n				MAKE RESERVATIONS\n			\n			\n				\n				\n				\n				\n			\n				\n				\n				\n				\n				\n				\n				Back to Upcoming
URL:https://alohagrowers.com/event/christmas-eve-andrew-jay/
LOCATION:Mulligans On The Blue\, 100 Kaukahi St\, Kihei\, United States
CATEGORIES:AG Presents,AG Presents Mulligans Music Box,Aloha Music Series
ATTACH;FMTTYPE=image/jpeg:https://alohagrowers.com/wp-content/uploads/2025/12/UkuleleHolidaysSqr600.jpg
END:VEVENT
END:VCALENDAR