BEGIN:VCALENDAR
VERSION:2.0
PRODID:-//Aloha Growers - ECPv6.15.20//NONSGML v1.0//EN
CALSCALE:GREGORIAN
METHOD:PUBLISH
X-ORIGINAL-URL:https://alohagrowers.com
X-WR-CALDESC:Events for Aloha Growers
REFRESH-INTERVAL;VALUE=DURATION:PT1H
X-Robots-Tag:noindex
X-PUBLISHED-TTL:PT1H
BEGIN:VTIMEZONE
TZID:Pacific/Honolulu
BEGIN:STANDARD
TZOFFSETFROM:-1000
TZOFFSETTO:-1000
TZNAME:HST
DTSTART:20240101T000000
END:STANDARD
END:VTIMEZONE
BEGIN:VEVENT
DTSTART;TZID=Pacific/Honolulu:20250726T193000
DTEND;TZID=Pacific/Honolulu:20250726T213000
DTSTAMP:20260424T041619
CREATED:20250709T174751Z
LAST-MODIFIED:20250709T174758Z
UID:13619-1753558200-1753565400@alohagrowers.com
SUMMARY:Rowdy Love Live in South Maui
DESCRIPTION:Rowdy Love Live in South Maui\nAloha Growers Presents and Mulligans on the Blue welcome Rowdy Love and their full band for a night of Rockabilly Americana that will have you dancing all night! Show is from 7:30 to 9:30pm.\n			\n			\n				\n				\n				\n				\n				\n				\n				\n				\n				\n				\n\nMulligans on the Blue – Wailea\nSaturday\, July 26\, 2025\n\n\n			\n				BUY TICKETS\n			\n				\n				\n				\n				\n				Follow Us\n			\n				\n				\n				\n				\n				FollowFollowFollow\n			\n				\n				\n				\n				\n				More Details Below! \n			\n			\n				\n				\n				\n				\n			\n				\n				\n				\n				\n				\n				\n				\n				\n				\n				\n				Who is Rowdy Love? Aaron Jernigan and Stina Lynn are wild souls who met on a little farm in Haiku\, Hawai’i over a decade ago. On that first meeting\, they wailed away on their guitars singing covers that they both knew by Mississippi John Hurt\, Johnny Cash\, John Prine\, and Gillian Welch. Seeing as they both had the same taste in music they decided to start singing tunes together at parties and potlucks. After a successful run with their band Flat Jackson\, Aaron and Stina started Rowdy Love. With the new band behind them\, Clint Bleifus (rhythm and lead guitars)\, Jonas Troxell (Bass)\, and Paul Gilespie (Drums)\, they have created a unique but familiar sound that can best be described as a Rockabilly-Americana mash-up with the energy of punk and the subtle undertones of ska. They have created a Rockabilly powerhouse that will turn any event into a dancehall\, shakedown\, hootenanny… And donʻt forget to bring your dancing shoes!\nRowdy Love has been packing venues and dance floors with every show they’ve done\, gaining new fans of all ages along the way. They have even recently started their own annual festival on Maui called “Rowdy Fest”.\nShow starts at 7:30pm. Doors open at 6:30pm. Join us for dinner and stay for the music and dancing! Tables and seating are first come first serve.\n$10 Pre-sale Online – $15 Day-of and at the Door.\n			\n				BUY TICKETS\n			\n			\n				\n				\n				\n				\n			\n				\n				\n				\n				\n				\n				\n				Back to Upcoming
URL:https://alohagrowers.com/event/rowdy-love-live-in-south-maui/
LOCATION:Mulligans On The Blue\, 100 Kaukahi St\, Kihei\, United States
CATEGORIES:AG Presents,AG Presents Mulligans Music Box
ATTACH;FMTTYPE=image/jpeg:https://alohagrowers.com/wp-content/uploads/2025/07/RowdySquare7-26-25_600.jpg
END:VEVENT
END:VCALENDAR