BEGIN:VCALENDAR
VERSION:2.0
PRODID:-//Aloha Growers - ECPv6.15.20//NONSGML v1.0//EN
CALSCALE:GREGORIAN
METHOD:PUBLISH
X-ORIGINAL-URL:https://alohagrowers.com
X-WR-CALDESC:Events for Aloha Growers
REFRESH-INTERVAL;VALUE=DURATION:PT1H
X-Robots-Tag:noindex
X-PUBLISHED-TTL:PT1H
BEGIN:VTIMEZONE
TZID:Pacific/Honolulu
BEGIN:STANDARD
TZOFFSETFROM:-1000
TZOFFSETTO:-1000
TZNAME:HST
DTSTART:20250101T000000
END:STANDARD
END:VTIMEZONE
BEGIN:VEVENT
DTSTART;TZID=Pacific/Honolulu:20260102T190000
DTEND;TZID=Pacific/Honolulu:20260102T220000
DTSTAMP:20260423T072117
CREATED:20251118T205208Z
LAST-MODIFIED:20251212T131019Z
UID:14725-1767380400-1767391200@alohagrowers.com
SUMMARY:Brown Chicken Brown Cow String Band w/Kapali Long Opening
DESCRIPTION:Aloha Growers and Mulligans On The Blue welcome Brown Chicken Brown Cow to kick-off 2026 in the Mulligans Music Box on January 2\, 2026. Opening the show is Kapali “Leadfoot” Long\, followed by 2 sets of Brown Chicken Brown Cow! \nBrown Chicken Brown Cow String Band is a national touring band whose roots originated in the Appalachian Mountains of southern West Virginia. Band members are Orion Hitzig\, Xander Hitzig\, Justin Morris\, and Matt Del Olmo\, all of whom are multi-instrumental musicians who have spent over a decade together on and off stage. During that time they have created a rare and deep bond that can be heard and observed in their music. The band members listen and react to subtle nuances in each other’s playing that create spontaneous ripples of creativity\, making their sound unique and recognizable from performance to performance.\n			\n			\n				\n				\n				\n				\n				\n				\n				\n				\n				\n				\n\nMulligansOn The Blue\nFridayJan. 2\, 2026\n\n\n			\n				\n				\n				\n				\n				\n\nSHOW DETAILS\n25 Tickets Available at $25+1.50 (processing fee)30 Tickets Available at $30+1.60 (processing fee)General Admission $35.00+1.70 (processing fee)Doors Open at 6pmShow Starts at 7pmTables & seating arefirst-come\, first-served\n\n\n			\n				BUY TICKETS\n			\n				\n				\n				\n				\n				Follow Us\n			\n				\n				\n				\n				\n				FollowFollowFollow\n			\n				\n				\n				\n				\n				More Details Below! \n			\n			\n				\n				\n				\n				\n			\n				\n				\n				\n				\n				\n				\n				\n				\n				\n				\n				More About Kapali “Leadfoot” LongKapali is a Native Hawaiian “Hawaiiana-Americana\, Country\, and Blues” singer-songwriter\, who is making big waves in the Country Music industry in Nashville\, where he now resides. Kapali’s songwriting and guitar playing are deeply rooted in his experiences\, focusing on authentic emotional expression and storytelling\, and his performances are “Music Church\, ”delivering truth\, power\, and the healing of music to lift spirits and provide relief.\n			\n				BUY TICKETS\n			\n				Back to Upcoming
URL:https://alohagrowers.com/event/brownchicken-browncow-1-2-2026/
LOCATION:Mulligans On The Blue\, 100 Kaukahi St\, Kihei\, United States
CATEGORIES:AG Presents,AG Presents Mulligans Music Box
ATTACH;FMTTYPE=image/jpeg:https://alohagrowers.com/wp-content/uploads/2025/11/BCBC-Kapali-Sqr600-rev.jpg
END:VEVENT
BEGIN:VEVENT
DTSTART;TZID=Pacific/Honolulu:20260109T200000
DTEND;TZID=Pacific/Honolulu:20260109T220000
DTSTAMP:20260423T072117
CREATED:20251218T193628Z
LAST-MODIFIED:20251219T154121Z
UID:15634-1767988800-1767996000@alohagrowers.com
SUMMARY:The Exiles – Rolling Stones Tribute
DESCRIPTION:AG Presents\, The Buzz 107.5FM\,  and Mulligans on the Blue are excited to bring you the Exiles! This legendary Maui group honors the pre-1976 era of one the greatest Rock-and-Roll bands in the World\, The Rolling Stones.\nFeaturing Nilks Rosenblad on Guitar\, Lo Wolf on vocals\, Byron Townsend on guitar\, Tim Hackbarth on Bass\, “Berto” Pietro on percussion\, Rock Hendricks (Rock has recorded with Michael Jackson\, Bonnie Raitt and Sammy Hager) on saxophone\, Marty Fera on drums\, and radio personality Jack Gist MCing and playing harmonica.\nSeating is first-come\, first-served. We recommended getting here early. Come for dinner and stay for the music!\n			\n			\n				\n				\n				\n				\n				\n				\n				\n				\n				\n				\n\nMulligansOn The Blue\nFridayJanuary 9\, 2026\n\n\n			\n				\n				\n				\n				\n				\n\nSHOW DETAILS\nEarlybird Tickets: $20+1.40(processing fee)General Admission: $25+1.5(processing fee)$30 at the DoorDoors open at 7pmShow starts at 8pmSeating is first-come\,first-served.\n\n\n			\n				BUY TICKETS\n			\n				\n				\n				\n				\n				Follow Us\n			\n				\n				\n				\n				\n				FollowFollowFollow\n			\n				\n				\n				\n				\n				More Details Below! \n			\n			\n				\n				\n				\n				\n			\n				\n				\n				\n				\n				\n				\n				\n				\n				\n				\n				“THE EXILES have been called a Rolling Stones tribute band. What they really are is a Loud\, kick-ass\, hard rock band that plays a shit load of Stones songs. Don’t tell your parents!!” —Stephen Holding\, Rock and Roll Photographer\n			\n				BUY TICKETS\n			\n			\n				\n				\n				\n				\n			\n				\n				\n				\n				\n				\n				\n				Back to Upcoming
URL:https://alohagrowers.com/event/exiles-jan-2026/
LOCATION:Mulligans On The Blue\, 100 Kaukahi St\, Kihei\, United States
CATEGORIES:AG Presents,AG Presents Mulligans Music Box
ATTACH;FMTTYPE=image/jpeg:https://alohagrowers.com/wp-content/uploads/2025/12/Exiles-Square1.9_600-1.jpg
END:VEVENT
BEGIN:VEVENT
DTSTART;TZID=Pacific/Honolulu:20260117T193000
DTEND;TZID=Pacific/Honolulu:20260117T213000
DTSTAMP:20260423T072117
CREATED:20251208T121912Z
LAST-MODIFIED:20260103T133316Z
UID:15061-1768678200-1768685400@alohagrowers.com
SUMMARY:The Lonely Hearts Beatles & Beyond Live on Maui
DESCRIPTION:Lonely Hearts Beatles & Beyond Live on Maui with U2 Tribute Band ÷ by 2 Opening the Show!\nAG Presents brings you the Lonely Hearts “Beatles and Beyond” to Mulligans on the Blue on Saturday\, January 17\, 2026. Hawai’i’s fab-four\, Jimmy Dillon\, Justin Morris\, Austin Hutto\, and Steve Morris bring the energy of John\, Paul\, George\, and Ringo to every show they play.\nGet ready to dance and sing along to your favorite Beatles songs. There are tribute bands and then thereʻs the Lonely Hearts!\nOpening the show is Tim and Steve Morris playing the songs of U2\, as ÷ by 2.\n			\n			\n				\n				\n				\n				\n				\n				\n				\n				\n				\n				Mulligans On The Blue\n			\n				\n				\n				\n				\n				SaturdayJanuary 17\, 2026\nLimited Earlybird Tickets$20.00 + $1.40 Service Fee\nGeneral Admission$25 + $1.50 Service Fee\nDay-of/Door$30\n			\n				BUY TICKETS\n			\n				\n				\n				\n				\n				Follow Us\n			\n				\n				\n				\n				\n				FollowFollowFollow\n			\n				\n				\n				\n				\n				More Details Below! \n			\n			\n				\n				\n				\n				\n			\n				\n				\n				\n				\n				\n				\n				\n				\n				\n				\n				MORE ABOUT THE BAND\nAll world-class musicians and Beatles aficionados\, this band plays the music of the Beatles\, and some other tunes that they think the Beatles would be playing if they were still together today. Every show is a night of groovy tunes and electric vibes\nJimmy Dillon – Guitars/VocalsJimmy Dillon is a true luminary in the world of music—With an illustrious career spanning over five decades\, Jimmy has carved a distinctive niche for himself in the industry\, captivating audiences worldwide with his soulful vocals\, heartfelt lyrics\, and exceptional guitar skills. Jimmy’s career has included touring the world with Bruce Springsteen’s saxophonist Clarence Clemons’ The Red Bank Rockers\, opening for the Beach Boys\, recording with Carlos Santana\, and playing before President Bill Clinton onstage with The Band.\nJustin Morris – Bass/VocalsOriginally hailing from West Virginia and nurtured in the scenic Appalachian Mountains\, Justin’s musical journey is deeply rooted in traditional acoustic vibes. He is a multi-instrumentalist and co-founder of international touring band\, Brown Chicken Brown Cow String Band. Justin is also a co-writer and guitarist with the Gretchen Rhodes Band. Justin brings years of experience and a solid groove to the Lonely Hearts.\nAustin Hutto – Guitars/Keys/VocalsAustin Hutto is a walking Beatles encyclopedia. He walks\, sleeps\, and breathes the Beatles. Austin is a creative by day\, who makes films and images come to life\, and a Beatle by night\, playing\, keys\, guitar and lending his vocals to the harmonies of this unique band.\nSteve Morris – Drums/VocalsSteve has had the honor since 2020 of backing his sons self named rock n’ roll outfit The Timothy Morris Band. Embarking on successful tours with bands King’s X and Everclear\, SXSW appearances\, and racking up hundreds of thousands of YouTube views. Steve also performs with The Jimmy Dillon Trio\, Roger Fisher (lead guitarist for Heart) and Austin\, TX Blues Hall of Fame Legend Chris Duarte. And now\, The Lonely Hearts Beatles and Beyond\, an intriguing modern take on the classic Beatle tunes we all love.\nBand photos: Gianna Hutto\n			\n				BUY TICKETS\n			\n			\n				\n				\n				\n				\n			\n				\n				\n				\n				\n				\n				\n				Back to Upcoming
URL:https://alohagrowers.com/event/beatles-beyond-jan-2026/
LOCATION:Mulligans On The Blue\, 100 Kaukahi St\, Kihei\, United States
CATEGORIES:AG Presents,AG Presents Mulligans Music Box
ATTACH;FMTTYPE=image/jpeg:https://alohagrowers.com/wp-content/uploads/2025/12/BeatlesBeyondSquare_by_2_600.jpg
END:VEVENT
BEGIN:VEVENT
DTSTART;TZID=Pacific/Honolulu:20260124T193000
DTEND;TZID=Pacific/Honolulu:20260124T220000
DTSTAMP:20260423T072117
CREATED:20251202T185405Z
LAST-MODIFIED:20260119T144714Z
UID:14859-1769283000-1769292000@alohagrowers.com
SUMMARY:Pacific Bridge Tour with JMoCo + BWRR - Maui Stop
DESCRIPTION:ALL ABOARD! Aloha Growers connects Maui to Alaska with Alaska’s Blackwater Railroad (BWRR) and Maui’s Justin Morris & Company (JMoCo). Get on board at the Maui stop in Wailea on Saturday\, January 24th at Mulligans On The Blue.\nMaui’s JMoCo is an Experience all to its own\, the band with a mix of vintage tone\, psychedelic jams\, heavy hooks\, group harmonies\, and Rock-n-Roll- a sound we call Stardust Revival\, accompanied by spacey visuals that transport time. Featuring Justin Morris (Lead Vocal & Guitar)\, Steve Morris (Drums & Vocal)\, Natalie Nicole Robles (Keyboard &Vocal)\, Pato Z (Bass & Vocal)\, Lopaka Colon (Percussion)\, and Markus Künzel (Visual Artist).\nJMoCo’s special member\, Visual Artist\, Markus Künzal from Astral Projections (the mastermind behind Art=Mixx and FuzzBox visuals)\, will have a special visual showcase for this show.\n			\n				\n				\n				\n				\n				\n			\n			\n				\n				\n				\n				\n				\n				\n				\n				\n				\n				\n\nMulligansOn The Blue\nSaturdayJan. 24\, 2026\n\n\n			\n				\n				\n				\n				\n				\n\nSHOW DETAILS\n25 Limited Early Bird Tickets at $25+1.5030 Limited Early Bird Tickets at $30+1.60General Tickets are $35+1.70Day of Show Tickets are $40\nDoors Open at 6:30pmShow Starts at 7:30pm\nSeating is first-come\, first-served.Your ticket does not guarantee a seat.All sales final – rain or shine.\n\n\n			\n				BUY TICKETS\n			\n				\n				\n				\n				\n				Follow Us\n			\n				\n				\n				\n				\n				FollowFollowFollow\n			\n				\n				\n				\n				\n				More Details Below! \n			\n			\n				\n				\n				\n				\n			\n				\n				\n				\n				\n				\n				\n				\n				\n				\n				\n				Blackwater Railroad Company began in Seward\, Alaska. BWRR’s high-energy shows were born out of wild\, blurry\, Alaskan winter nights. Made up of Tyson T. Davis (Lead Vocals & Guitar); Braden Astorga-Rollins (Tenor Saxophone\, Vocals); Kyle Comeau (Keyboard & Vocals); Miguel Reina (Bass Guitar)\, and Ben Rogers (Drums & Percussion). The band played on the top of mountains\, next to towering glaciers\, and afloat out in the Gulf of Alaska. Performing from Nome to Haines\, Fairbanks to Seward\, on the Highway and off\, touring most of the lower 48 and its second home of Hawaii.\n			\n				\n				\n				\n				\n				ABOUT JUSTIN MORRIS & COMPANY\nJustin Morris grew up with a musical family in the New River Gorge region of the Appalachian Mountains. His affinity for music and the adventure of chasing performance opportunities led him to travel through the United States\, including Alaska\, Hawaii\, and Puerto Rico. Rock’n’roll\, Classic Country\, Honky Tonk\, Americana/Bluegrass are the sounds that fostered his journey. Justin lives on the island of Maui\, Hawai’i\, where he is prolific in the music scene and takes pride in knowing his community. Justin is proud to be part of the Brown Chicken Brown Cow String Band\, Gretchen Rhodes Band\, The Lonely Hearts\, and Above Snakes Country. Find more information at JMoCo.com.\nABOUT BLACKWATER RAILROAD COMPANY (BWRR)\nSeward-based folk band Blackwater Railroad Co. has experienced its share of lineup changes over the years\, but it has maintained its mission of promoting good vibes and good times. Built from opposing backgrounds\, coincidentally brought together by love of music and Alaska\, BWRR has evolved into one of Alaska’s most beloved acts. Find more information at BlackwaterRailroad.com.\n			\n				BUY TICKETS\n			\n			\n				\n				\n				\n				\n			\n				\n				\n				\n				\n				\n				\n				Back to Upcoming
URL:https://alohagrowers.com/event/pacific-bridge-maui-stop/
LOCATION:Mulligans On The Blue\, 100 Kaukahi St\, Kihei\, United States
CATEGORIES:AG Presents,AG Presents Mulligans Music Box
ATTACH;FMTTYPE=image/jpeg:https://alohagrowers.com/wp-content/uploads/2025/12/JMoCo_BWRR_PBR_MulligansSQR-600x600-1.jpg
END:VEVENT
END:VCALENDAR