BEGIN:VCALENDAR
VERSION:2.0
PRODID:-//Aloha Growers - ECPv6.15.20//NONSGML v1.0//EN
CALSCALE:GREGORIAN
METHOD:PUBLISH
X-WR-CALNAME:Aloha Growers
X-ORIGINAL-URL:https://alohagrowers.com
X-WR-CALDESC:Events for Aloha Growers
REFRESH-INTERVAL;VALUE=DURATION:PT1H
X-Robots-Tag:noindex
X-PUBLISHED-TTL:PT1H
BEGIN:VTIMEZONE
TZID:Pacific/Honolulu
BEGIN:STANDARD
TZOFFSETFROM:-1000
TZOFFSETTO:-1000
TZNAME:HST
DTSTART:20240101T000000
END:STANDARD
END:VTIMEZONE
BEGIN:VEVENT
DTSTART;TZID=Pacific/Honolulu:20251220T193000
DTEND;TZID=Pacific/Honolulu:20251220T220000
DTSTAMP:20260423T071706
CREATED:20251214T142255Z
LAST-MODIFIED:20251214T142428Z
UID:15557-1766259000-1766268000@alohagrowers.com
SUMMARY:The Roundabouts with Lawaia – XMAS JAM
DESCRIPTION:AG Presents and Mulligans On The Blue are excited to bring you XMAS JAM with the Roundabouts on Saturday\, Dec. 20th! Ugly Sweaters are highly encouraged. Let’s hit the dance floor to some of your favorite 80s and 90s songs.\n$10 at the Door. Show starts at 7:30pm. Doors open at 6:30pm. Get there early for dinner and stay for the music and dancing! Tables and seating are first-come\, first-served.\n			\n			\n				\n				\n				\n				\n				\n				\n				\n				\n				\n				\n\nMulligansOn The Blue\nSaturdayDecember 20\, 2025\n\n\n			\n				\n				\n				\n				\n				\n\nSHOW DETAILS\nTickets are $10 at DoorShow starts at 7:30pmTables & seating are first-come\, first-serve.\n\n\n			\n				\n				\n				\n				\n				Follow Us\n			\n				\n				\n				\n				\n				FollowFollowFollow\n			\n				\n				\n				\n				\n				More Details Below! \n			\n			\n				\n				\n				\n				\n			\n				\n				\n				\n				\n				\n				\n				\n				\n				\n				\n				ABOUT THE ROUNDABOUTSThe ROUNDABOUTS are not your average cover band. Starting as a group of experienced musicians from various backgrounds\, they all had one thing in common: a love of rock ‘n’ roll. Longing for more rock shows on Maui\, they decided to take matters into their own hands. With electrifying vocals\, raging guitar solos\, thumping bass\, and banging beats\, The Roundabouts perform some rarely-heard-live hits while bringing the best of the B-side to the South Side. Spanning all decades and genres from The Police\, Bon Jovi\, and Poison to The Offspring\, My Chemical Romance\, and Olivia Rodrigo (spliced together with Ozzy Osbourne!)\, there’s something for everyone to rock out to.\n			\n			\n				\n				\n				\n				\n			\n				\n				\n				\n				\n				\n				\n				Back to Upcoming
URL:https://alohagrowers.com/event/roundabouts-xmas-jam/
LOCATION:Mulligans On The Blue\, 100 Kaukahi St\, Kihei\, United States
CATEGORIES:AG Presents,AG Presents Mulligans Music Box
ATTACH;FMTTYPE=image/jpeg:https://alohagrowers.com/wp-content/uploads/2025/12/RoundaboutsUglySweaterSquare_600x600.jpg
END:VEVENT
BEGIN:VEVENT
DTSTART;TZID=Pacific/Honolulu:20251224T173000
DTEND;TZID=Pacific/Honolulu:20251224T203000
DTSTAMP:20260423T071706
CREATED:20251209T183929Z
LAST-MODIFIED:20251209T184338Z
UID:15093-1766597400-1766608200@alohagrowers.com
SUMMARY:Christmas Eve with Andrew & Jay Molina
DESCRIPTION:AG Presents is excited to bring the Aloha Music Series to Mulligans On The Blue for a very special Ukulele Holiday Show with Andrew and Jay Molina on Christmas Eve from 5:30-8:30pm.\nExperience one of Hawaii‘s great ukulele-fronted duos\, (father + son) Andrew and Jay Molina\, as they share songs\, stories\, and laughter while taking you on a musical journey throughout the “World of Ukulele” for this special holiday show. Mulligans will be serving a special holiday menu for this special evening.\nCome enjoy a special holiday dinner\, drinks\, sunset\, and explore the world of ukulele music!\n			\n			\n				\n				\n				\n				\n				\n				\n				\n				\n				\n				\n\nMulligansOn The Blue\nThursday\, Dec 25\, 2025\n\n\n			\n				\n				\n				\n				\n				\n\nSHOW DETAILS\nDoors: 5pmShow: 5:30pm\n$10 with OpenTable Reservation$15 at Door with No Reservation\n\n\n			\n				MAKE RESERVATIONS\n			\n				\n				\n				\n				\n				Follow Us\n			\n				\n				\n				\n				\n				FollowFollowFollow\n			\n				\n				\n				\n				\n				More Details Below! \n			\n			\n				\n				\n				\n				\n			\n				\n				\n				\n				\n				\n				\n				\n				\n				\n				\n				Andrews’ 3 albums have all been nominated for “Ukulele Album of the Year” at the prestigious “Nā Hōkū Hanohano” music awards (Hawaii’s version of the Grammys)\, and he has also been featured on the cover of England’s Uke Magazine. His music has also been featured in video promotions for Hawaiian Airlines and Ocean Vodka.\nFrom sweet Hawaiian sounds to Aerosmith’s “Dream On\,” Guns N’ Roses “Sweet Child O’ Mine\,” “Stairway To Heaven” and even the “Game of Thrones” theme\, Andrew\, along with his dad Jay on bass and guitar\, proves that anything is possible on the ukulele! He is always looking to take the ukulele to the next level and inspire people of all ages by showing them what is possible on this humble little 4-string instrument.\n“Andrew Molina is one of my favorite musicians. He works incredibly hard on his craft and approaches the ukulele in such a unique way” — Jake Shimabukuro\n“Andrew Molina is among a new generation of Hawaiian ukulele players taking a global-sized approach to what’s possible on the ukulele” -Greg Olwell — Ukulele Magazine\n“This guy has serious ukulele chops\, and he’s capable of breathing life into any style with sheer virtuosity” — Blair Jackson – Ukulele Magazine\n			\n				MAKE RESERVATIONS\n			\n			\n				\n				\n				\n				\n			\n				\n				\n				\n				\n				\n				\n				Back to Upcoming
URL:https://alohagrowers.com/event/christmas-eve-andrew-jay/
LOCATION:Mulligans On The Blue\, 100 Kaukahi St\, Kihei\, United States
CATEGORIES:AG Presents,AG Presents Mulligans Music Box,Aloha Music Series
ATTACH;FMTTYPE=image/jpeg:https://alohagrowers.com/wp-content/uploads/2025/12/UkuleleHolidaysSqr600.jpg
END:VEVENT
BEGIN:VEVENT
DTSTART;TZID=Pacific/Honolulu:20251227T193000
DTEND;TZID=Pacific/Honolulu:20251227T220000
DTSTAMP:20260423T071706
CREATED:20251120T201904Z
LAST-MODIFIED:20251120T202016Z
UID:14740-1766863800-1766872800@alohagrowers.com
SUMMARY:JMoCO - Justin Morris & Co Live at Mulligans with Visual Experience
DESCRIPTION:AG Presents is excited to bring you the return of Justin Morris and Company with a Visual Experience from Astral Projections!\nJoin us at Mulligans On The Blue in Wailea\, on the last Saturday of 2025! JMoCo has new songs and new arrangements PLUS the return of Visual Artist\, Markus Künzal from Astral Projections (the mastermind behind Art=Mixx and FuzzBox visuals)\, doing a special visual showcase for this show AND Jammin on Maui will be lighting up the room. Buckle up and let’s go for a ride! Good friend Lo Wolf will play between sets; she may even join JMoCo for a song or two.\nJMoCo’s sound is a mix of vintage tone\, psychedelic jams\, heavy hooks\, group harmonies\, and rock-n-roll revival\, a sound we call “Stardust Revival”. You can find JMoCo’s roots growing deep in the musical vocabulary of influential guitar legends such as Warren Haynes\, Tony Iommi\, and Billy Gibbons.\n			\n			\n				\n				\n				\n				\n				\n				\n				\n				\n				\n				\n\nMulligansOn The Blue\nSaturdayDec. 27\, 2025\n\n\n			\n				\n				\n				\n				\n				\n\nSHOW DETAILS\n20 Limited Early Bird Tickets at $2025 Limited Early Bird Tickets at $25General Tickets are $30Day of Show Tickets are $35\nDoors Open at 6:30pmShow Starts at 7:30pm\nSeating is first-come\, first-served.Your ticket does not guarantee a seat.All sales final – rain or shine.\n\n\n			\n				BUY TICKETS\n			\n				\n				\n				\n				\n				Follow Us\n			\n				\n				\n				\n				\n				FollowFollowFollow\n			\n				\n				\n				\n				\n				More Details Below! \n			\n			\n				\n				\n				\n				\n			\n				\n				\n				\n				\n				\n				\n				\n				\n				\n				\n				ABOUT JUSTIN MORRIS & COMPANY\nJustin Morris & Company\, also known as JMoCo\, is the sonic brainchild of Maui musician and songwriter; Justin Morris. Born and raised in the Appalachian Mountains of Southern West Virginia\, Justin Morris is a national touring artist that focuses his energy on original music. He is known for his deep vocals\, crafty guitar playing\, and authentic tone. The music of JMoCo is grounded in Justin’s free-spirited song writing style and imaginative perspective.\nJustin Morris & Company is Justin’s latest project that will bring together some of Hawai’i‘s top talent to play originals and unique covers. We are also now featuring visual artists Markus Kunzel who will be putting on an amazing light/visual show.\nABOUT LO WOLF\nSultry\, soulful and honest in her craft\, music is where she comes most alive. Her music shifts into a new element of combining soul and hints of rock’n’roll. She is always letting the inspiration remain fresh and doesn’t confine to a certain genre.\n			\n				BUY TICKETS\n			\n			\n				\n				\n				\n				\n			\n				\n				\n				\n				\n				\n				\n				Back to Upcoming
URL:https://alohagrowers.com/event/jmoco-dec-27-2025/
LOCATION:Mulligans On The Blue\, 100 Kaukahi St\, Kihei\, United States
CATEGORIES:AG Presents,AG Presents Mulligans Music Box
ATTACH;FMTTYPE=image/jpeg:https://alohagrowers.com/wp-content/uploads/2025/11/JMoCo_12.27Square600.jpg
END:VEVENT
END:VCALENDAR