BEGIN:VCALENDAR
VERSION:2.0
PRODID:-//Aloha Growers - ECPv6.15.20//NONSGML v1.0//EN
CALSCALE:GREGORIAN
METHOD:PUBLISH
X-ORIGINAL-URL:https://alohagrowers.com
X-WR-CALDESC:Events for Aloha Growers
REFRESH-INTERVAL;VALUE=DURATION:PT1H
X-Robots-Tag:noindex
X-PUBLISHED-TTL:PT1H
BEGIN:VTIMEZONE
TZID:Pacific/Honolulu
BEGIN:STANDARD
TZOFFSETFROM:-1000
TZOFFSETTO:-1000
TZNAME:HST
DTSTART:20240101T000000
END:STANDARD
END:VTIMEZONE
BEGIN:VEVENT
DTSTART;TZID=Pacific/Honolulu:20250806T183000
DTEND;TZID=Pacific/Honolulu:20250806T203000
DTSTAMP:20260424T001637
CREATED:20250725T160734Z
LAST-MODIFIED:20251020T202705Z
UID:13650-1754505000-1754512200@alohagrowers.com
SUMMARY:Uncle Benny Uyetake’s Kanikapila
DESCRIPTION:Uncle Benny Uyetake’s Kanikapila with Special Guest Liz Morales and Hula by Wailani Mulvihill\nUncle Benny Uyetake’s Kanikapila on Wednesday\, August 6th at Mulligans On The Blue with special guest Liz Morales and Hula by Wailani Mulvihill. Get ready for a Kanikapila jam session like no other!\nDoors/Check-in starts at 5:00pm. Show starts at 6:30pm. Food and drinks are available for purchase throughout the evening. Please arrive early and enjoy the views\, have a drink\, and enjoy some food! If you arrive during showtime we will get you to your seat in between songs.\n			\n			\n				\n				\n				\n				\n				\n				\n				\n				\n				\n				MulligansOn The Blue\n			\n				\n				\n				\n				\n				Wed | Aug 6\, 2025\n			\n				Info & Tickets\n			\n				\n				\n				\n				\n				Follow Us\n			\n				\n				\n				\n				\n				FollowFollowFollow\n			\n				\n				\n				\n				\n				More Details Below! \n			\n			\n				\n				\n				\n				\n			\n				\n				\n				\n				\n				\n				\n				\n				\n				\n				\n				ABOUT THE SHOW\nKanikapila\, gathering together to play music\, has been a well-loved traditional Hawaiian pastime. It’s these types of impromptu jam sessions that create an exceptionally rare evening on the islands. Maui’s musical treasure\, Uncle Benny Uyetake\, re-imagines Kanikapila evenings in Wailea with storytelling\, and world-class music. Through the Aloha Music Series\, Uncle Benny will introduce you to the new sounds from the islands and transport you to old Hawaiʻi as he hosts upcoming artists and Hawaiʻi’s legends. You never know who is gonna show up and kanikapila!\nBENNY UYETAKEBenny has played with some of the world’s finest musicians on Maui and while touring. Over the years Benny has shared the stage with some of Hawaiʻi’s greatest trailblazers like Uncle Willie K and Barry Flanagan of HAPA\, as well as the world’s most talented jazz players Les McCann\, Russel Malone\, and Donald Harrison. His versatility comes from his years of musical study in different genres with mentors in classical\, jazz\, Hawaiian\, Blues\, and rock.\nLIZ MORALESLiz Morales\, a respected community leader from Maui\, is a multi-talented performer\, singer\, songwriter\, music producer\, and educator. She has extensive knowledge of Hawaiian\, Country\, Rock and Roll\, and R&B music and has performed alongside some of Hawaiʻi’s notables; Amy Hanaialiʻi\, Raiatea Helm\, and Owana Salazar\, to name a few. Liz is the founder of the band Ahumanu\, which has garnered recognition as a Na Hoku Hanohano Award finalist and Grammy-nominated group since 2003. Ahumanu has captivated audiences globally\, spreading Hawaiian music across various countries such as Tahiti\, Rapa Nui\, Japan\, Korea\, and now in Europe.\nWAILANI MULVIHILL – Polynesian Dancer & Cultural Ambassador\nAlthough not formally recognized as a Kumu Hula\, Wailani has shared her mana‘o by teaching hula and Polynesian dance throughout her career. One of her proudest accomplishments has been blending her passion for culture with her calling as an educator. Now in her 26th year of teaching — currently at Waiheʻe Elementary and formerly at Kalama Intermediate in Hawaiian Immersion — she has nurtured generations of keiki both in the classroom and on stage. Her students have performed at venues like Disneyland and Knott’s Berry Farm alongside the talented Benny Uyetake’s ʻukulele ensemble.\nWailani has also performed as an international dancer abroad and has had the honor of dancing as a soloist for celebrated musicians\, including HAPA and Benny Uyetake\, among many others. A true cultural ambassador\, Wailani Mulvihill continues to inspire with every sway of her hips\, every graceful motion of her hands\, and every story shared through dance.\n			\n				Info & Tickets\n			\n			\n				\n				\n				\n				\n			\n				\n				\n				\n				\n				\n				\n				Back to Upcoming
URL:https://alohagrowers.com/event/uncle-benny-uyetakes-kanikapila/
LOCATION:Mulligans On The Blue\, 100 Kaukahi St\, Kihei\, United States
CATEGORIES:AG Presents,AG Presents Mulligans Music Box,Aloha Music Series
ATTACH;FMTTYPE=image/jpeg:https://alohagrowers.com/wp-content/uploads/2025/07/Benny-Sqr.08.06.25_LIZM_600.jpg
END:VEVENT
BEGIN:VEVENT
DTSTART;TZID=Pacific/Honolulu:20250808T190000
DTEND;TZID=Pacific/Honolulu:20250808T210000
DTSTAMP:20260424T001637
CREATED:20250702T225908Z
LAST-MODIFIED:20251020T202649Z
UID:13560-1754679600-1754686800@alohagrowers.com
SUMMARY:Ron Artis II - Made of Love Tour - Maui
DESCRIPTION:Ron Artis II – Live on Maui!\nAG Presents is excited to present award-winning artist Ron Artis II’s ‘Made of Love’ Summer 2025 Hawai’i State Tour.\nRon Artis II from Haleiwa\, Hawaii\, brings his soulful and honest songwriting to the Mulligans Music Box on August 8th\, reminding us this summer that we are made of love. Performing all original music that has energized audiences worldwide\, Ron will feature his power trio\, which includes Jarod Manis on drums and Ernie Ecraela on bass. This tour will showcase music from his latest album\, “We Are Not Machines\,” which is a reminder that if we can all remember that we are made of love\, the world will be forever changed.\n“We Are Not Machines” is an album lauded for its exploration of the human experience\, blending deep storytelling with heartfelt emotion. It’s been described as a “good reflective album” that navigates life’s complexities\, encompassing themes of loss\, joy\, love\, pain\, and forgiveness. The album breaks genre boundaries\, drawing on influences from blues\, gospel\, rock\, and R&B\, creating a unique sound. It received Grammy consideration\, with John Oates of Hall & Oates praising its profound exploration of human emotion.\nHonored by the Songwriters hall of Fame (Recipient of the Bill Withers Award)\n“An Amazing Voice” – Jack Johnson\n“I’ve played with Eric Clapton\, Stevie Wonder and other greats… You have it!” – Tommy Emmanuel\n“GREAT songs\, just great songs!” – Booker T. Jones\nEarlybird Tickets –  $20 (only 20)  - $25 (only 25)  – $30 (only 30)General Tickets – $35Kids 10 and under are FREE\n6:00 PM: Doors Open\n7:00 PM: Show\n#AGpresents\n			\n			\n				\n				\n				\n				\n				\n				\n				\n				\n				\n				\n\nMulligans Music Box – Wailea\nFriday\, August 8th\, 2025\n\n\n			\n				BUY TICKETS\n			\n				\n				\n				\n				\n				Follow Us\n			\n				\n				\n				\n				\n				FollowFollowFollow\n			\n				\n				\n				\n				\n				More Details Below! \n			\n			\n				\n				\n				\n				\n			\n				\n				\n				\n				\n				\n				\n				\n				\n				\n				\n				ABOUT RON ARTIS IIRon Artis II is a multi-instrumentalist who grew up in Haleiwa\, Hawaii\, among an exceptionally musical family. While developing his multi-instrumental prowess playing in the Artis Family Band\, Ron quickly took to piano and guitar as his main modes of expression. His mastery of both—in addition to numerous other instruments—quickly made evident that he was special. As he got older and played more around Oahu\, others quickly recognized his gifts as well. Ron has been able to perform and collaborate with Mick Fleetwood (Fleetwood Mac)\, Jack Johnson\, Jake Shimabukuro\, John Oats\, Booker T Jones\, Eric Krasno (Soulive\, Lettuce)\, G Love\, and recently performed his song “Before You Go” with Joan Baez.\nEarlybird Tickets $20 (only 20) $25 (only 25) $30 (only 30)General Tickets – $35Kids 10 and under are FREE\nDoors/Check-in starts at 6:00pmShow Starts at 7:00pmFood and drinks are available for purchase throughout the eveningOutdoor tables and seating are first come first serve.Dancefloor inside\n			\n				BUY TICKETS\n			\n			\n				\n				\n				\n				\n			\n				\n				\n				\n				\n				\n				\n				Back to Upcoming
URL:https://alohagrowers.com/event/ron-artis-ii-made-of-love-tour-maui/
LOCATION:Mulligans On The Blue\, 100 Kaukahi St\, Kihei\, United States
CATEGORIES:AG Presents,AG Presents Mulligans Music Box
ATTACH;FMTTYPE=image/jpeg:https://alohagrowers.com/wp-content/uploads/2025/07/RoNartisIIMAUI600.jpg
END:VEVENT
END:VCALENDAR