BEGIN:VCALENDAR
VERSION:2.0
PRODID:-//Aloha Growers - ECPv6.15.20//NONSGML v1.0//EN
CALSCALE:GREGORIAN
METHOD:PUBLISH
X-WR-CALNAME:Aloha Growers
X-ORIGINAL-URL:https://alohagrowers.com
X-WR-CALDESC:Events for Aloha Growers
REFRESH-INTERVAL;VALUE=DURATION:PT1H
X-Robots-Tag:noindex
X-PUBLISHED-TTL:PT1H
BEGIN:VTIMEZONE
TZID:Pacific/Honolulu
BEGIN:STANDARD
TZOFFSETFROM:-1000
TZOFFSETTO:-1000
TZNAME:HST
DTSTART:20240101T000000
END:STANDARD
END:VTIMEZONE
BEGIN:VEVENT
DTSTART;TZID=Pacific/Honolulu:20250523T190000
DTEND;TZID=Pacific/Honolulu:20250523T220000
DTSTAMP:20260424T110638
CREATED:20250518T182112Z
LAST-MODIFIED:20250518T182808Z
UID:13317-1748026800-1748037600@alohagrowers.com
SUMMARY:Desert Hello
DESCRIPTION:Dessert Hello – Desert Hollow & Three to 5\nAG Presents is excited to bring you Dessert Hello! Haiku folk duet Desert Hollow is returning to Mulligans yet again in collaboration with the Three to Five funk band for an evening of boogying down. What exactly happens when you mix a folk duet with a four-piece funk band? Dessert Hello\, that’s what! Full Sound\, Dance Floor\, and Lights by Jamminʻ Joey\n			\n			\n				\n				\n				\n				\n				\n				\n				\n				\n				\n				Mulligans Music Box – Maui\nFridayMay 23\, 2025\n			\n				BUY TICKETS\n			\n				\n				\n				\n				\n				Follow Us\n			\n				\n				\n				\n				\n				FollowFollowFollow\n			\n				\n				\n				\n				\n				More Details Below! \n			\n			\n				\n				\n				\n				\n			\n				\n				\n				\n				\n				\n				\n				\n				\n				\n				\n				ABOUT THE EVENT\nDessert Hello – Desert Hollow & Three to 5\nMay 23\, 2025\nAG Presents is excited to bring you Dessert Hello! Haiku folk duet Desert Hollow is returning to Mulligans yet again in collaboration with the Three to Five funk band for an evening of boogying down. What exactly happens when you mix a folk duet with a four-piece funk band? Dessert Hello\, that’s what! Full Sound\, Dance Floor\, and Lights by Jamminʻ Joey\nABOUT DESERT HOLLOW\nHaiku folk duet Desert Hollow is returning to Mulligans yet again in collaboration with the Three to Five funk band for an evening of boogying down. What exactly happens when you mix a folk duet with a four-piece funk band? Dessert Hello\, that’s what!\nDesert Hollow has created a recognizable name for themselves here on Maui. Most often\, you will catch them in duo or trio form at their residency up at Mahalo Aleworks on Thursday nights\, or maybe you’ve seen them before at an intimate evening at the Pro Arts theater\, or maybe even you’ve caught them plunking a banjo or two at the cove. It’s true\, the musical and life partners Xander Hitzig and Nicole Olney both write original music with intricacy and lyricism that grooves well in a setting where you can sit down and really hear what they are singing about. This night\, however\, will be a different vibration of Desert Hollow\, elevated by Matt Del Olmo on electric guitar\, Kevin Garland on drums\, Ian Sheridan on bass\, and Matt Novotney on organ/keys. Joey from Jammin’ on Maui will be providing psychedelic lighting equivalent to the likes of what one may experience at the Sphere. Am I exaggerating? Not really\, the guy is an artist.\nIf you missed the last show in March\, now is your chance to see this historic collaboration again before Desert Hollow hits the mainland for their summer tour. If you made it to the last show\, then you really don’t need any convincing\, the magic of that evening was tangible.\nGetcha dancing slippahs and get ready to boogie down\, we’ll see you there!\nGeneral Tickets – $30Day-of / Door – $40Doors/Check-in starts at 6:00pmShow Starts at 7:00pmFood and drinks are available for purchase throughout the eveningOutdoor tables and seating are first come first serve.\n \nA little more about Desert Hollow:Desert Hollow embodies the blend of geographical and artistic influences that shape this traveling duo\, consisting of Xander Hitzig and Nicole Olney. Their musical journey began in Los Angeles\, as castmates in a jukebox country musical\, their unexpected connection and shared passion for songcraft has since taken them all over the world.\nXander hails from the rolling hills of West Virginia\, while Nicole’s roots lie in the vast deserts of California. The influences of their respective hometowns have created a sort of high-lonesome-bluegrass-folk-funk sound. Currently calling Maui\, Hawaii\, home\, they create genre-bending music that speaks to the heart\, as Xander often describes it: “folk music-music for the folks.” Xander is a profound multi-instrumentalist and writer\, seamlessly playing a variety of stringed instruments\, including fiddle\, which he also performs with Lukas Nelson. While Nicole’s knack for writing earned a short film of hers a premiere at the Cannes Film Festival. Nicole’s powerful lyricism and ethereal voice weaves seamlessly into the rich\, diverse soundscapes of their songs\, while Xander’s voice carries the weight and clarity of traditional bluegrass music\, raw and unadorned. When they harmonize\, it feels as though their bond transcends time\, as if they’ve been singing together forever—not just musically\, but as life partners\, intertwined in both love and melody.\nDesert Hollow’s performances vary from lively\, full-band shows that invite audiences to dance\, to more intimate\, duet-style sets perfect for quiet reflection. Their music is largely original—captivating songs that feel both timeless and timely. Their live shows leave audiences feeling uplifted\, grounded\, and inspired long after the music fades.\nThe release of their debut EP Thirsty garnered attention being described as “a refreshing blend of old-timey folk\, blood harmonies\, and knee-slapping hoedowns\,” quickly landing themselves a feature on NPR Music’s Live Sessions\, as well as opportunities to collaborate in out and out of the studio with the likes of Gregory Alan Isakov\, Lukas Nelson\, John Craigie\, and Lily Meola. Spending the last few years touring the U.S. and crafting their sound\, Xander and Nicole are excited to announce that their first full-length record is set for release this year. This long-awaited album promises to showcase their musical evolution\, with songs that reflect their unique journey and growth as artists.\n			\n				BUY TICKETS\n			\n			\n				\n				\n				\n				\n			\n				\n				\n				\n				\n				\n				\n				Back to Upcoming
URL:https://alohagrowers.com/event/desert-hello/
LOCATION:Mulligans On The Blue\, 100 Kaukahi St\, Kihei\, United States
CATEGORIES:AG Presents Mulligans Music Box
ATTACH;FMTTYPE=image/jpeg:https://alohagrowers.com/wp-content/uploads/2025/05/SquareDessertHelloSQR600.jpg
END:VEVENT
BEGIN:VEVENT
DTSTART;TZID=Pacific/Honolulu:20250530T190000
DTEND;TZID=Pacific/Honolulu:20250530T213000
DTSTAMP:20260424T110638
CREATED:20250312T000613Z
LAST-MODIFIED:20250331T001238Z
UID:12928-1748631600-1748640600@alohagrowers.com
SUMMARY:Reggae Legend Clinton Fearon – Solo show
DESCRIPTION:AG Presents and Mulligans on the Blue welcome reggae legend Clinton Fearon to Mulligans Music box for a very intimate show.\nAG Presents and Mulligans on the Blue welcome reggae legend Clinton Fearon to Mulligans Music box for a very intimate show. Clinton Fearon is a composer\, songwriter\, singer and player of instruments since his early teens. Born in Jamaica\, Clinton became the bassist\, vocalist and lyricist of the mythic Gladiators at the age of 19. He spent 18 years with the band and signed several songs for The Gladiators\, hits and classics like Chatty Chatty Mouth\, Richman Poorman\, On The Other Side\, Can You Imagine How I Feel\, Let Jah Be Praised\, One Love\, Untrue Girl\, and more.\n			\n			\n				\n				\n				\n				\n				\n				\n				\n				\n				\n				Anaina Hou\nCommunity Park\n			\n				\n				\n				\n				\n				May 30\, 2025\n			\n				Info & Tickets\n			\n				\n				\n				\n				\n				Follow Us\n			\n				\n				\n				\n				\n				FollowFollowFollow\n			\n				\n				\n				\n				\n				More Details Below! \n			\n			\n				\n				\n				\n				\n			\n				\n				\n				\n				\n				\n				\n				\n				\n				\n				\n				Reggae Legend Clinton Fearon – Solo Show\nAG Presents and Mulligans on the Blue welcome reggae legend Clinton Fearon to Mulligans Music box for a very intimate show. Clinton Fearon is a composer\, songwriter\, singer and player of instruments since his early teens. Born in Jamaica\, Clinton becamethe bassist\, vocalist and lyricist of the mythic Gladiators at the age of 19. He spent 18 years with the band and signed several songsfor The Gladiators\, hits and classics like Chatty Chatty Mouth\, Richman Poorman\, On The Other Side\, Can You Imagine How I Feel\, LetJah Be Praised\, One Love\, Untrue Girl\, and more.\nDoors: 6:00pm\nShow Starts at: 7:00pm\nClinton Fearon was also a session musician for different studio in Jamaica\, including with producers Coxsone Dodd at Studio Oneand Lee ‘Scratch’ Perry’s at Black Ark\, but also at Chanel One\, Aquarius\, Harry J\, Randy’s\, etc. In these studios\, Clinton Fearoncomposed some everlasting bass lines for wellknown artists like Yabby You\, Jimmy Riley\, Max Romeo\, Junior Byles and many others.\nAfter leaving Jamaica in 1987\, Clinton Fearon started a new career in Seattle. Him and some of the musicians of The Gladiators tookadvantage of the extra time remaining on their visa\, at the end of the US tour\, to started a band in the Northwest: The Defenders. Theband built a nice following in the area until they split after five years. And finally Clinton Fearon formed his own band in the mid 90swith local musicians in Seattle: Clinton Fearon and Boogie Brown Band.\nSince 2019\, Clinton is also teaming up with the Riddim Source band\, featuring la crème de la crème of the French reggae musiciansscene. Together they recorded “Breaking News” in 2022 and “Jah Is Love”\, brand new album of the reggae master to be released inJune 2025. Clinton Fearon recorded 15 albums under his own name\, since and he’s touring the world with this impressive repertoire\,accompanied by a band or in solo acoustic. He performed in major festivals in each continents\, and regularly in the United States(Sierra Nevada World Music Festival\, Reggae On The River\, National Folk Festival\, Festival International de Louisiane\, HoustonInternational Festival\, Salmonstock\, Ithaca Reggae Festival\, etc.)\, Canada (Latin Caribbean Festival\, Victoria Ska Reggae Festival\,World Beat Festival\, etc.)\, Europe (WOMAD\, Rototom Sunsplash\, Garance Reggae Festival\, Printemps de Bourges\, Stimmen festival\,Celtic Connectionetc.)\, Brazil (Virada Cultural\, Republica Do Reggae\, World Music Festival\, Feira de Santana\, etc.)\, Africa (Kenya andIvory Coast)\, and more countries occasionally (Peru\, Honduras\, New Caledonia\, Hong Kong\, etc.).\nEach song of Clinton Fearon is a strong message coming from the heart of a man who is dedicating his life to help a better world tocome. With chiselled music and poetic lyrics\, he opens reggae to a wider audience who simply loves his beautiful songs.\n“ My music is roots reggae from the island of Jamaica. I grew up deep in the hills\, up in St. Catherine\, surrounded by nature\, beautyand hard work. Even as a child\, I knew I wanted to be a musician and began my career singing in church and at school\, andeventually built my own guitar! As a teenager\, my journeys took me to Kingston where I met many musicians and began writing andrecording music. The Skatalites\, Motown artists and Jamaican musicians who came before me all influenced my music. I write frommy heart. The world is full of inspirations… nature\, people\, politics\, love. I write about them all. My music is good for the soul – alwayswith a message of hope and betterment for tomorrow. It’s good for dancing\, good for listening and I think it’s good for all.”\n—Clinton Fearon\n			\n				Info & Tickets\n			\n			\n				\n				\n				\n				\n			\n				\n				\n				\n				\n				\n				\n				Back to Upcoming
URL:https://alohagrowers.com/event/regae-legend-clinton-fearon-solo-show/
LOCATION:Mulligans On The Blue\, 100 Kaukahi St\, Kihei\, United States
CATEGORIES:AG Presents Mulligans Music Box
ATTACH;FMTTYPE=image/jpeg:https://alohagrowers.com/wp-content/uploads/2025/03/ClintonFearonSqr600.jpg
END:VEVENT
END:VCALENDAR