BEGIN:VCALENDAR
VERSION:2.0
PRODID:-//Aloha Growers - ECPv6.15.20//NONSGML v1.0//EN
CALSCALE:GREGORIAN
METHOD:PUBLISH
X-WR-CALNAME:Aloha Growers
X-ORIGINAL-URL:https://alohagrowers.com
X-WR-CALDESC:Events for Aloha Growers
REFRESH-INTERVAL;VALUE=DURATION:PT1H
X-Robots-Tag:noindex
X-PUBLISHED-TTL:PT1H
BEGIN:VTIMEZONE
TZID:Pacific/Honolulu
BEGIN:STANDARD
TZOFFSETFROM:-1000
TZOFFSETTO:-1000
TZNAME:HST
DTSTART:20250101T000000
END:STANDARD
END:VTIMEZONE
BEGIN:VEVENT
DTSTART;TZID=Pacific/Honolulu:20260418T190000
DTEND;TZID=Pacific/Honolulu:20260418T220000
DTSTAMP:20260422T213111
CREATED:20260222T031713Z
LAST-MODIFIED:20260222T031719Z
UID:16362-1776538800-1776549600@alohagrowers.com
SUMMARY:Clinton Fearon - Mulligans on the Blue
DESCRIPTION:AG Presents and Mulligans on the Blue welcome back reggae legend Clinton Fearon to Mulligans Music box for a very intimate show. Opening is Brazilian Reggae artist Marauak\nClinton Fearon is a composer\, songwriter\, singer and player of instruments since his early teens. Born in Jamaica\, Clinton became the bassist\, vocalist and lyricist of the mythic Gladiators at the age of 19. He spent 18 years with the band and signed several songs for The Gladiators\, hits and classics like Chatty Chatty Mouth\, Richman Poorman\, On The Other Side\, Can You Imagine How I Feel\, Let Jah Be Praised\, One Love\, Untrue Girl\, and more.\nClinton Fearon was also a session musician for different studio in Jamaica\, including with producers Coxsone Dodd at Studio One and Lee ‘Scratch’ Perry’s at Black Ark\, but also at Chanel One\, Aquarius\, Harry J\, Randy’s\, etc. In these studios\, Clinton Fearon composed some everlasting bass lines for wellknown artists like Yabby You\, Jimmy Riley\, Max Romeo\, Junior Byles and many others.\nAfter leaving Jamaica in 1987\, Clinton Fearon started a new career in Seattle. Him and some of the musicians of The Gladiators took advantage of the extra time remaining on their visa\, at the end of the US tour\, to started a band in the Northwest: The Defenders. The band built a nice following in the area until they split after five years. And finally Clinton Fearon formed his own band in the mid 90s with local musicians in Seattle: Clinton Fearon and Boogie Brown Band.\nSince 2019\, Clinton is also teaming up with the Riddim Source band\, featuring la crème de la crème of the French reggae musicians scene. Together they recorded “Breaking News” in 2022 and “Jah Is Love”\, brand new album of the reggae master to be released in June 2025. Clinton Fearon recorded 15 albums under his own name\, since and he’s touring the world with this impressive repertoire\, accompanied by a band or in solo acoustic. He performed in major festivals in each continents\, and regularly in the United States (Sierra Nevada World Music Festival\, Reggae On The River\, National Folk Festival\, Festival International de Louisiane\, Houston International Festival\, Salmonstock\, Ithaca Reggae Festival\, etc.)\, Canada (Latin Caribbean Festival\, Victoria Ska Reggae Festival\, World Beat Festival\, etc.)\, Europe (WOMAD\, Rototom Sunsplash\, Garance Reggae Festival\, Printemps de Bourges\, Stimmen festival\, Celtic Connectionetc.)\, Brazil (Virada Cultural\, Republica Do Reggae\, World Music Festival\, Feira de Santana\, etc.)\, Africa (Kenya and Ivory Coast)\, and more countries occasionally (Peru\, Honduras\, New Caledonia\, Hong Kong\, etc.).\nEach song of Clinton Fearon is a strong message coming from the heart of a man who is dedicating his life to help a better world to come. With chiselled music and poetic lyrics\, he opens reggae to a wider audience who simply loves his beautiful songs.\n			\n			\n				\n				\n				\n				\n				\n				\n				\n				\n				\n				\n\nMulligans on the BlueMaui\nSaturdayApril 18\, 2026\n\n\n			\n				\n				\n				\n				\n				\n\nSHOW DETAILS\nEarlybird Tickets are $25 (Until Mar 15)\nGA Tickets are $30 (Mar 1 – April 20)\nDay Of Tickets are $35 (April 20)\nDoors Open at 6:00pmShow Starts at 7:00pm\nDance Floor\n\n\n			\n				BUY TICKETS\n			\n				\n				\n				\n				\n				Follow Us\n			\n				\n				\n				\n				\n				FollowFollowFollow\n			\n				\n				\n				\n				\n				More Details Below! \n			\n			\n				\n				\n				\n				\n			\n				\n				\n				\n				\n				\n				\n				BUY TICKETS\n			\n				\n				\n				\n				\n				“My music is roots reggae from the island of Jamaica. I grew up deep in the hills\, up in St. Catherine\, surrounded by nature\, beauty and hard work. Even as a child\, I knew I wanted to be a musician and began my career singing in church and at school\, and eventually built my own guitar! As a teenager\, my journeys took me to Kingston where I met many musicians and began writing and recording music. The Skatalites\, Motown artists and Jamaican musicians who came before me all influenced my music. I write from my heart. The world is full of inspirations… nature\, people\, politics\, love. I write about them all. My music is good for the soul – always with a message of hope and betterment for tomorrow. It’s good for dancing\, good for listening and I think it’s good for all.”\n—Clinton Fearon\nABOUT MARAUAK\nBorn in the vibrant city of Salvador\, Bahia\, Brazil\, Marauak is an extraordinary recording musician\, singer\, and songwriter whose roots weave a rich tapestry of cultural influences. With an Angolan father and a mother from Rio de Janeiro\, Marauak carries a unique blend of African and Brazilian heritage that informs his music and artistic vision. Currently residing in the serene landscapes of Maui\, Hawaii\, he captivates audiences with his original songs\, delivered in both Portuguese and English.\nAs a talented looping artist and one-man band\, Marauak creates a dynamic sound that melds reggae rhythms with a distinct Brazilian flavor. His music explores themes of spirituality\, nature\, social issues\, and love\, inviting listeners on a journey of reflection and connection. In 2023\, his album “Natural” was nominated for Best World Music Album of the Year in San Diego\, California\, a testament to his artistry and the powerful message embedded in his work.\n			\n			\n				\n				\n				\n				\n			\n				\n				\n				\n				\n				\n				\n				Back to Upcoming
URL:https://alohagrowers.com/event/clinton-fearon-mulligans-on-the-blue/
LOCATION:Mulligans On The Blue\, 100 Kaukahi St\, Kihei\, United States
CATEGORIES:AG Presents,AG Presents Mulligans Music Box
ATTACH;FMTTYPE=image/jpeg:https://alohagrowers.com/wp-content/uploads/2026/02/ClintonFearon_Square600_Mulligans.jpg
END:VEVENT
BEGIN:VEVENT
DTSTART;TZID=Pacific/Honolulu:20260418T193000
DTEND;TZID=Pacific/Honolulu:20260418T213000
DTSTAMP:20260422T213111
CREATED:20260226T060556Z
LAST-MODIFIED:20260226T061406Z
UID:16420-1776540600-1776547800@alohagrowers.com
SUMMARY:HI-CAL Dead - Oahu - Slack Key Lounge
DESCRIPTION:Honolulu Dead Night\nAG presents “HI-CAL Dead” on April 18th\,at the Slack Key Lounge in Oahu. Playing the music of the Grateful Dead!!!\nIntroducing “HI-CAL Dead”\, an all-star lineup of Hawaii and California Grateful Dead tribute artists\, flying in for a three-island run this April. Individually the band has played with legends from the Grateful Dead Family\, but also play with some of the best tribute bands. Weʻre excited to be presenting this lineup for a Hawaii tour celebrating the music of the Grateful Dead.\n			\n			\n				\n				\n				\n				\n				\n				\n				\n				\n				\n				\n\nSlack Key LoungeHonolulu\, Hawaii\nSaturdayApril 18\, 2026\n\n\n			\n				\n				\n				\n				\n				\n\nSHOW DETAILS\n$20-$25 Tickets\n\n\n			\n				BUY TICKETS\n			\n				\n				\n				\n				\n				Follow Us\n			\n				\n				\n				\n				\n				FollowFollowFollow\n			\n				\n				\n				\n				\n				More Details Below! \n			\n			\n				\n				\n				\n				\n			\n				\n				\n				\n				\n				\n				\n				\n				\n				\n				\n				Stephen Inglis\, Guitar: A staple in the Hawaii music scene\, Stephen has played with Grateful Dead drummer Bill Kreutzmann and currently tours in Skeleton Crewe along with Dead & Co. drummer Jay Lane\, and Dark Star Orchestra’s Rob Barracco to name a few. Stephen is also a Grammy nominee who’s duo album with Dennis Kamakahi is in Smithsonian Museum of American history.\nNate LaPointe\, Guitar: Bandleader and long time member of Cubensis\, Southern California’s Grateful Dead Tribute Experience\, Nate LaPointe is equally adept in the “Jerry” and “Bobby” roles. Nate also spent several years touring with Bobby Womack before his passing in 2014 and appeared several times at Terrapin Crossroads\, even jamming with Phil Lesh. Nate is also a frequent collaborator with the Grateful Guitars Foundation and has shared the stage with members of Dark Star Orchestra\, Furthur\, JGB\, and many more.\nDanny Eisenberg\, Keyboards: It would be easier to list who Danny hasn’t played with\, but he’s been with bands like The Mother Hips\, The Counting Crows\, Ryan Adams\, and Phil Lesh & Friends\, with appearances on The Tonight Show\, The Late Show\, and Saturday Night Live. Danny is a staple in the Bay Area music scene\, playing hundreds of times at Terrapin Crossroads before it closed in 2021.\nAlex Jordan\, Bass: A San Francisco Bay Area native\, Alex spent six years in Midnight North with Grahame Lesh and Elliott Peck\, spending a good chunk of time at Phil Lesh’s Terrapin Crossroads. He’s played with Phil Lesh\, Bob Weir\, Peter Rowan\, Jay Lane\, Jeff Chimenti\, Stu Allen\, and many others. Alex works closely with the Grateful Guitars foundation when he isn’t touring as the keyboardist in Bertha: Grateful Drag. Historically specializing in the “Bobby” roll\, Alex is excited to get back to his roots playing bass.\nBrad Rhodus: Brad bounced around the midwest and the south before eventually landing in Southern California. After a long stint with the JGB tribute the Rum Runners\, Brad was asked to join Cubensis in 2014 (fun fact\, Alex and Brad met on stage on New Years Eve during the countoff for the first song) and is now in his 12th year as the new guy in the band. Brad has also appeared regularly in the Bay Area at events with the Grateful Guitars foundation playing with members of Dark Star Orchestra\, Furthur\, and JGB.\n			\n				BUY TICKETS\n			\n			\n				\n				\n				\n				\n			\n				\n				\n				\n				\n				\n				\n				Back to Upcoming
URL:https://alohagrowers.com/event/hi-cal-dead-oahu-slack-key-lounge/
LOCATION:Slack Key Lounge Hawaii\, 1680 Kapiolani Boulevard\, 2nd Floor\, Honolulu\, HI\, 96814\, United States
CATEGORIES:AG Presents
ATTACH;FMTTYPE=image/jpeg:https://alohagrowers.com/wp-content/uploads/2026/02/HICALSqrSK600-1.jpg
END:VEVENT
END:VCALENDAR