BEGIN:VCALENDAR
VERSION:2.0
PRODID:-//Aloha Growers - ECPv6.15.20//NONSGML v1.0//EN
CALSCALE:GREGORIAN
METHOD:PUBLISH
X-WR-CALNAME:Aloha Growers
X-ORIGINAL-URL:https://alohagrowers.com
X-WR-CALDESC:Events for Aloha Growers
REFRESH-INTERVAL;VALUE=DURATION:PT1H
X-Robots-Tag:noindex
X-PUBLISHED-TTL:PT1H
BEGIN:VTIMEZONE
TZID:Pacific/Honolulu
BEGIN:STANDARD
TZOFFSETFROM:-1000
TZOFFSETTO:-1000
TZNAME:HST
DTSTART:20250101T000000
END:STANDARD
END:VTIMEZONE
BEGIN:VEVENT
DTSTART;TZID=Pacific/Honolulu:20260327T190000
DTEND;TZID=Pacific/Honolulu:20260327T210000
DTSTAMP:20260422T231602
CREATED:20260303T010341Z
LAST-MODIFIED:20260321T165738Z
UID:16492-1774638000-1774645200@alohagrowers.com
SUMMARY:JMoCO - Justin Morris and Company - “Step into the Portal”
DESCRIPTION:AG presents is excited to announce Justin Morris and Company performing “Step into the Portal”. Tickets on Sale for the March 27\, 2026 showing now.\nJMo⚡️Co’s sound is a mix of deliberate tone\, psychedelic culture\, far-out storytelling\, vocal harmony\, and sincere rock-n-roll revival. You can find JMo⚡️Co’s roots deeply influenced by the musical vocabulary of guitar legends such as Warren Haynes\, Tony Iommi\, and Billy Gibbons.\nBand Members:Justin Morris- Vocals\, GuitarSteve Morris – Vocals\, DrumsNatalie Nicole Robles- Vocals\, KeysLopaka Colon Jr – PercussionTimothy Morris – Vocals\, BassMarkus Künzel – Visual Artist\n			\n				BUY TICKETS\n			\n			\n				\n				\n				\n				\n				\n				\n				\n				\n				\n				\n\nPrivate Venue – Haiku\nFRIDAYMarch 27\, 2026\n\n\n			\n				\n				\n				\n				\n				\n			\n				\n				\n				\n				\n				ABOUT THE SHOW\nOur setting will be lush Haiku\, Hawaii for this performance and will combine JMo⚡️Co’s cosmic song writing with visual artist Markus Künzal from Astral Projections and lighting technician Joey Scaglione from Jammin On Maui. Together the sonic delivery\, visual alchemy and light projection create a truly immersive experience for the songs to take life in many forms to those in attendance.\n			\n				\n				\n				\n				\n				\n\nSHOW DETAILS\nTickets are $30 Earlybird/$35 GeneralDoors open at 6:00pmShow starts at 7:00pm\n\n\n			\n				BUY TICKETS\n			\n				\n				\n				\n				\n				More Details Below! \n			\n			\n				\n				\n				\n				\n			\n				\n				\n				\n				\n				\n				\n				\n				\n				\n				\n				ABOUT JUSTIN MORRIS & COMPANY\nJustin Morris & Company\, also known as JMo⚡️Co\, is the sonic manifestation of Maui musician and songwriter\, Justin Morris. Born and raised in the Appalachian Mountains of Southern West Virginia\, Justin Morris is a national touring artist who focuses his energy on original music. He is known for his songwriting\, crafty guitar playing\, and authentic tone. The music of JMo⚡️Co is flowing from Justin’s free-spirited songwriting style and far-reaching perspective. His collaboration with Steve\, Natalie\, Lopaka\, Timothy\, and Markus has brought the songs to fruition in vivid form.\nThe band would like to thank you in advance for joining us in person for our shared journey as we “Step into the Portal”.\n			\n				BUY TICKETS\n			\n				\n				\n				\n				\n				DETAILS ABOUT THE VENUE & TICKETS\nThis 2-hour event will be held at a wonderful outdoor venue with professional sound and lighting located on the North Shore of Maui. The address will be emailed to you after your ticket purchase. Ticket holders will be checked in when entering the venue.\nAttendees will need to bring their ticket and ID to gain entrance to the venue. The venue is outdoors\, and there are some uneven surfaces. Ticket buyers are requested to wear flat-sole shoes. There will be an area for dancing that is covered. There will be some tables and chairs\, but you are welcome to bring a beach chair of your own if you wish. There will NOT be food and beverage served and ticket buyers are welcome to BYOB.\nPlease Arrive between 6:00 p.m. and 6:15 p.m. If you are going to the show with friends\, please try to carpool.\nPlease do not bring excessive items that create waste or trash.\nAll sales final – rain or shine\n			\n				BUY TICKETS\n			\n			\n				\n				\n				\n				\n			\n				\n				\n				\n				\n				\n				\n				Back to Upcoming\n			\n				\n				\n				\n				\n				Follow Us\n			\n				\n				\n				\n				\n				FollowFollowFollow
URL:https://alohagrowers.com/event/jmoco-justin-morris-and-company-step-into-the-portal/
LOCATION:Private Venue\, TBA in ticket email\, Makawao\, HI\, United States
CATEGORIES:AG Presents
ATTACH;FMTTYPE=image/jpeg:https://alohagrowers.com/wp-content/uploads/2026/03/JMoCo_SQR3.27_600.jpg
END:VEVENT
END:VCALENDAR