BEGIN:VCALENDAR
VERSION:2.0
PRODID:-//Aloha Growers - ECPv6.15.20//NONSGML v1.0//EN
CALSCALE:GREGORIAN
METHOD:PUBLISH
X-WR-CALNAME:Aloha Growers
X-ORIGINAL-URL:https://alohagrowers.com
X-WR-CALDESC:Events for Aloha Growers
REFRESH-INTERVAL;VALUE=DURATION:PT1H
X-Robots-Tag:noindex
X-PUBLISHED-TTL:PT1H
BEGIN:VTIMEZONE
TZID:Pacific/Honolulu
BEGIN:STANDARD
TZOFFSETFROM:-1000
TZOFFSETTO:-1000
TZNAME:HST
DTSTART:20240101T000000
END:STANDARD
END:VTIMEZONE
BEGIN:VEVENT
DTSTART;TZID=Pacific/Honolulu:20251107T200000
DTEND;TZID=Pacific/Honolulu:20251107T220000
DTSTAMP:20260423T043914
CREATED:20251001T213828Z
LAST-MODIFIED:20251001T214031Z
UID:14137-1762545600-1762552800@alohagrowers.com
SUMMARY:Shane Hall LIVE at Old Princeton Landing
DESCRIPTION:Join Shane Hall at Old Princeton Landing in Half Moon Bay\, California on Friday\, November 7th from 8-10pm!\nShane Hall is an award-winning singer-songwriter based in Oceanside\, California\, whose electrifying presence is redefining Indie music.\n			\n			\n				\n				\n				\n				\n				\n				\n				\n				\n				\n				\n\nOld Princeton LandingHalf Moon BayCA\nFridayNov. 7\, 2025\n\n\n			\n				\n				\n				\n				\n				\n\nSHOW DETAILS\nTickets are $17.85Doors open at 7:00pmShow starts at 8:00pm\n\n\n			\n				BUY TICKETS\n			\n				\n				\n				\n				\n				Follow Us\n			\n				\n				\n				\n				\n				FollowFollowFollow\n			\n				\n				\n				\n				\n				More Details Below! \n			\n			\n				\n				\n				\n				\n			\n				\n				\n				\n				\n				\n				\n				\n				\n				\n				\n				ABOUT SHANE HALLShane Hall is an award-winning singer-songwriter based in Oceanside\, California whose electrifying presence is redefining the Indie music scene. With his signature “Fuzz Funk Voodoo Blues\,” Hall masterfully blends elements of Blues\, Soul\, Funk\, Americana\, Rock\, and Alternative into a captivating and one-of-a-kind sound that resonates with authenticity. Shane Hall’s larger-than-life voice has led him to standout performances at iconic venues and festivals. From electrifying shows at Colorado’s legendary Red Rocks with the reggae-rock band Pepper\, to opening for Mike Campbell of Tom Petty & the Heartbreakers\, and gracing major stages at Coachella\, Burning Man\, Electric Forest\, and Lightning in a Bottle\, Shane Hall has made a significant impact on the music scene. In 2021\, his track “Under My Voodoo” won the San Diego Music Award for Best Americana\, Jazz\, or Blues Song. His latest album\, Howl & Sway (LAW Records)\, released in 2023 through Pacific Records and produced by two-time Grammy-nominated Joe Marlett\, has achieved notable success. In 2024\, Howl & Sway reached #1 on the Apple iTunes Blues chart\, won Best Blues Album at the San Diego Music Awards\, and received recognition from the Grammy® Academy. This album represents the culmination of Shane Hall’s dedication and artistic evolution over the past two decades. Shane has recently released his residency album\, collaborating on tracks with Kaleo Waksman of Pepper and Rymo from Slightly Stooped. He also released the first single from a new project with Hawaii’s groundbreaking artist Tavana and legendary percussionist Lopaka Colon.\n			\n				BUY TICKETS\n			\n			\n				\n				\n				\n				\n			\n				\n				\n				\n				\n				\n				\n				Back to Upcoming
URL:https://alohagrowers.com/event/shanehall-opl-nov2025/
LOCATION:Old Princeton Landing\, 460 Capistrano Rd\, Half Moon Bay\, california\, 94019\, United States
CATEGORIES:AG Presents
ATTACH;FMTTYPE=image/jpeg:https://alohagrowers.com/wp-content/uploads/2025/10/ShaneHall_Square_OPL2_600sqr.jpg
END:VEVENT
END:VCALENDAR