BEGIN:VCALENDAR
VERSION:2.0
PRODID:-//Aloha Growers - ECPv6.15.20//NONSGML v1.0//EN
CALSCALE:GREGORIAN
METHOD:PUBLISH
X-WR-CALNAME:Aloha Growers
X-ORIGINAL-URL:https://alohagrowers.com
X-WR-CALDESC:Events for Aloha Growers
REFRESH-INTERVAL;VALUE=DURATION:PT1H
X-Robots-Tag:noindex
X-PUBLISHED-TTL:PT1H
BEGIN:VTIMEZONE
TZID:Pacific/Honolulu
BEGIN:STANDARD
TZOFFSETFROM:-1000
TZOFFSETTO:-1000
TZNAME:HST
DTSTART:20240101T000000
END:STANDARD
END:VTIMEZONE
BEGIN:VEVENT
DTSTART;TZID=Pacific/Honolulu:20250929T190000
DTEND;TZID=Pacific/Honolulu:20250929T210000
DTSTAMP:20260423T082920
CREATED:20250901T183521Z
LAST-MODIFIED:20250910T192038Z
UID:13765-1759172400-1759179600@alohagrowers.com
SUMMARY:Andrew Molina - Spanish Ballroom\, Tacoma\, WA
DESCRIPTION:Experience Maui’s ukulele virtuoso\, Andrew Molina\, and his dad\, Jay\, as they showcase the versatility and beauty of this amazing four-string instrument at the Spanish Ballroom (a historic live music venue located within the McMenamins Elks Temple in Tacoma\, Washington)\, a restored 1916 building listed on the National Register of Historic Places.\nA three-time Nā Hōkū Hanohano award nominee\, Andrew is celebrated for his innovative approach\, blending traditional Hawaiian sounds with rock classics like Aerosmith’s “Dream On” and Guns N’ Roses’ “Sweet Child O’ Mine.” His performances and songwriting continue to push the boundaries of what’s possible on the ukulele\, inspiring audiences worldwide.\n“Andrew Molina is one of my favorite musicians. He works incredibly hard on his craft and approaches the ukulele in such a unique way.” —Jake Shimabukuro\nAndrew and Jay have toured the East and West coasts of the US multiple times and performed at the Maui Ukulele Festival\, the Tacoma Ukulele Festival in Washington\, the Los Angeles International Ukulele Festival\, the Tahiti International Ukulele Festival\, the Austrian Ukulele Festival\, the Music China Expo Show in Shanghai\, China\, and the Grand Northern Ukulele Festival in Northern England.\n			\n			\n				\n				\n				\n				\n				\n				\n				\n				\n				\n				\n\nMcMenaminsSpanish BallroomElks Temple\nMondaySept. 29\, 2025\n\n\n			\n				\n				\n				\n				\n				\n\nSHOW DETAILS\n$17.79 In advance OR $23.64 Day of showDoors open at 6:00pmShow starts at 7:00pmFood & drinks available from one of the property bars.\n\n\n			\n				BUY TICKETS\n			\n				\n				\n				\n				\n				Follow Us\n			\n				\n				\n				\n				\n				FollowFollowFollow\n			\n				\n				\n				\n				\n				More Details Below! \n			\n			\n				\n				\n				\n				\n			\n				\n				\n				\n				\n				\n				\n				\n				\n				\n				\n				About the Spanish Ballroom\nThe Spanish Ballroom is a historic live music venue located within the McMenamins Elks Temple in Tacoma\, Washington\, a restored 1916 building listed on the National Register of Historic Places. This grand space is known for hosting live music and features tall ceilings\, decorative frescoes\, and chandeliers\, offering a unique experience blending historical architecture with modern events. As part of the McMenamins Elks Temple complex\, it is surrounded by other amenities\, including bars\, restaurants\, a brewery\, and a hotel.\n			\n				BUY TICKETS\n			\n			\n				\n				\n				\n				\n			\n				\n				\n				\n				\n				\n				\n				Back to Upcoming
URL:https://alohagrowers.com/event/andrew-molina-spanish-ballroom-tacoma-wa/
LOCATION:Spanish Ballroom Tacoma\, 565 Broadway\, Tacoma\, 98402\, United States
CATEGORIES:AG Presents,Aloha Music Series
ATTACH;FMTTYPE=image/jpeg:https://alohagrowers.com/wp-content/uploads/2025/09/AndrewSpanishBallroomSqrV600-AMS.jpg
END:VEVENT
END:VCALENDAR