BEGIN:VCALENDAR
VERSION:2.0
PRODID:-//Aloha Growers - ECPv6.15.20//NONSGML v1.0//EN
CALSCALE:GREGORIAN
METHOD:PUBLISH
X-WR-CALNAME:Aloha Growers
X-ORIGINAL-URL:https://alohagrowers.com
X-WR-CALDESC:Events for Aloha Growers
REFRESH-INTERVAL;VALUE=DURATION:PT1H
X-Robots-Tag:noindex
X-PUBLISHED-TTL:PT1H
BEGIN:VTIMEZONE
TZID:Pacific/Honolulu
BEGIN:STANDARD
TZOFFSETFROM:-1000
TZOFFSETTO:-1000
TZNAME:HST
DTSTART:20240101T000000
END:STANDARD
END:VTIMEZONE
BEGIN:VEVENT
DTSTART;TZID=Pacific/Honolulu:20250817T130000
DTEND;TZID=Pacific/Honolulu:20250817T153000
DTSTAMP:20260423T135410
CREATED:20250728T193351Z
LAST-MODIFIED:20251020T182806Z
UID:13664-1755435600-1755444600@alohagrowers.com
SUMMARY:Sundays In The Country Featuring Shane Hall
DESCRIPTION:On August 17\, 2025\, award-winning singer-songwriter Shane Hall\, from San Diego\, California\, will kick off the Aloha Music Series “Sundays in the Country” at Casanova Makawao. Doors open at 11:30am and the show starts at 1pm. \nShane brings his electrifying presence that is redefining the Indie music scene. With his signature “Fuzz Funk Voodoo Blues\,” Hall masterfully blends elements of Blues\, Soul\, Funk\, Americana\, Rock\, and Alternative into a captivating and one-of-a-kind sound that resonates with authenticity.Shane is back touring the islands with several special shows. Shane will be celebrating his new single release “Storm Bird” with Tavana at The Blue Note Hawai’i on August 13th then he will be supporting Ron Artis II on Kaua’i on August 16th.\n			\n			\n				\n				\n				\n				\n				\n				\n				\n				\n				\n				\n\nCasanova Makawao\nSunday\, August 17th\, 2025\n1:00pm-3:30pm\n\n\n			\n				\n				\n				\n				\n				\n\nSHOW DETAILS\n$20 TicketsDoors open at 11:30amShow starts at 1pmTables availablefirst-come\, first-served.Food & drinks servedthroughout the day.\n\n\n			\n				BUY TICKETS\n			\n				\n				\n				\n				\n				Follow Us\n			\n				\n				\n				\n				\n				FollowFollowFollow\n			\n				\n				\n				\n				\n				More Details Below! \n			\n			\n				\n				\n				\n				\n			\n				\n				\n				\n				\n				\n				\n				\n				\n				\n				\n				More about Shane Hall\nA Pennsylvania native and a proud U.S. Marine veteran with two tours of duty\, Shane Hall’s musical journey began in 2001 with the creation of his first song. This initial spark ignited a lifelong exploration of soulful roots and a fusion of acoustic and electric sounds. His music stands as a testament to his deep emotional expression and constant artistic evolution.\nShane Hall’s discography is a collection of several acclaimed albums and EPs that highlight his exceptional storytelling and emotional depth. His solo debut album\, Human Condition\, released in 2017\, was a pivotal moment in his career. After signing with LAW Records in 2018\, Shane Hall released a three-part record—West River Queen—which won Best Blues Album at the 2020 San Diego Music Awards. This groundbreaking project showcased Shane Hall’s genre-spanning versatility.\nShane Hall’s larger-than-life voice has led him to standout performances at iconic venues and festivals. From electrifying shows at Colorado’s legendary Red Rocks with the reggae-rock band Pepper\, to opening for Mike Campbell of Tom Petty & the Heartbreakers\, and gracing major stages at Coachella\, Burning Man\, Electric Forest\, and Lightning in a Bottle\, Shane Hall has made a significant impact on the music scene.\nIn 2021\, his track “Under My Voodoo” won the San Diego Music Award for Best Americana\, Jazz\, or Blues Song. His latest album\, Howl & Sway (LAW Records)\, released in 2023 through Pacific Records and produced by two-time Grammy-nominated Joe Marlett\, has achieved notable success.\nIn 2024\, Howl & Sway reached #1 on the Apple iTunes Blues chart\, won Best Blues Album at the San Diego Music Awards\, and received recognition from the Grammy® Academy. This album represents the culmination of Shane Hall’s dedication and artistic evolution over the past two decades.\nBeyond his musical achievements\, Shane Hall is recognized for his genuine spirit and dedication to his community. His motto\, “Raise The Tide” embodies his belief that when one succeeds\, everyone benefits. Shane’s mission is to uplift others and support his community both locally and within the music industry. His relentless pursuit of pushing boundaries and exploring diverse genres ensures that his creative journey remains as dynamic as his sound.\n			\n				BUY TICKETS\n			\n			\n				\n				\n				\n				\n			\n				\n				\n				\n				\n				\n				\n				Back to Upcoming
URL:https://alohagrowers.com/event/sitc-shane-hall-aug-2025/
LOCATION:Casanova Makawao\, 1188 Makawao Avenue\, Makawao\, HI\, 96768\, United States
CATEGORIES:AG Presents,Aloha Music Series,Casanova Makawao,Sundays in the Country
ATTACH;FMTTYPE=image/jpeg:https://alohagrowers.com/wp-content/uploads/2025/07/SIC_ShaneSqr600-FINAL.jpg
END:VEVENT
END:VCALENDAR