BEGIN:VCALENDAR
VERSION:2.0
PRODID:-//Aloha Growers - ECPv6.15.20//NONSGML v1.0//EN
CALSCALE:GREGORIAN
METHOD:PUBLISH
X-WR-CALNAME:Aloha Growers
X-ORIGINAL-URL:https://alohagrowers.com
X-WR-CALDESC:Events for Aloha Growers
REFRESH-INTERVAL;VALUE=DURATION:PT1H
X-Robots-Tag:noindex
X-PUBLISHED-TTL:PT1H
BEGIN:VTIMEZONE
TZID:Pacific/Honolulu
BEGIN:STANDARD
TZOFFSETFROM:-1000
TZOFFSETTO:-1000
TZNAME:HST
DTSTART:20240101T000000
END:STANDARD
END:VTIMEZONE
BEGIN:VEVENT
DTSTART;TZID=Pacific/Honolulu:20250815T160000
DTEND;TZID=Pacific/Honolulu:20250816T220000
DTSTAMP:20260423T134932
CREATED:20250709T174013Z
LAST-MODIFIED:20251020T202633Z
UID:13616-1755273600-1755381600@alohagrowers.com
SUMMARY:Maui Music and Food Experience - Dumpstaphunk + Brown Chicken Brown Cow String Band + Tavana
DESCRIPTION:Maui Music + Food Experience – Brown Chicken Brown Cow Stringband + Tavana + Dumpstaphunk\nJoin us August 15th and 16th for Maui for Music and Food experience that will benefit our Maui community. Brown Chicken Brown Cow Stringband and Tavana will be opening for Ivan Nevilleʻs Dumpstaphunk.\nPart of a  3-city benefit concert tour celebrating the aloha spirit to provide food for those in need\, accelerate the Lahaina rebuild\, and cultivate a new West Maui youth music program. The 1st annual Maui Music and Food Experience raised over $250\,000 to benefit Hua Momona’s Lahaina fire relief efforts.\nAugust 16 –  Featuring Ivan Neville’s Dumpstaphunk with special guest Ernie Isley\, Brown Chicken Brown Cow Stringband\, Tavana\, Frank Orrall (of Poi Dog Pondering & Thievery Corporation)\, Wayne Baker Brooks\, and Marty Dread\nAugust 16 –  Featuring Kanekoa\, Paula Fuga\, Mongoose featuring Bernard Fowler (The Rolling Stones)\, Nicholas Tremulis\, & Naiwi Teruya\, and Led Kaapana\n			\n			\n				\n				\n				\n				\n				\n				\n				\n				\n				\n				Hyatt Regency Maui Resort and Spa\nFri\, Aug. 15 – Sat\, Aug. 16\, 2025\n			\n				BUY TICKETS\n			\n				\n				\n				\n				\n				Follow Us\n			\n				\n				\n				\n				\n				FollowFollowFollow\n			\n				\n				\n				\n				\n				More Details Below! \n			\n			\n				\n				\n				\n				\n			\n				\n				\n				\n				\n				\n				\n				\n				\n				\n				\n				ABOUT THE FARM\nHua Momona Farms is located on 25 acres in Kapalua\, West Maui\, 1300 ft above sea level with a jaw-dropping view of the neighboring island of Molokai. The farm grows fresh\, organic microgreens and more from our elevated oasis.\nThe Hua Momona Foundation supports on-island charitable efforts through agricultural activities\, providing hot meals\, distributing fresh local produce\, facilitating housing replacement\, supporting mental healthcare programs\, and is now launching the Hua Momona Youth Ukulele Ensemble and Music Program with teenagers from Lahaina. To date\, the foundation has served over 80\,000 hot\, fresh meals to those impacted by the Lahaina Fires.\n			\n				BUY TICKETS\n			\n			\n				\n				\n				\n				\n			\n				\n				\n				\n				\n				\n				\n				Back to Upcoming
URL:https://alohagrowers.com/event/maui-music-and-food-experience-dumpstaphunk-brown-chicken-brown-cow-string-band-tavana/
LOCATION:hyatt regency maui\, 200 Nohea Kai Dr\, Lahaina\, HI\, 96761\, United States
CATEGORIES:AG Presents
ATTACH;FMTTYPE=image/jpeg:https://alohagrowers.com/wp-content/uploads/2025/07/MAUI-25-147_AG_Social_July9-Launch_600-Feed.jpg
END:VEVENT
BEGIN:VEVENT
DTSTART;TZID=Pacific/Honolulu:20250816T173000
DTEND;TZID=Pacific/Honolulu:20250816T213000
DTSTAMP:20260423T134933
CREATED:20250702T231221Z
LAST-MODIFIED:20251020T202617Z
UID:13569-1755365400-1755379800@alohagrowers.com
SUMMARY:Ron Artis II - Made of Love Tour - Kauai
DESCRIPTION:Ron Artis II – Live on Kaua‘i\nAG Presents and Anaina Hou is excited to present award-winning artist Ron Artis II’s ‘Made of Love’ Summer 2025 Hawai’i State Tour.\nRon Artis II from Haleiwa\, Hawaii\, brings his soulful and honest songwriting to Anaina Houʻs Port Pavilion on August 16th\, reminding us this summer that we are made of love. Performing all original music that has energized audiences worldwide\, Ron will feature his power trio\, which includes Jarod Manis on drums and Ernie Ecraela on bass. This tour will showcase music from his latest album\, “We Are Not Machines\,” which is a reminder that if we can all remember that we are made of love\, the world will be forever changed.\n“We Are Not Machines” is an album lauded for its exploration of the human experience\, blending deep storytelling with heartfelt emotion. It’s been described as a “good reflective album” that navigates life’s complexities\, encompassing themes of loss\, joy\, love\, pain\, and forgiveness. The album breaks genre boundaries\, drawing on influences from blues\, gospel\, rock\, and R&B\, creating a unique sound. It received Grammy consideration\, with John Oates of Hall & Oates praising its profound exploration of human emotion.\nOpening for Ron\, we welcome back the fuzz\, funk\, blues of Shane Hall\nHonored by the Songwriters hall of Fame (Recipient of the Bill Withers Award)\n“An Amazing Voice” – Jack Johnson\n“I’ve played with Eric Clapton\, Stevie Wonder and other greats… You have it!” – Tommy Emmanuel\n“GREAT songs\, just great songs!” – Booker T. Jones\n#AGpresents\n			\n			\n				\n				\n				\n				\n				\n				\n				\n				\n				\n				\n\nAnaina Hou – Kaua‘i\nSaturday\, August 16th\, 2025\n\n\n			\n				BUY TICKETS\n			\n				\n				\n				\n				\n				Follow Us\n			\n				\n				\n				\n				\n				FollowFollowFollow\n			\n				\n				\n				\n				\n				More Details Below! \n			\n			\n				\n				\n				\n				\n			\n				\n				\n				\n				\n				\n				\n				BUY TICKETS\n			\n			\n				\n				\n				\n				\n			\n				\n				\n				\n				\n				\n				\n				Back to Upcoming
URL:https://alohagrowers.com/event/ron-artis-ii-made-of-love-tour-kauai/
LOCATION:Anaina Hou\, 5-2723 Kuhio Hwy\, Kilauea\, HI\, United States
CATEGORIES:AG Presents
ATTACH;FMTTYPE=image/jpeg:https://alohagrowers.com/wp-content/uploads/2025/07/RON-ARTIS-II-600x600-px.jpg
END:VEVENT
END:VCALENDAR