BEGIN:VCALENDAR
VERSION:2.0
PRODID:-//Aloha Growers - ECPv6.15.20//NONSGML v1.0//EN
CALSCALE:GREGORIAN
METHOD:PUBLISH
X-ORIGINAL-URL:https://alohagrowers.com
X-WR-CALDESC:Events for Aloha Growers
REFRESH-INTERVAL;VALUE=DURATION:PT1H
X-Robots-Tag:noindex
X-PUBLISHED-TTL:PT1H
BEGIN:VTIMEZONE
TZID:Pacific/Honolulu
BEGIN:STANDARD
TZOFFSETFROM:-1000
TZOFFSETTO:-1000
TZNAME:HST
DTSTART:20240101T000000
END:STANDARD
END:VTIMEZONE
BEGIN:VEVENT
DTSTART;TZID=Pacific/Honolulu:20250628T183000
DTEND;TZID=Pacific/Honolulu:20250628T210000
DTSTAMP:20260423T223032
CREATED:20250408T141252Z
LAST-MODIFIED:20250625T183320Z
UID:13191-1751135400-1751144400@alohagrowers.com
SUMMARY:Pō & the 4Fathers Live on Kaua'i
DESCRIPTION:Pō & the 4Fathers Live on Kaua’i!\nAG Presents is excited to announce Pō & the 4Fathers will take their Color of the ‘Aina 2025 Tour to Kaua’i for a special performance at Anaina Hou Community Park on Saturday\, June 28\, 2025. with opening act Sashamon\nPō & the 4Fathers is deeply rooted in Hawaiian language\, culture\, Polynesian rhythms\, and indigenous sounds\, as well as the music that has moved generations like reggae\, soul\, blues\, funk\, and hip hop. They express the joy\, hardship\, pain and triumph they’ve learned from shared experiences beginning in the time of Pō flowing into the present\, and forward into the future.\n			\n			\n				\n				\n				\n				\n				\n				\n				\n				\n				\n				\n\nAnaina HouCommunity Park\nSaturday\, June 28\, 2025\n\n\n			\n				BUY TICKETS\n			\n				\n				\n				\n				\n				Follow Us\n			\n				\n				\n				\n				\n				FollowFollowFollow\n			\n				\n				\n				\n				\n				More Details Below! \n			\n			\n				\n				\n				\n				\n			\n				\n				\n				\n				\n				\n				\n				\n				\n				\n				\n				What’s included\nThis is GA standing room show. We will have some seating sections set up throughout the venue available on a first come first serve basis.We will have some covered raised tables available around the perimeter of the lawned area.\nWhat’s not included\nBeverage Concessions both Alcoholic and Non Alcoholic will be available throughout the show.\nFood will be available for purchase on site. The Pavilion Kitchen is open with a full menu of hot meals and snacks. Vegan/ Vegetarian options will be available.\nShow Details\n5:30 PM: Doors Open6:30 PM: Sashamon7:30 PM: Po & The 4Fathers\nTimes subject to change. Any changes will be confirmed via email closer to the show date\nHighlights\nThis show is part of Anaina Hou Community Park’s “Concerts with a Cause” Series.\n  \n			\n				BUY TICKETS\n			\n			\n				\n				\n				\n				\n			\n				\n				\n				\n				\n				\n				\n				Back to Upcoming
URL:https://alohagrowers.com/event/po-the-4fathers-live-on-kauai/
LOCATION:Anaina Hou\, 5-2723 Kuhio Hwy\, Kilauea\, HI\, United States
CATEGORIES:AG Presents
ATTACH;FMTTYPE=image/jpeg:https://alohagrowers.com/wp-content/uploads/2025/04/Po4F-ANAINA-HOUSquare4.26_600.jpg
END:VEVENT
END:VCALENDAR