BEGIN:VCALENDAR
VERSION:2.0
PRODID:-//Aloha Growers - ECPv6.15.20//NONSGML v1.0//EN
CALSCALE:GREGORIAN
METHOD:PUBLISH
X-ORIGINAL-URL:https://alohagrowers.com
X-WR-CALDESC:Events for Aloha Growers
REFRESH-INTERVAL;VALUE=DURATION:PT1H
X-Robots-Tag:noindex
X-PUBLISHED-TTL:PT1H
BEGIN:VTIMEZONE
TZID:Pacific/Honolulu
BEGIN:STANDARD
TZOFFSETFROM:-1000
TZOFFSETTO:-1000
TZNAME:HST
DTSTART:20240101T000000
END:STANDARD
END:VTIMEZONE
BEGIN:VEVENT
DTSTART;TZID=Pacific/Honolulu:20250614T173000
DTEND;TZID=Pacific/Honolulu:20250614T210000
DTSTAMP:20260423T225038
CREATED:20250518T195311Z
LAST-MODIFIED:20250519T145126Z
UID:13335-1749922200-1749934800@alohagrowers.com
SUMMARY:Shane Hall’s COUPE DVLLE - King Tide Summer Tour 2025 - KAUAI
DESCRIPTION:Shane Hall’s Coupe Dvlle – The King Tide Summer Tour 2025\nAnaina Hou and AG presents welcomes back to Kauaiʻs Porter Pavilion on June 14th\, Shane Hallʻs “Coupe Dvlle”. The last time they were in Hawaii\, Shane and Mike delivered powerful and memorable performances across the state with two sellouts. Coupe Dvlle is a power duo that delivers a full sound of a rock band and can best be described as “Fuzz Funk Voodoo Blues”. This is a Concerts for a Cause show!!\nShane Hallʻs Coupe Dvlle returns as the high powered blues duo with support from Henry Kapono Foundations On The Rise artist Ryan Perez!\n			\n			\n				\n				\n				\n				\n				\n				\n				\n				\n				\n				Anaina Hou\, Porter Pavilion\, Kilauea\, Kaua’i\nSaturdayJune 14\, 2025\n5:30 PM: Doors Open6:30 PM: Ryan Perez7:30 PM: Shane Hall\n			\n				BUY TICKETS\n			\n				\n				\n				\n				\n				Follow Us\n			\n				\n				\n				\n				\n				FollowFollowFollow\n			\n				\n				\n				\n				\n				More Details Below! \n			\n			\n				\n				\n				\n				\n			\n				\n				\n				\n				\n				\n				\n				\n				\n				\n				\n				ABOUT THE EVENT\nShane Hall’s Coupe Dvlle – The King Tide Summer Tour 2025\nJune 14\, 2025\nAnaina Hou and AG presents welcomes back to Kauaiʻs Porter Pavilion on June 14th\, Shane Hallʻs “Coupe Dvlle”. The last time they were in Hawaii\, Shane and Mike delivered powerful and memorable performances across the state with two sellouts. Coupe Dvlle is a power duo that delivers a full sound of a rock band and can best be described as “Fuzz Funk Voodoo Blues”. This is a Concerts for a Cause show!!\nShane Hall\nShane Hall is an award-winning singer-songwriter based in Oceanside\, California whose electrifying presence is redefining the Indie music scene. With his signature Fuzz Funk Voodoo Blues\, Hall masterfully blends elements of Blues\, Soul\, Funk\, Americana\, Rock\, and Alternative into a captivating and one-of-a-kind sound that resonates with authenticity.\nA Pennsylvania native and a proud U.S. Marine veteran with two tours of duty\, Shane Hall’s musical journey began in 2001 with the creation of his first song. This initial spark ignited a lifelong exploration of soulful roots and a fusion of acoustic and electric sounds. His music stands as a testament to his deep emotional expression and constant artistic evolution.\nShane Hall’s discography is a collection of several acclaimed albums and EPs that highlight his exceptional storytelling and emotional depth. His solo debut album\, Human Condition\, released in 2017\, was a pivotal moment in his career. After signing with LAW Records in 2018\, Shane Hall released a three-part record—West River Queen—which won Best Blues Album at the 2020 San Diego Music Awards. This groundbreaking project showcased Shane Hall’s genre-spanning versatility.\nShane Hall’s larger-than-life voice has led him to standout performances at iconic venues and festivals. From electrifying shows at Colorado’s legendary Red Rocks with the reggae-rock band Pepper\, to opening for Mike Campbell of Tom Petty & the Heartbreakers\, and gracing major stages at Coachella\, Burning Man\, Electric Forest\, and Lightning in a Bottle\, Shane Hall hasmade a significant impact on the music scene.\nRyan Perez\nRyan Perez is a singer-songwriter and ukulele artist based in Kailua\, Hawaiʻi\, creating conscious music that blends Reggae\, Soul\, R&B\, and Island Contemporary influences. Known for his uplifting lyrics and feel-good energy\, Ryan’s performances radiate positivity and healing—earning him a growing fanbase across Oʻahu.\n			\n				BUY TICKETS\n			\n			\n				\n				\n				\n				\n			\n				\n				\n				\n				\n				\n				\n				Back to Upcoming
URL:https://alohagrowers.com/event/shane-halls-coupe-dvlle-king-tide-summer-tour-2025-kauai/
LOCATION:Anaina Hou\, 5-2723 Kuhio Hwy\, Kilauea\, HI\, United States
CATEGORIES:AG Presents
ATTACH;FMTTYPE=image/jpeg:https://alohagrowers.com/wp-content/uploads/2025/05/ShaneHallSqr_KAUAI_600.jpg
END:VEVENT
END:VCALENDAR