BEGIN:VCALENDAR
VERSION:2.0
PRODID:-//Aloha Growers - ECPv6.15.20//NONSGML v1.0//EN
CALSCALE:GREGORIAN
METHOD:PUBLISH
X-ORIGINAL-URL:https://alohagrowers.com
X-WR-CALDESC:Events for Aloha Growers
REFRESH-INTERVAL;VALUE=DURATION:PT1H
X-Robots-Tag:noindex
X-PUBLISHED-TTL:PT1H
BEGIN:VTIMEZONE
TZID:Pacific/Honolulu
BEGIN:STANDARD
TZOFFSETFROM:-1000
TZOFFSETTO:-1000
TZNAME:HST
DTSTART:20240101T000000
END:STANDARD
END:VTIMEZONE
BEGIN:VEVENT
DTSTART;TZID=Pacific/Honolulu:20250613T190000
DTEND;TZID=Pacific/Honolulu:20250613T210000
DTSTAMP:20260423T223256
CREATED:20250518T193510Z
LAST-MODIFIED:20250518T193850Z
UID:13326-1749841200-1749848400@alohagrowers.com
SUMMARY:BrownChicken BrownCow Stringband
DESCRIPTION:BrownChicken BrownCow Stringband – Mulligans Music Box – June 13\n\nAG Presents brings you the BrownChicken BrownCow Stringband on JUNE 13th!! Xander\, Orion\, Justin\, and Matt are rolling the train into Mulligans on the the Blue before they head out on tour to play Grassfire And Salmonfest.\nThe show starts at 7:00pm with Doors at 6:00 pm. The dancefloor will be popping!!\n\nBrownChicken BrownCow Stringband is a national touring band whose roots originated in the Appalachian Mountains of southern West Virginia. Band members are Orion Hitzig\, Xander Hitzig\, Justin Morris\, and Matt Del Olmo\, all of whom are multi-instrumental musicians who have spent over a decade together on and off stage. BrownChicken BrownCow StringBand performs original music and the occasional classic of one of their influences. Their songs and melodies are influenced through the band members’ varied musical backgrounds including Bluegrass\, Gypsy\, Folk\, Old-Time\, Celtic\, and even Classical.\n			\n			\n				\n				\n				\n				\n				\n				\n				\n				\n				\n				Mulligans on the Blue\, Wailea\, Maui\n			\n				\n				\n				\n				\n				FridayJune 13\, 2025\nTICKETSGENERAL ADMISSION:  $35DAY-OF:  $40\n  \n			\n				BUY TICKETS\n			\n				\n				\n				\n				\n				Follow Us\n			\n				\n				\n				\n				\n				FollowFollowFollow\n			\n				\n				\n				\n				\n				More Details Below! \n			\n			\n				\n				\n				\n				\n			\n				\n				\n				\n				\n				\n				\n				\n				\n				\n				\n				ABOUT\nAG Presents brings you the BrownChicken BrownCow Stringband on JUNE 13th!! Xander\, Orion\, Justin\, and Matt are rolling the train into Mulligans on the the Blue before they head out on tour to play Grassfire And Salmonfest.\n.Brown Chicken Brown Cow String Band is a national touring band whose roots originated in the Appalachian Mountains of southern West Virginia. Band members are Orion Hitzig\, Xander Hitzig\, Justin Morris\, and Matt Del Olmo\, all of whom are multi-instrumental musicians who have spent over a decade together on and off stage. During that time they have created a rare and deep bond that can be heard and observed in their music. The band members listen and react to subtle nuances in each other’s playing that create spontaneous ripples of creativity\, making their sound unique and recognizable from performance to performance.\n\n\nBrownChicken BrownCow StringBand performs original music and the occasional classic of one of their influences. Their songs and melodies are influenced through the band members’ varied musical backgrounds including Bluegrass\, Gypsy\, Folk\, Old-Time\, Celtic\, and even Classical. One of the strengths of the band is the devotion and level of support from their cult fanbase\, regardless if the band is on the Mainland\, Hawaii\, Puerto Rico\, or Alaska… it is amazing the amount of support their friends\, family\, and fans bring to the band. BrownChicken BrownCow StringBand and their friends\, family\, and fans are a tribe\, and the things they do are ‘BrownChicken. The band is grateful and humble to have a strong relationship with the people and the land of Hawaii.\n\n\n			\n				Info & Tickets\n			\n			\n				\n				\n				\n				\n			\n				\n				\n				\n				\n				\n				\n				Back to Upcoming
URL:https://alohagrowers.com/event/brownchicken-browncow-stringband/
LOCATION:Mulligans On The Blue\, 100 Kaukahi St\, Kihei\, United States
CATEGORIES:AG Presents Mulligans Music Box
ATTACH;FMTTYPE=image/jpeg:https://alohagrowers.com/wp-content/uploads/2025/05/BCBC_Sqr6.13_600.jpg
END:VEVENT
END:VCALENDAR