BEGIN:VCALENDAR
VERSION:2.0
PRODID:-//Aloha Growers - ECPv6.15.20//NONSGML v1.0//EN
CALSCALE:GREGORIAN
METHOD:PUBLISH
X-WR-CALNAME:Aloha Growers
X-ORIGINAL-URL:https://alohagrowers.com
X-WR-CALDESC:Events for Aloha Growers
REFRESH-INTERVAL;VALUE=DURATION:PT1H
X-Robots-Tag:noindex
X-PUBLISHED-TTL:PT1H
BEGIN:VTIMEZONE
TZID:Pacific/Honolulu
BEGIN:STANDARD
TZOFFSETFROM:-1000
TZOFFSETTO:-1000
TZNAME:HST
DTSTART:20240101T000000
END:STANDARD
END:VTIMEZONE
BEGIN:VEVENT
DTSTART;TZID=Pacific/Honolulu:20250517T140000
DTEND;TZID=Pacific/Honolulu:20250517T190000
DTSTAMP:20260424T000653
CREATED:20250401T120515Z
LAST-MODIFIED:20250401T120515Z
UID:13000-1747490400-1747508400@alohagrowers.com
SUMMARY:JMoCo at Maui Brewers Festival
DESCRIPTION:JMoCo at Maui Brewers Festival\nAG Presents is happy to share that Justin Morris & Company will be performing live at the Maui Brewers Festival on May 17\, 2025!\n			\n			\n				\n				\n				\n				\n				\n				\n				\n				\n				\n				Maui Arts & Cultural Center\nSaturdayMay 17\, 2025\n			\n				BUY TICKETS\n			\n				\n				\n				\n				\n				Follow Us\n			\n				\n				\n				\n				\n				FollowFollowFollow\n			\n				\n				\n				\n				\n				More Details Below! \n			\n			\n				\n				\n				\n				\n			\n				\n				\n				\n				\n				\n				\n				\n				\n				\n				\n				ABOUT THE EVENT\nThe MACC’s annual fundraising event—the Maui Brewers Festival—is one of Maui’s top festivals. The event features tasty food from local restaurants and caterers at no additional charge\, beer tastings from local and national craft breweries\, live music\, and lots of fun!\nPC: Sean Michael Hower\n			\n				BUY TICKETS\n			\n			\n				\n				\n				\n				\n			\n				\n				\n				\n				\n				\n				\n				Back to Upcoming
URL:https://alohagrowers.com/event/jmoco-maui-brewersfest-2025/
LOCATION:Maui Arts & Cultural Center\, One Cameron Way\, Kahului\, HI\, 96732\, United States
CATEGORIES:AG Presents
ATTACH;FMTTYPE=image/jpeg:https://alohagrowers.com/wp-content/uploads/2025/03/JMoCO_Tour_BREWERSFEST_SQR600.jpg
END:VEVENT
END:VCALENDAR