BEGIN:VCALENDAR
VERSION:2.0
PRODID:-//Aloha Growers - ECPv6.15.20//NONSGML v1.0//EN
CALSCALE:GREGORIAN
METHOD:PUBLISH
X-ORIGINAL-URL:https://alohagrowers.com
X-WR-CALDESC:Events for Aloha Growers
REFRESH-INTERVAL;VALUE=DURATION:PT1H
X-Robots-Tag:noindex
X-PUBLISHED-TTL:PT1H
BEGIN:VTIMEZONE
TZID:Pacific/Honolulu
BEGIN:STANDARD
TZOFFSETFROM:-1000
TZOFFSETTO:-1000
TZNAME:HST
DTSTART:20240101T000000
END:STANDARD
END:VTIMEZONE
BEGIN:VEVENT
DTSTART;TZID=Pacific/Honolulu:20250515T193000
DTEND;TZID=Pacific/Honolulu:20250515T213000
DTSTAMP:20260424T000828
CREATED:20250408T140136Z
LAST-MODIFIED:20250408T140143Z
UID:13183-1747337400-1747344600@alohagrowers.com
SUMMARY:Pō & the 4Fathers Live on Oahu
DESCRIPTION:Pō & the 4Fathers Live on Oahu!\nAG Presents is excited to announce Pō & the 4Fathers will perform at the Slack Key Lounge on Thursday\, May 15\, 2025 on their Color of the ‘Aina 2025 Tour!\nPō & the 4Fathers is deeply rooted in Hawaiian language\, culture\, Polynesian rhythms\, and indigenous sounds\, as well as the music that has moved generations like reggae\, soul\, blues\, funk\, and hip hop. They express the joy\, hardship\, pain and triumph they’ve learned from shared experiences beginning in the time of Pō flowing into the present\, and forward into the future.\n			\n			\n				\n				\n				\n				\n				\n				\n				\n				\n				\n				Slack Key Lounge\nThursday\, May 15\, 2025\n			\n				BUY TICKETS\n			\n				\n				\n				\n				\n				Follow Us\n			\n				\n				\n				\n				\n				FollowFollowFollow\n			\n				\n				\n				\n				\n				More Details Below! \n			\n			\n				\n				\n				\n				\n			\n				\n				\n				\n				\n				\n				\n				\n				\n				\n				\n				ABOUT THE BAND\nPō & the 4Fathers is an 8-piece band with members Kiliona Young (Vocals\, Guitar)\, Kawai Hoe (Vocals\, Ukulele\, Guitar)\, Kalei Young (Drums\, Vocals)\, Roman Corpuz (Lead Guitar\, Vocals)\, Augie B “Lopaka” Colon Jr. (Master Percussionist)\, Kalei Yamanoha (Trombone\, Steel Guitar\, Accordion)\, Jordan Lopez (Trumpet\, Keyboard\, Vocals) and Adam Zopel (Bass\, Fiddle).\n			\n				BUY TICKETS\n			\n			\n				\n				\n				\n				\n			\n				\n				\n				\n				\n				\n				\n				Back to Upcoming
URL:https://alohagrowers.com/event/po4fathers-oahu-may-2025/
LOCATION:Slack Key Lounge Hawaii\, 1680 Kapiolani Boulevard\, 2nd Floor\, Honolulu\, HI\, 96814\, United States
CATEGORIES:AG Presents
ATTACH;FMTTYPE=image/jpeg:https://alohagrowers.com/wp-content/uploads/2025/04/Po4F-SlackKeySquare5.15_600.jpg
END:VEVENT
END:VCALENDAR