BEGIN:VCALENDAR
VERSION:2.0
PRODID:-//Aloha Growers - ECPv6.15.20//NONSGML v1.0//EN
CALSCALE:GREGORIAN
METHOD:PUBLISH
X-WR-CALNAME:Aloha Growers
X-ORIGINAL-URL:https://alohagrowers.com
X-WR-CALDESC:Events for Aloha Growers
REFRESH-INTERVAL;VALUE=DURATION:PT1H
X-Robots-Tag:noindex
X-PUBLISHED-TTL:PT1H
BEGIN:VTIMEZONE
TZID:Pacific/Honolulu
BEGIN:STANDARD
TZOFFSETFROM:-1000
TZOFFSETTO:-1000
TZNAME:HST
DTSTART:20240101T000000
END:STANDARD
END:VTIMEZONE
BEGIN:VEVENT
DTSTART;TZID=Pacific/Honolulu:20250509T190000
DTEND;TZID=Pacific/Honolulu:20250509T210000
DTSTAMP:20260424T053633
CREATED:20250401T212520Z
LAST-MODIFIED:20250408T140405Z
UID:13071-1746817200-1746824400@alohagrowers.com
SUMMARY:Pō & the 4Fathers Live in Hilo
DESCRIPTION:Pō & the 4Fathers – Hilo Palace Theater Celebrating 100 Years\nAG Presents Pō & the 4Fathers at the Hilo Palace Theater on Friday\, May 9\, 2025!\nPō & the 4Fathers is deeply rooted in Hawaiian language\, culture\, Polynesian rhythms\, and indigenous sounds\, as well as the music that has moved generations like reggae\, soul\, blues\, funk\, and hip hop. They express the joy\, hardship\, pain and triumph they’ve learned from shared experiences beginning in the time of Pō flowing into the present\, and forward into the future.\n			\n			\n				\n				\n				\n				\n				\n				\n				\n				\n				\n				Hilo Palace Theater\nFriday\, May 9\, 2025\n			\n				BUY TICKETS\n			\n				\n				\n				\n				\n				Follow Us\n			\n				\n				\n				\n				\n				FollowFollowFollow\n			\n				\n				\n				\n				\n				More Details Below! \n			\n			\n				\n				\n				\n				\n			\n				\n				\n				\n				\n				\n				\n				\n				\n				\n				\n				ABOUT THE BAND\nPō & the 4Fathers is an 8-piece band with members Kiliona Young (Vocals\, Guitar)\, Kawai Hoe (Vocals\, Ukulele\, Guitar)\, Kalei Young (Drums\, Vocals)\, Roman Corpuz (Lead Guitar\, Vocals)\, Augie B “Lopaka” Colon Jr. (Master Percussionist)\, Kalei Yamanoha (Trombone\, Steel Guitar\, Accordion)\, Jordan Lopez (Trumpet\, Keyboard\, Vocals) and Adam Zopel (Bass\, Fiddle).\nSHOW DETAILS\n$25 EARLYBIRD General Admission (available until 4/1)$30 General Admission$40 Priority Orchestra*All tickets $5 more on Day of Show.All sales final. Tickets are non-refundable or transferable. Priority Reserved is assigned seating within the first 4 rows of the auditorium with seats selected at time of ticket transaction. General Admission tickets are open seating with seats selected when arriving for performance.\n			\n				BUY TICKETS\n			\n			\n				\n				\n				\n				\n			\n				\n				\n				\n				\n				\n				\n				Back to Upcoming
URL:https://alohagrowers.com/event/po-the-4fathers-live-in-hilo/
LOCATION:The Hilo Palace Theater\, 38 Haili St\, Hilo\, HI\, United States
CATEGORIES:AG Presents
ATTACH;FMTTYPE=image/jpeg:https://alohagrowers.com/wp-content/uploads/2025/04/Po4F-HiloPalaceSquare5.9_V3_600.jpg
END:VEVENT
END:VCALENDAR