BEGIN:VCALENDAR
VERSION:2.0
PRODID:-//Aloha Growers - ECPv6.15.20//NONSGML v1.0//EN
CALSCALE:GREGORIAN
METHOD:PUBLISH
X-WR-CALNAME:Aloha Growers
X-ORIGINAL-URL:https://alohagrowers.com
X-WR-CALDESC:Events for Aloha Growers
REFRESH-INTERVAL;VALUE=DURATION:PT1H
X-Robots-Tag:noindex
X-PUBLISHED-TTL:PT1H
BEGIN:VTIMEZONE
TZID:Pacific/Honolulu
BEGIN:STANDARD
TZOFFSETFROM:-1000
TZOFFSETTO:-1000
TZNAME:HST
DTSTART:20240101T000000
END:STANDARD
END:VTIMEZONE
BEGIN:VEVENT
DTSTART;TZID=Pacific/Honolulu:20250507T183000
DTEND;TZID=Pacific/Honolulu:20250507T203000
DTSTAMP:20260423T235948
CREATED:20250411T172630Z
LAST-MODIFIED:20250411T172638Z
UID:13234-1746642600-1746649800@alohagrowers.com
SUMMARY:The World of Ukulele with Andrew & Jay Molina
DESCRIPTION:The World of Ukulele with Andrew & Jay Molina\nAG Presents is excited to bring the Aloha Music Series to Mulligans On The Blue with Maui’s Ukulele Virtuoso Andrew & Jay Molina on Wednesday\, May 7th.\nExperience one of Hawaii‘s great ukulele-fronted duos\, (father + son) Andrew and Jay Molina\, as they share songs\, stories\, and laughter while taking you on a musical journey throughout the “World of Ukulele”. \n			\n			\n				\n				\n				\n				\n				\n				\n				\n				\n				\n				MulligansOn The Blue\n			\n				\n				\n				\n				\n				WednesdayMAY 7\, 2024\n			\n				BUY TICKETS\n			\n				\n				\n				\n				\n				Follow Us\n			\n				\n				\n				\n				\n				FollowFollowFollow\n			\n				\n				\n				\n				\n				More Details Below! \n			\n			\n				\n				\n				\n				\n			\n				\n				\n				\n				\n				\n				\n				\n				\n				\n				\n				ABOUT THE ARTISTS\nABOUT ANDREW MOLINA: Andrews 3 albums have all been nominated for “Ukulele Album of the Year” at the prestigious “Nā Hōkū Hanohano” music awards\, (Hawaii’s version of the Grammy’s) and he has also been featured on the cover of England’s Uke Magazine. His music has also been featured in video promotions for Hawaiian Airlines and Ocean Vodka. His music is also feature on certain Hawaiian Airlines flights. From sweet Hawaiian sounds to Aerosmith’s “Dream On\,” Guns N’ Roses “Sweet Child O’ Mine\,” “Stairway To Heaven” and even the “Game of Thrones” theme\, Andrew along with his dad Jay on bass and guitar prove that anything is possible on the ukulele! He is always looking to take the ukulele to the next level and inspire people of all ages by showing them what is possible on this humble little 4 string instrument.\nABOUT JAY MOLINA: A veteran of the Maui music scene\, vocalist/bass guitarist Jay Molina has performed with local bands such as Asian Blend\, the jazz fusion group Music Magic\, and The Ali’i’s\, as well as with Henry Kapono and Loyal Garner. Jay tours and plays with his son Andrew who is one of Hawaiiʻs top ukulele players. They tour as a Father and Son duo and have played international ukulele Festivals all over the World.\nTicket Info\nTickets: $10-$20Doors: 5:00PM • Show: 6:30PMCome enjoy dinner\, drinks\, sunset and explore the world of ukulele music!Click Buy Tickets below to purchase tables.\n			\n				BUY TICKETS\n			\n			\n				\n				\n				\n				\n			\n				\n				\n				\n				\n				\n				\n				Back to Upcoming
URL:https://alohagrowers.com/event/the-world-of-ukulele-with-andrew-jay-molina/
LOCATION:Mulligans On The Blue\, 100 Kaukahi St\, Kihei\, United States
CATEGORIES:Aloha Music Series
ATTACH;FMTTYPE=image/jpeg:https://alohagrowers.com/wp-content/uploads/2025/04/AMS-Andrew-Jay-May-2025-sqr.jpg
END:VEVENT
END:VCALENDAR