BEGIN:VCALENDAR
VERSION:2.0
PRODID:-//Aloha Growers - ECPv6.15.20//NONSGML v1.0//EN
CALSCALE:GREGORIAN
METHOD:PUBLISH
X-ORIGINAL-URL:https://alohagrowers.com
X-WR-CALDESC:Events for Aloha Growers
REFRESH-INTERVAL;VALUE=DURATION:PT1H
X-Robots-Tag:noindex
X-PUBLISHED-TTL:PT1H
BEGIN:VTIMEZONE
TZID:Pacific/Honolulu
BEGIN:STANDARD
TZOFFSETFROM:-1000
TZOFFSETTO:-1000
TZNAME:HST
DTSTART:20240101T000000
END:STANDARD
END:VTIMEZONE
BEGIN:VEVENT
DTSTART;VALUE=DATE:20250404
DTEND;VALUE=DATE:20250407
DTSTAMP:20260424T025818
CREATED:20250331T002738Z
LAST-MODIFIED:20250331T180115Z
UID:12978-1743724800-1743983999@alohagrowers.com
SUMMARY:BrownChicken BrownCow - High Country Kauai - Leftover Salmon
DESCRIPTION:Brown Chicken Brown Cow at High Country Kauai featuring Leftover Salmon – April 5 & 6\n\n\nHigh Country Kaua’i: Three Nights of Leftover Salmon on the Garden Isle of Kauai\nApril 4\, 5\, 6\, 2025\nCelebrate 35 years of Leftover Salmon at the third annual High Country Kauai! This unforgettable three-day music event brings the iconic band to the breathtaking Garden Isle of Kaua’i for a truly unforgettable experience.\nJoin us April 2025 at Kauai’s premier live music venue\, The Porter Pavilion located at Anaina Hou Community Park for three nights of performances by Leftover Salmon and a lineup of exceptional special guests. Featured artists include Grammy-nominated mandolinist Sierra Hull\, powerhouse vocalist Lindsay Lou\, Hawaiian blues sensation Tavana\, the high-energy BrownChicken BrownCow StringBand\, The Pinehearts\, and more!\n\n\n			\n			\n				\n				\n				\n				\n				\n				\n				\n				\n				\n				Anaina Hou\, Porter Pavilion\,Kauai\nApril. 4 – 6\, 2025\n			\n				BUY TICKETS\n			\n				\n				\n				\n				\n				Follow Us\n			\n				\n				\n				\n				\n				FollowFollowFollow\n			\n				\n				\n				\n				\n				More Details Below! \n			\n			\n				\n				\n				\n				\n			\n				\n				\n				\n				\n				\n				\n				\n				\n				\n				\n				ABOUT THE EVENT\nHigh Country Kaua’i: Three Nights of Leftover Salmon on the Garden Isle of Kauai\nApril 4\, 5\, 6\, 2025\nCelebrate 35 years of Leftover Salmon at the third annual High Country Kauai! This unforgettable three-day music event brings the iconic band to the breathtaking Garden Isle of Kaua’i for a truly unforgettable experience.\nJoin us April 2025 at Kauai’s premier live music venue\, The Porter Pavilion located at Anaina Hou Community Park for three nights of performances by Leftover Salmon and a lineup of exceptional special guests. Featured artists include Grammy-nominated mandolinist Sierra Hull\, powerhouse vocalist Lindsay Lou\, Hawaiian blues sensation Tavana\, the high-energy BrownChicken BrownCow StringBand\, The Pinehearts\, and more!\n			\n				BUY TICKETS\n			\n			\n				\n				\n				\n				\n			\n				\n				\n				\n				\n				\n				\n				Back to Upcoming
URL:https://alohagrowers.com/event/brownchicken-browncow-high-country-kauai-leftover-salmon/
LOCATION:Anaina Hou\, 5-2723 Kuhio Hwy\, Kilauea\, HI\, United States
CATEGORIES:AG Presents
ATTACH;FMTTYPE=image/png:https://alohagrowers.com/wp-content/uploads/2025/03/Leftover-Salmon-2025-IG-Square-2.png
END:VEVENT
END:VCALENDAR