BEGIN:VCALENDAR
VERSION:2.0
PRODID:-//Aloha Growers - ECPv6.15.20//NONSGML v1.0//EN
CALSCALE:GREGORIAN
METHOD:PUBLISH
X-WR-CALNAME:Aloha Growers
X-ORIGINAL-URL:https://alohagrowers.com
X-WR-CALDESC:Events for Aloha Growers
REFRESH-INTERVAL;VALUE=DURATION:PT1H
X-Robots-Tag:noindex
X-PUBLISHED-TTL:PT1H
BEGIN:VTIMEZONE
TZID:Pacific/Honolulu
BEGIN:STANDARD
TZOFFSETFROM:-1000
TZOFFSETTO:-1000
TZNAME:HST
DTSTART:20240101T000000
END:STANDARD
END:VTIMEZONE
BEGIN:VEVENT
DTSTART;TZID=Pacific/Honolulu:20250118T190000
DTEND;TZID=Pacific/Honolulu:20250118T210000
DTSTAMP:20260424T134807
CREATED:20241224T143315Z
LAST-MODIFIED:20251110T151200Z
UID:12751-1737226800-1737234000@alohagrowers.com
SUMMARY:The King Tide Tour - Kona
DESCRIPTION:Shane Hall’s Coupe DeVille & The Young Brothers – The King Tide Tour 2025\nAG Presents is excited to bring The KING TIDE Tour to Kailua Kona! Featuring Oceanside’s Shane Hall and his powerful duo performance in Coupe DeVille. Opening the show is a special appearance by Hawai’i Island’s Young Brothers. Experience the sonic surge of Shane Hall’s Coupe DeVille on Hawai’i Island at this complimentary show at Willie’s Hot Chicken on Saturday\, January 18th.\n			\n			\n				\n				\n				\n				\n				\n				\n				\n				\n				\n				Willie’s HotChicken\nSaturdayJan. 18\, 2025\nThis is a FREE event!\n			\n				\n				\n				\n				\n				Follow Us\n			\n				\n				\n				\n				\n				FollowFollowFollow\n			\n				\n				\n				\n				\n				More Details Below! \n			\n			\n				\n				\n				\n				\n			\n				\n				\n				\n				\n				\n				\n				\n				\n				\n				\n				ABOUT SHANE HALL\nShane Hall is an award-winning singer-songwriter based in Oceanside\, California whose electrifying presence is redefining the Indie music scene. With his signature “Fuzz Funk Voodoo Blues\,” Hall masterfully blends elements of Blues\, Soul\, Funk\, Americana\, Rock\, and Alternative into a captivating and one-of-a-kind sound that resonates with authenticity.\nA Pennsylvania native and a proud U.S. Marine veteran with two tours of duty\, Shane Hall’s musical journey began in 2001 with the creation of his first song. This initial spark ignited a lifelong exploration of soulful roots and a fusion of acoustic and electric sounds. His music stands as a testament to his deep emotional expression and constant artistic evolution.\nShane Hall’s discography is a collection of several acclaimed albums and EPs that highlight his exceptional storytelling and emotional depth. His solo debut album\, Human Condition\, released in 2017\, was a pivotal moment in his career. After signing with LAW Records in 2018\, Shane Hall released a three-part record—West River Queen—which won Best Blues Album at the 2020 San Diego Music Awards. This groundbreaking project showcased Shane Hall’s genre-spanning versatility.\nShane Hall’s larger-than-life voice has led him to standout performances at iconic venues and festivals. From electrifying shows at Colorado’s legendary Red Rocks with the reggae-rock band Pepper\, to opening for Mike Campbell of Tom Petty & the Heartbreakers\, and gracing major stages at Coachella\, Burning Man\, Electric Forest\, and Lightning in a Bottle\, Shane Hall has made a significant impact on the music scene.\nIn 2021\, his track “Under My Voodoo” won the San Diego Music Award for Best Americana\, Jazz\, or Blues Song. His latest album\, Howl & Sway (LAW Records)\, released in 2023 through Pacific Records and produced by two-time Grammy-nominated Joe Marlett\, has achieved notable success.\nIn 2024\, Howl & Sway reached #1 on the Apple iTunes Blues chart\, won Best Blues Album at the San Diego Music Awards\, and received recognition from the Grammy® Academy. This album represents the culmination of Shane Hall’s dedication and artistic evolution over the past two decades.\n“Music isn’t just something I do; it’s who I am. I refuse to be confined to a single sound. Even if I create the box\, I won’t stay in it.” — Shane Hall\nABOUT THE YOUNG BROTHERS\nThe Young Brothers are Kiliona and Kalei Young from Hilo. Joining them is master percussionist Lopaka Colon Jr. All members are in the acclaimed supergroup Pō & the 4Fathers. Their sound spans across many genres\, featuring soulful\, love and life stories\, music with inspirations of traditional and modern Hawaiian sentiment. Young Brothers will be playing as support on January 18th with Shane Hall and Coupe DVille at Hot Willys Chicken on Kona.\n  \n			\n			\n				\n				\n				\n				\n			\n				\n				\n				\n				\n				\n				\n				Back to Upcoming
URL:https://alohagrowers.com/event/the-king-tide-tour-kona/
LOCATION:Willie’s Hot Chicken\, 74-5599 Pawai Place\, Kailua Kona\, HI\, 96740\, United States
CATEGORIES:AG Presents
ATTACH;FMTTYPE=image/jpeg:https://alohagrowers.com/wp-content/uploads/2024/12/KingTideTourGraphic_KONA_SQR-600.jpg
END:VEVENT
END:VCALENDAR